BEGIN:VCALENDAR
VERSION:2.0
PRODID:-//ASW Schedule Exporter//EN
NAME:ASW Schedule DBWINFO-C03
X-WR-CALNAME:ASW Schedule DBWINFO-C03
TZID:Europe/Berlin
BEGIN:VEVENT
UID:DBWINFO-C03-1774251000-0
SUMMARY:Posterpräs. (Posterpräsenation)
DESCRIPTION:Course: DBWINFO-C03_8_8.Block\nType:
  Posterpräsenation\nModule/Group: Posterpräs.
DTSTART:20260323T073000Z
DTEND:20260323T170000Z
END:VEVENT
BEGIN:VEVENT
UID:DBWINFO-C03-1774337400-1
SUMMARY:Posterpräs. (Posterpräsenation)
DESCRIPTION:Course: DBWINFO-C03_8_8.Block\nType:
  Posterpräsenation\nModule/Group: Posterpräs.
DTSTART:20260324T073000Z
DTEND:20260324T170000Z
END:VEVENT
BEGIN:VEVENT
UID:DBWINFO-C03-1774423800-2
SUMMARY:Posterpräs. (Posterpräsenation)
DESCRIPTION:Course: DBWINFO-C03_8_8.Block\nType:
  Posterpräsenation\nModule/Group: Posterpräs.
DTSTART:20260325T073000Z
DTEND:20260325T170000Z
END:VEVENT
BEGIN:VEVENT
UID:DBWINFO-C03-1774510200-3
SUMMARY:Posterpräs. (Posterpräsenation)
DESCRIPTION:Course: DBWINFO-C03_8_8.Block\nType:
  Posterpräsenation\nModule/Group: Posterpräs.
DTSTART:20260326T073000Z
DTEND:20260326T170000Z
END:VEVENT
BEGIN:VEVENT
UID:DBWINFO-C03-1774596600-4
SUMMARY:Posterpräs. (Posterpräsenation)
DESCRIPTION:Course: DBWINFO-C03_8_8.Block\nType:
  Posterpräsenation\nModule/Group: Posterpräs.
DTSTART:20260327T073000Z
DTEND:20260327T170000Z
END:VEVENT
BEGIN:VEVENT
UID:DBWINFO-C03-1776668400-5
SUMMARY:LOG (Vorlesung)
LOCATION:NK: 2.14
DESCRIPTION:Course: DBWINFO-C03_9_9.Block\nType: Vorlesung\nModule/Group:
  LOG\nLocation: NK: 2.14
DTSTART:20260420T070000Z
DTEND:20260420T083000Z
END:VEVENT
BEGIN:VEVENT
UID:DBWINFO-C03-1776754800-6
SUMMARY:LOG (Vorlesung)
LOCATION:NK: 2.14
DESCRIPTION:Course: DBWINFO-C03_9_9.Block\nType: Vorlesung\nModule/Group:
  LOG\nLocation: NK: 2.14
DTSTART:20260421T070000Z
DTEND:20260421T083000Z
END:VEVENT
BEGIN:VEVENT
UID:DBWINFO-C03-1776841200-7
SUMMARY:LOG (Vorlesung)
LOCATION:NK: 2.14
DESCRIPTION:Course: DBWINFO-C03_9_9.Block\nType: Vorlesung\nModule/Group:
  LOG\nLocation: NK: 2.14
DTSTART:20260422T070000Z
DTEND:20260422T083000Z
END:VEVENT
BEGIN:VEVENT
UID:DBWINFO-C03-1776927600-8
SUMMARY:ITRE (Vorlesung)
LOCATION:NK: 1.07
DESCRIPTION:Course: DBWINFO-C03_9_9.Block\nType: Vorlesung\nModule/Group:
  ITRE\nLocation: NK: 1.07
DTSTART:20260423T070000Z
DTEND:20260423T083000Z
END:VEVENT
BEGIN:VEVENT
UID:DBWINFO-C03-1776674700-9
SUMMARY:LOG (Vorlesung)
LOCATION:NK: 2.14
DESCRIPTION:Course: DBWINFO-C03_9_9.Block\nType: Vorlesung\nModule/Group:
  LOG\nLocation: NK: 2.14
DTSTART:20260420T084500Z
DTEND:20260420T101500Z
END:VEVENT
BEGIN:VEVENT
UID:DBWINFO-C03-1776761100-10
SUMMARY:LOG (Vorlesung)
LOCATION:NK: 2.14
DESCRIPTION:Course: DBWINFO-C03_9_9.Block\nType: Vorlesung\nModule/Group:
  LOG\nLocation: NK: 2.14
DTSTART:20260421T084500Z
DTEND:20260421T101500Z
END:VEVENT
BEGIN:VEVENT
UID:DBWINFO-C03-1776847500-11
SUMMARY:LOG (Vorlesung)
LOCATION:NK: 2.14
DESCRIPTION:Course: DBWINFO-C03_9_9.Block\nType: Vorlesung\nModule/Group:
  LOG\nLocation: NK: 2.14
DTSTART:20260422T084500Z
DTEND:20260422T101500Z
END:VEVENT
BEGIN:VEVENT
UID:DBWINFO-C03-1776933900-12
SUMMARY:ITRE (Vorlesung)
LOCATION:NK: 1.07
DESCRIPTION:Course: DBWINFO-C03_9_9.Block\nType: Vorlesung\nModule/Group:
  ITRE\nLocation: NK: 1.07
DTSTART:20260423T084500Z
DTEND:20260423T101500Z
END:VEVENT
BEGIN:VEVENT
UID:DBWINFO-C03-1776682800-13
SUMMARY:ENG II C1 (Vorlesung)
LOCATION:NK: 1.12
DESCRIPTION:Course: DBWINFO-C03_9_9.Block\nType: Vorlesung\nModule/Group:
  ENG II C1\nLocation: NK: 1.12
DTSTART:20260420T110000Z
DTEND:20260420T123000Z
END:VEVENT
BEGIN:VEVENT
UID:DBWINFO-C03-1776769200-14
SUMMARY:LOG (Vorlesung)
LOCATION:NK: 2.14
DESCRIPTION:Course: DBWINFO-C03_9_9.Block\nType: Vorlesung\nModule/Group:
  LOG\nLocation: NK: 2.14
DTSTART:20260421T110000Z
DTEND:20260421T123000Z
END:VEVENT
BEGIN:VEVENT
UID:DBWINFO-C03-1776855600-15
SUMMARY:LOG (Vorlesung)
LOCATION:NK: 2.14
DESCRIPTION:Course: DBWINFO-C03_9_9.Block\nType: Vorlesung\nModule/Group:
  LOG\nLocation: NK: 2.14
DTSTART:20260422T110000Z
DTEND:20260422T123000Z
END:VEVENT
BEGIN:VEVENT
UID:DBWINFO-C03-1776942000-16
SUMMARY:ITRE (Vorlesung)
LOCATION:NK: 1.07
DESCRIPTION:Course: DBWINFO-C03_9_9.Block\nType: Vorlesung\nModule/Group:
  ITRE\nLocation: NK: 1.07
DTSTART:20260423T110000Z
DTEND:20260423T123000Z
END:VEVENT
BEGIN:VEVENT
UID:DBWINFO-C03-1776689100-17
SUMMARY:ENG II C1 (Vorlesung)
LOCATION:NK: 1.12
DESCRIPTION:Course: DBWINFO-C03_9_9.Block\nType: Vorlesung\nModule/Group:
  ENG II C1\nLocation: NK: 1.12
DTSTART:20260420T124500Z
DTEND:20260420T141500Z
END:VEVENT
BEGIN:VEVENT
UID:DBWINFO-C03-1776775500-18
SUMMARY:LOG (Vorlesung)
LOCATION:NK: 2.14
DESCRIPTION:Course: DBWINFO-C03_9_9.Block\nType: Vorlesung\nModule/Group:
  LOG\nLocation: NK: 2.14
DTSTART:20260421T124500Z
DTEND:20260421T141500Z
END:VEVENT
BEGIN:VEVENT
UID:DBWINFO-C03-1776861900-19
SUMMARY:LOG (Vorlesung)
LOCATION:NK: 2.14
DESCRIPTION:Course: DBWINFO-C03_9_9.Block\nType: Vorlesung\nModule/Group:
  LOG\nLocation: NK: 2.14
DTSTART:20260422T124500Z
DTEND:20260422T141500Z
END:VEVENT
BEGIN:VEVENT
UID:DBWINFO-C03-1776948300-20
SUMMARY:ITRE (Vorlesung)
LOCATION:NK: 1.07
DESCRIPTION:Course: DBWINFO-C03_9_9.Block\nType: Vorlesung\nModule/Group:
  ITRE\nLocation: NK: 1.07
DTSTART:20260423T124500Z
DTEND:20260423T141500Z
END:VEVENT
BEGIN:VEVENT
UID:DBWINFO-C03-1777273200-21
SUMMARY:ABB (Vorlesung)
LOCATION:NK: 1.07
DESCRIPTION:Course: DBWINFO-C03_9_9.Block\nType: Vorlesung\nModule/Group:
  ABB\nLocation: NK: 1.07
DTSTART:20260427T070000Z
DTEND:20260427T083000Z
END:VEVENT
BEGIN:VEVENT
UID:DBWINFO-C03-1777359600-22
SUMMARY:ABB (Vorlesung)
LOCATION:NK: 1.07
DESCRIPTION:Course: DBWINFO-C03_9_9.Block\nType: Vorlesung\nModule/Group:
  ABB\nLocation: NK: 1.07
DTSTART:20260428T070000Z
DTEND:20260428T083000Z
END:VEVENT
BEGIN:VEVENT
UID:DBWINFO-C03-1777446000-23
SUMMARY:IK (Vorlesung)
LOCATION:NK: 1.07
DESCRIPTION:Course: DBWINFO-C03_9_9.Block\nType: Vorlesung\nModule/Group:
  IK\nLocation: NK: 1.07
DTSTART:20260429T070000Z
DTEND:20260429T083000Z
END:VEVENT
BEGIN:VEVENT
UID:DBWINFO-C03-1777532400-24
SUMMARY:ABB (Vorlesung)
LOCATION:NK: 1.07
DESCRIPTION:Course: DBWINFO-C03_9_9.Block\nType: Vorlesung\nModule/Group:
  ABB\nLocation: NK: 1.07
DTSTART:20260430T070000Z
DTEND:20260430T083000Z
END:VEVENT
BEGIN:VEVENT
UID:DBWINFO-C03-1777279500-25
SUMMARY:ABB (Vorlesung)
LOCATION:NK: 1.07
DESCRIPTION:Course: DBWINFO-C03_9_9.Block\nType: Vorlesung\nModule/Group:
  ABB\nLocation: NK: 1.07
DTSTART:20260427T084500Z
DTEND:20260427T101500Z
END:VEVENT
BEGIN:VEVENT
UID:DBWINFO-C03-1777365900-26
SUMMARY:ABB (Vorlesung)
LOCATION:NK: 1.07
DESCRIPTION:Course: DBWINFO-C03_9_9.Block\nType: Vorlesung\nModule/Group:
  ABB\nLocation: NK: 1.07
DTSTART:20260428T084500Z
DTEND:20260428T101500Z
END:VEVENT
BEGIN:VEVENT
UID:DBWINFO-C03-1777452300-27
SUMMARY:IK (Vorlesung)
LOCATION:NK: 1.07
DESCRIPTION:Course: DBWINFO-C03_9_9.Block\nType: Vorlesung\nModule/Group:
  IK\nLocation: NK: 1.07
DTSTART:20260429T084500Z
DTEND:20260429T101500Z
END:VEVENT
BEGIN:VEVENT
UID:DBWINFO-C03-1777538700-28
SUMMARY:ABB (Vorlesung)
LOCATION:NK: 1.07
DESCRIPTION:Course: DBWINFO-C03_9_9.Block\nType: Vorlesung\nModule/Group:
  ABB\nLocation: NK: 1.07
DTSTART:20260430T084500Z
DTEND:20260430T101500Z
END:VEVENT
BEGIN:VEVENT
UID:DBWINFO-C03-1777287600-29
SUMMARY:ENG II B2 (Vorlesung)
LOCATION:NK: 1.10
DESCRIPTION:Course: DBWINFO-C03_9_9.Block\nType: Vorlesung\nModule/Group:
  ENG II B2\nLocation: NK: 1.10
DTSTART:20260427T110000Z
DTEND:20260427T123000Z
END:VEVENT
BEGIN:VEVENT
UID:DBWINFO-C03-1777287600-30
SUMMARY:ENG II C1 (Vorlesung)
LOCATION:NK: 1.12
DESCRIPTION:Course: DBWINFO-C03_9_9.Block\nType: Vorlesung\nModule/Group:
  ENG II C1\nLocation: NK: 1.12
DTSTART:20260427T110000Z
DTEND:20260427T123000Z
END:VEVENT
BEGIN:VEVENT
UID:DBWINFO-C03-1777374000-31
SUMMARY:ENG II B2 (Vorlesung)
LOCATION:NK: 1.06
DESCRIPTION:Course: DBWINFO-C03_9_9.Block\nType: Vorlesung\nModule/Group:
  ENG II B2\nLocation: NK: 1.06
DTSTART:20260428T110000Z
DTEND:20260428T123000Z
END:VEVENT
BEGIN:VEVENT
UID:DBWINFO-C03-1777460400-32
SUMMARY:IK (Vorlesung)
LOCATION:NK: 1.07
DESCRIPTION:Course: DBWINFO-C03_9_9.Block\nType: Vorlesung\nModule/Group:
  IK\nLocation: NK: 1.07
DTSTART:20260429T110000Z
DTEND:20260429T123000Z
END:VEVENT
BEGIN:VEVENT
UID:DBWINFO-C03-1777546800-33
SUMMARY:IK (Vorlesung)
LOCATION:NK: 1.07
DESCRIPTION:Course: DBWINFO-C03_9_9.Block\nType: Vorlesung\nModule/Group:
  IK\nLocation: NK: 1.07
DTSTART:20260430T110000Z
DTEND:20260430T123000Z
END:VEVENT
BEGIN:VEVENT
UID:DBWINFO-C03-1777293900-34
SUMMARY:ENG II B2 (Vorlesung)
LOCATION:NK: 1.10
DESCRIPTION:Course: DBWINFO-C03_9_9.Block\nType: Vorlesung\nModule/Group:
  ENG II B2\nLocation: NK: 1.10
DTSTART:20260427T124500Z
DTEND:20260427T141500Z
END:VEVENT
BEGIN:VEVENT
UID:DBWINFO-C03-1777293900-35
SUMMARY:ENG II C1 (Vorlesung)
LOCATION:NK: 1.12
DESCRIPTION:Course: DBWINFO-C03_9_9.Block\nType: Vorlesung\nModule/Group:
  ENG II C1\nLocation: NK: 1.12
DTSTART:20260427T124500Z
DTEND:20260427T141500Z
END:VEVENT
BEGIN:VEVENT
UID:DBWINFO-C03-1777380300-36
SUMMARY:ENG II B2 (Vorlesung)
LOCATION:NK: 1.06
DESCRIPTION:Course: DBWINFO-C03_9_9.Block\nType: Vorlesung\nModule/Group:
  ENG II B2\nLocation: NK: 1.06
DTSTART:20260428T124500Z
DTEND:20260428T141500Z
END:VEVENT
BEGIN:VEVENT
UID:DBWINFO-C03-1777466700-37
SUMMARY:IK (Vorlesung)
LOCATION:NK: 1.07
DESCRIPTION:Course: DBWINFO-C03_9_9.Block\nType: Vorlesung\nModule/Group:
  IK\nLocation: NK: 1.07
DTSTART:20260429T124500Z
DTEND:20260429T141500Z
END:VEVENT
BEGIN:VEVENT
UID:DBWINFO-C03-1777553100-38
SUMMARY:IK (Vorlesung)
LOCATION:NK: 1.07
DESCRIPTION:Course: DBWINFO-C03_9_9.Block\nType: Vorlesung\nModule/Group:
  IK\nLocation: NK: 1.07
DTSTART:20260430T124500Z
DTEND:20260430T141500Z
END:VEVENT
BEGIN:VEVENT
UID:DBWINFO-C03-1778144400-39
SUMMARY:ITRE (Klausur)
LOCATION:NK: 1.01
DESCRIPTION:Course: DBWINFO-C03_9_9.Block\nType: Klausur\nModule/Group:
  ITRE\nLocation: NK: 1.01
DTSTART:20260507T090000Z
DTEND:20260507T100000Z
END:VEVENT
BEGIN:VEVENT
UID:DBWINFO-C03-1777892400-40
SUMMARY:ENG II B2 (Vorlesung)
LOCATION:NK: 1.10
DESCRIPTION:Course: DBWINFO-C03_9_9.Block\nType: Vorlesung\nModule/Group:
  ENG II B2\nLocation: NK: 1.10
DTSTART:20260504T110000Z
DTEND:20260504T123000Z
END:VEVENT
BEGIN:VEVENT
UID:DBWINFO-C03-1777892400-41
SUMMARY:ENG II C1 (Vorlesung)
LOCATION:NK: 1.12
DESCRIPTION:Course: DBWINFO-C03_9_9.Block\nType: Vorlesung\nModule/Group:
  ENG II C1\nLocation: NK: 1.12
DTSTART:20260504T110000Z
DTEND:20260504T123000Z
END:VEVENT
BEGIN:VEVENT
UID:DBWINFO-C03-1777898700-42
SUMMARY:ENG II B2 (Vorlesung)
LOCATION:NK: 1.10
DESCRIPTION:Course: DBWINFO-C03_9_9.Block\nType: Vorlesung\nModule/Group:
  ENG II B2\nLocation: NK: 1.10
DTSTART:20260504T124500Z
DTEND:20260504T141500Z
END:VEVENT
BEGIN:VEVENT
UID:DBWINFO-C03-1777898700-43
SUMMARY:ENG II C1 (Vorlesung)
LOCATION:NK: 1.12
DESCRIPTION:Course: DBWINFO-C03_9_9.Block\nType: Vorlesung\nModule/Group:
  ENG II C1\nLocation: NK: 1.12
DTSTART:20260504T124500Z
DTEND:20260504T141500Z
END:VEVENT
BEGIN:VEVENT
UID:DBWINFO-C03-1778244300-44
SUMMARY:IK (Vorlesung)
LOCATION:EXT: Online
DESCRIPTION:Course: DBWINFO-C03_9_9.Block\nType: Vorlesung\nModule/Group:
  IK\nLocation: EXT: Online
DTSTART:20260508T124500Z
DTEND:20260508T141500Z
END:VEVENT
BEGIN:VEVENT
UID:DBWINFO-C03-1778250600-45
SUMMARY:IK (Vorlesung)
LOCATION:EXT: Online
DESCRIPTION:Course: DBWINFO-C03_9_9.Block\nType: Vorlesung\nModule/Group:
  IK\nLocation: EXT: Online
DTSTART:20260508T143000Z
DTEND:20260508T160000Z
END:VEVENT
BEGIN:VEVENT
UID:DBWINFO-C03-1778655600-46
SUMMARY:IK (Vorlesung)
LOCATION:NK: 1.07
DESCRIPTION:Course: DBWINFO-C03_9_9.Block\nType: Vorlesung\nModule/Group:
  IK\nLocation: NK: 1.07
DTSTART:20260513T070000Z
DTEND:20260513T083000Z
END:VEVENT
BEGIN:VEVENT
UID:DBWINFO-C03-1778661900-47
SUMMARY:IK (Vorlesung)
LOCATION:NK: 1.07
DESCRIPTION:Course: DBWINFO-C03_9_9.Block\nType: Vorlesung\nModule/Group:
  IK\nLocation: NK: 1.07
DTSTART:20260513T084500Z
DTEND:20260513T101500Z
END:VEVENT
BEGIN:VEVENT
UID:DBWINFO-C03-1778583600-48
SUMMARY:MP LOG & QM (Klausur)
LOCATION:NK: 1.01
DESCRIPTION:Course: DBWINFO-C03_9_9.Block\nType: Klausur\nModule/Group: MP
  LOG & QM\nLocation: NK: 1.01
DTSTART:20260512T110000Z
DTEND:20260512T130000Z
END:VEVENT
BEGIN:VEVENT
UID:DBWINFO-C03-1778842800-49
SUMMARY:MP Schlüssel III (Klausur)
LOCATION:NK: 1.01\, NK: 1.02
DESCRIPTION:Course: DBWINFO-C03_9_9.Block\nType: Klausur\nModule/Group: MP
  Schlüssel III\nLocation: NK: 1.01\, NK: 1.02
DTSTART:20260515T110000Z
DTEND:20260515T130000Z
END:VEVENT
BEGIN:VEVENT
UID:DBWINFO-C03-1779519600-50
SUMMARY:ABB (Klausur)
LOCATION:NK: 1.02
DESCRIPTION:Course: DBWINFO-C03_9_9.Block\nType: Klausur\nModule/Group:
  ABB\nLocation: NK: 1.02
DTSTART:20260523T070000Z
DTEND:20260523T083000Z
END:VEVENT
BEGIN:VEVENT
UID:DBWINFO-C03-1786371300-51
SUMMARY:Zent. NK/WK FB WI (Zentraler Nachschreibetermin FB WI)
DESCRIPTION:Course: DBWINFO-C03_9_9.Block\nType: Zentraler
  Nachschreibetermin FB WI\nModule/Group: Zent. NK/WK FB WI
DTSTART:20260810T141500Z
DTEND:20260810T174500Z
END:VEVENT
BEGIN:VEVENT
UID:DBWINFO-C03-1786457700-52
SUMMARY:Zent. NK/WK FB WI (Zentraler Nachschreibetermin FB WI)
DESCRIPTION:Course: DBWINFO-C03_9_9.Block\nType: Zentraler
  Nachschreibetermin FB WI\nModule/Group: Zent. NK/WK FB WI
DTSTART:20260811T141500Z
DTEND:20260811T174500Z
END:VEVENT
BEGIN:VEVENT
UID:DBWINFO-C03-1786544100-53
SUMMARY:Zent. NK/WK FB WI (Zentraler Nachschreibetermin FB WI)
DESCRIPTION:Course: DBWINFO-C03_9_9.Block\nType: Zentraler
  Nachschreibetermin FB WI\nModule/Group: Zent. NK/WK FB WI
DTSTART:20260812T141500Z
DTEND:20260812T174500Z
END:VEVENT
BEGIN:VEVENT
UID:DBWINFO-C03-1786630500-54
SUMMARY:Zent. NK/WK FB WI (Zentraler Nachschreibetermin FB WI)
DESCRIPTION:Course: DBWINFO-C03_9_9.Block\nType: Zentraler
  Nachschreibetermin FB WI\nModule/Group: Zent. NK/WK FB WI
DTSTART:20260813T141500Z
DTEND:20260813T174500Z
END:VEVENT
BEGIN:VEVENT
UID:DBWINFO-C03-1786716900-55
SUMMARY:Zent. NK/WK FB WI (Zentraler Nachschreibetermin FB WI)
DESCRIPTION:Course: DBWINFO-C03_9_9.Block\nType: Zentraler
  Nachschreibetermin FB WI\nModule/Group: Zent. NK/WK FB WI
DTSTART:20260814T141500Z
DTEND:20260814T174500Z
END:VEVENT
BEGIN:VEVENT
UID:DBWINFO-C03-1786976100-56
SUMMARY:Zent. NK/WK FB WI (Zentraler Nachschreibetermin FB WI)
DESCRIPTION:Course: DBWINFO-C03_9_9.Block\nType: Zentraler
  Nachschreibetermin FB WI\nModule/Group: Zent. NK/WK FB WI
DTSTART:20260817T141500Z
DTEND:20260817T174500Z
END:VEVENT
BEGIN:VEVENT
UID:DBWINFO-C03-1787062500-57
SUMMARY:Zent. NK/WK FB WI (Zentraler Nachschreibetermin FB WI)
DESCRIPTION:Course: DBWINFO-C03_9_9.Block\nType: Zentraler
  Nachschreibetermin FB WI\nModule/Group: Zent. NK/WK FB WI
DTSTART:20260818T141500Z
DTEND:20260818T174500Z
END:VEVENT
BEGIN:VEVENT
UID:DBWINFO-C03-1787148900-58
SUMMARY:Zent. NK/WK FB WI (Zentraler Nachschreibetermin FB WI)
DESCRIPTION:Course: DBWINFO-C03_9_9.Block\nType: Zentraler
  Nachschreibetermin FB WI\nModule/Group: Zent. NK/WK FB WI
DTSTART:20260819T141500Z
DTEND:20260819T174500Z
END:VEVENT
BEGIN:VEVENT
UID:DBWINFO-C03-1787235300-59
SUMMARY:Zent. NK/WK FB WI (Zentraler Nachschreibetermin FB WI)
DESCRIPTION:Course: DBWINFO-C03_9_9.Block\nType: Zentraler
  Nachschreibetermin FB WI\nModule/Group: Zent. NK/WK FB WI
DTSTART:20260820T141500Z
DTEND:20260820T174500Z
END:VEVENT
BEGIN:VEVENT
UID:DBWINFO-C03-1787321700-60
SUMMARY:Zent. NK/WK FB WI (Zentraler Nachschreibetermin FB WI)
DESCRIPTION:Course: DBWINFO-C03_9_9.Block\nType: Zentraler
  Nachschreibetermin FB WI\nModule/Group: Zent. NK/WK FB WI
DTSTART:20260821T141500Z
DTEND:20260821T174500Z
END:VEVENT
BEGIN:VEVENT
UID:DBWINFO-C03-1787580900-61
SUMMARY:Zent. NK/WK FB WI (Zentraler Nachschreibetermin FB WI)
DESCRIPTION:Course: DBWINFO-C03_9_9.Block\nType: Zentraler
  Nachschreibetermin FB WI\nModule/Group: Zent. NK/WK FB WI
DTSTART:20260824T141500Z
DTEND:20260824T174500Z
END:VEVENT
BEGIN:VEVENT
UID:DBWINFO-C03-1787667300-62
SUMMARY:Zent. NK/WK FB WI (Zentraler Nachschreibetermin FB WI)
DESCRIPTION:Course: DBWINFO-C03_9_9.Block\nType: Zentraler
  Nachschreibetermin FB WI\nModule/Group: Zent. NK/WK FB WI
DTSTART:20260825T141500Z
DTEND:20260825T174500Z
END:VEVENT
BEGIN:VEVENT
UID:DBWINFO-C03-1787753700-63
SUMMARY:Zent. NK/WK FB WI (Zentraler Nachschreibetermin FB WI)
DESCRIPTION:Course: DBWINFO-C03_9_9.Block\nType: Zentraler
  Nachschreibetermin FB WI\nModule/Group: Zent. NK/WK FB WI
DTSTART:20260826T141500Z
DTEND:20260826T174500Z
END:VEVENT
BEGIN:VEVENT
UID:DBWINFO-C03-1787840100-64
SUMMARY:Zent. NK/WK FB WI (Zentraler Nachschreibetermin FB WI)
DESCRIPTION:Course: DBWINFO-C03_9_9.Block\nType: Zentraler
  Nachschreibetermin FB WI\nModule/Group: Zent. NK/WK FB WI
DTSTART:20260827T141500Z
DTEND:20260827T174500Z
END:VEVENT
BEGIN:VEVENT
UID:DBWINFO-C03-1787926500-65
SUMMARY:Zent. NK/WK FB WI (Zentraler Nachschreibetermin FB WI)
DESCRIPTION:Course: DBWINFO-C03_9_9.Block\nType: Zentraler
  Nachschreibetermin FB WI\nModule/Group: Zent. NK/WK FB WI
DTSTART:20260828T141500Z
DTEND:20260828T174500Z
END:VEVENT
END:VCALENDAR
