BEGIN:VCALENDAR
VERSION:2.0
PRODID:-//ASW Schedule Exporter//EN
NAME:ASW Schedule DBWINFO-B05_3_3.Block
X-WR-CALNAME:ASW Schedule DBWINFO-B05_3_3.Block
TZID:Europe/Berlin
BEGIN:VEVENT
UID:DBWINFO-B05_3_3_Block-1776668400-0
SUMMARY:EXT RW (Vorlesung)
LOCATION:NK: 2.04
DESCRIPTION:Course: DBWINFO-B05_3_3.Block\nType: Vorlesung\nModule/Group:
  EXT RW\nLocation: NK: 2.04
DTSTART:20260420T070000Z
DTEND:20260420T083000Z
END:VEVENT
BEGIN:VEVENT
UID:DBWINFO-B05_3_3_Block-1776754800-1
SUMMARY:PROG II (Vorlesung)
LOCATION:NK: 2.04
DESCRIPTION:Course: DBWINFO-B05_3_3.Block\nType: Vorlesung\nModule/Group:
  PROG II\nLocation: NK: 2.04
DTSTART:20260421T070000Z
DTEND:20260421T083000Z
END:VEVENT
BEGIN:VEVENT
UID:DBWINFO-B05_3_3_Block-1776841200-2
SUMMARY:EXT RW (Vorlesung)
LOCATION:EXT: Online
DESCRIPTION:Course: DBWINFO-B05_3_3.Block\nType: Vorlesung\nModule/Group:
  EXT RW\nLocation: EXT: Online
DTSTART:20260422T070000Z
DTEND:20260422T083000Z
END:VEVENT
BEGIN:VEVENT
UID:DBWINFO-B05_3_3_Block-1776927600-3
SUMMARY:PROG II Gr. 1 (Übung)
LOCATION:NK: EDV 3.16
DESCRIPTION:Course: DBWINFO-B05_3_3.Block\nType: Übung\nModule/Group: PROG
  II Gr. 1\nLocation: NK: EDV 3.16
DTSTART:20260423T070000Z
DTEND:20260423T083000Z
END:VEVENT
BEGIN:VEVENT
UID:DBWINFO-B05_3_3_Block-1777014000-4
SUMMARY:ALGO (Vorlesung)
LOCATION:NK: 2.04
DESCRIPTION:Course: DBWINFO-B05_3_3.Block\nType: Vorlesung\nModule/Group:
  ALGO\nLocation: NK: 2.04
DTSTART:20260424T070000Z
DTEND:20260424T083000Z
END:VEVENT
BEGIN:VEVENT
UID:DBWINFO-B05_3_3_Block-1776674700-5
SUMMARY:EXT RW (Vorlesung)
LOCATION:NK: 2.04
DESCRIPTION:Course: DBWINFO-B05_3_3.Block\nType: Vorlesung\nModule/Group:
  EXT RW\nLocation: NK: 2.04
DTSTART:20260420T084500Z
DTEND:20260420T101500Z
END:VEVENT
BEGIN:VEVENT
UID:DBWINFO-B05_3_3_Block-1776761100-6
SUMMARY:PROG II (Vorlesung)
LOCATION:NK: 2.04
DESCRIPTION:Course: DBWINFO-B05_3_3.Block\nType: Vorlesung\nModule/Group:
  PROG II\nLocation: NK: 2.04
DTSTART:20260421T084500Z
DTEND:20260421T101500Z
END:VEVENT
BEGIN:VEVENT
UID:DBWINFO-B05_3_3_Block-1776847500-7
SUMMARY:EXT RW (Vorlesung)
LOCATION:EXT: Online
DESCRIPTION:Course: DBWINFO-B05_3_3.Block\nType: Vorlesung\nModule/Group:
  EXT RW\nLocation: EXT: Online
DTSTART:20260422T084500Z
DTEND:20260422T101500Z
END:VEVENT
BEGIN:VEVENT
UID:DBWINFO-B05_3_3_Block-1776933900-8
SUMMARY:PROG II Gr. 1 (Übung)
LOCATION:NK: EDV 3.16
DESCRIPTION:Course: DBWINFO-B05_3_3.Block\nType: Übung\nModule/Group: PROG
  II Gr. 1\nLocation: NK: EDV 3.16
DTSTART:20260423T084500Z
DTEND:20260423T101500Z
END:VEVENT
BEGIN:VEVENT
UID:DBWINFO-B05_3_3_Block-1777020300-9
SUMMARY:ALGO (Vorlesung)
LOCATION:NK: 2.04
DESCRIPTION:Course: DBWINFO-B05_3_3.Block\nType: Vorlesung\nModule/Group:
  ALGO\nLocation: NK: 2.04
DTSTART:20260424T084500Z
DTEND:20260424T101500Z
END:VEVENT
BEGIN:VEVENT
UID:DBWINFO-B05_3_3_Block-1776855600-10
SUMMARY:ARCHI (Vorlesung)
LOCATION:EXT: Online
DESCRIPTION:Course: DBWINFO-B05_3_3.Block\nType: Vorlesung\nModule/Group:
  ARCHI\nLocation: EXT: Online
DTSTART:20260422T110000Z
DTEND:20260422T123000Z
END:VEVENT
BEGIN:VEVENT
UID:DBWINFO-B05_3_3_Block-1776943800-11
SUMMARY:ARCHI (Vorlesung)
LOCATION:NK: 2.04
DESCRIPTION:Course: DBWINFO-B05_3_3.Block\nType: Vorlesung\nModule/Group:
  ARCHI\nLocation: NK: 2.04
DTSTART:20260423T113000Z
DTEND:20260423T130000Z
END:VEVENT
BEGIN:VEVENT
UID:DBWINFO-B05_3_3_Block-1776861900-12
SUMMARY:ARCHI (Vorlesung)
LOCATION:EXT: Online
DESCRIPTION:Course: DBWINFO-B05_3_3.Block\nType: Vorlesung\nModule/Group:
  ARCHI\nLocation: EXT: Online
DTSTART:20260422T124500Z
DTEND:20260422T141500Z
END:VEVENT
BEGIN:VEVENT
UID:DBWINFO-B05_3_3_Block-1776950100-13
SUMMARY:ARCHI (Vorlesung)
LOCATION:NK: 2.04
DESCRIPTION:Course: DBWINFO-B05_3_3.Block\nType: Vorlesung\nModule/Group:
  ARCHI\nLocation: NK: 2.04
DTSTART:20260423T131500Z
DTEND:20260423T144500Z
END:VEVENT
BEGIN:VEVENT
UID:DBWINFO-B05_3_3_Block-1777273200-14
SUMMARY:EXT RW (Vorlesung)
LOCATION:NK: 2.08
DESCRIPTION:Course: DBWINFO-B05_3_3.Block\nType: Vorlesung\nModule/Group:
  EXT RW\nLocation: NK: 2.08
DTSTART:20260427T070000Z
DTEND:20260427T083000Z
END:VEVENT
BEGIN:VEVENT
UID:DBWINFO-B05_3_3_Block-1777359600-15
SUMMARY:ALGO Gr. 1 (Übung)
LOCATION:NK: EDV 3.16
DESCRIPTION:Course: DBWINFO-B05_3_3.Block\nType: Übung\nModule/Group: ALGO
  Gr. 1\nLocation: NK: EDV 3.16
DTSTART:20260428T070000Z
DTEND:20260428T083000Z
END:VEVENT
BEGIN:VEVENT
UID:DBWINFO-B05_3_3_Block-1777446000-16
SUMMARY:EXT RW (Vorlesung)
LOCATION:NK: 2.08
DESCRIPTION:Course: DBWINFO-B05_3_3.Block\nType: Vorlesung\nModule/Group:
  EXT RW\nLocation: NK: 2.08
DTSTART:20260429T070000Z
DTEND:20260429T083000Z
END:VEVENT
BEGIN:VEVENT
UID:DBWINFO-B05_3_3_Block-1777532400-17
SUMMARY:ALGO Gr. 1 (Übung)
LOCATION:NK: EDV 3.16
DESCRIPTION:Course: DBWINFO-B05_3_3.Block\nType: Übung\nModule/Group: ALGO
  Gr. 1\nLocation: NK: EDV 3.16
DTSTART:20260430T070000Z
DTEND:20260430T083000Z
END:VEVENT
BEGIN:VEVENT
UID:DBWINFO-B05_3_3_Block-1777279500-18
SUMMARY:EXT RW (Vorlesung)
LOCATION:NK: 2.08
DESCRIPTION:Course: DBWINFO-B05_3_3.Block\nType: Vorlesung\nModule/Group:
  EXT RW\nLocation: NK: 2.08
DTSTART:20260427T084500Z
DTEND:20260427T101500Z
END:VEVENT
BEGIN:VEVENT
UID:DBWINFO-B05_3_3_Block-1777365900-19
SUMMARY:ALGO Gr. 1 (Übung)
LOCATION:NK: EDV 3.16
DESCRIPTION:Course: DBWINFO-B05_3_3.Block\nType: Übung\nModule/Group: ALGO
  Gr. 1\nLocation: NK: EDV 3.16
DTSTART:20260428T084500Z
DTEND:20260428T101500Z
END:VEVENT
BEGIN:VEVENT
UID:DBWINFO-B05_3_3_Block-1777452300-20
SUMMARY:EXT RW (Vorlesung)
LOCATION:NK: 2.08
DESCRIPTION:Course: DBWINFO-B05_3_3.Block\nType: Vorlesung\nModule/Group:
  EXT RW\nLocation: NK: 2.08
DTSTART:20260429T084500Z
DTEND:20260429T101500Z
END:VEVENT
BEGIN:VEVENT
UID:DBWINFO-B05_3_3_Block-1777538700-21
SUMMARY:ALGO Gr. 1 (Übung)
LOCATION:NK: EDV 3.16
DESCRIPTION:Course: DBWINFO-B05_3_3.Block\nType: Übung\nModule/Group: ALGO
  Gr. 1\nLocation: NK: EDV 3.16
DTSTART:20260430T084500Z
DTEND:20260430T101500Z
END:VEVENT
BEGIN:VEVENT
UID:DBWINFO-B05_3_3_Block-1777287600-22
SUMMARY:EXT RW (Vorlesung)
LOCATION:NK: 2.08
DESCRIPTION:Course: DBWINFO-B05_3_3.Block\nType: Vorlesung\nModule/Group:
  EXT RW\nLocation: NK: 2.08
DTSTART:20260427T110000Z
DTEND:20260427T123000Z
END:VEVENT
BEGIN:VEVENT
UID:DBWINFO-B05_3_3_Block-1777374000-23
SUMMARY:ALGO (Vorlesung)
LOCATION:NK: 1.07
DESCRIPTION:Course: DBWINFO-B05_3_3.Block\nType: Vorlesung\nModule/Group:
  ALGO\nLocation: NK: 1.07
DTSTART:20260428T110000Z
DTEND:20260428T123000Z
END:VEVENT
BEGIN:VEVENT
UID:DBWINFO-B05_3_3_Block-1777460400-24
SUMMARY:ARCHI (Vorlesung)
LOCATION:NK: 2.08
DESCRIPTION:Course: DBWINFO-B05_3_3.Block\nType: Vorlesung\nModule/Group:
  ARCHI\nLocation: NK: 2.08
DTSTART:20260429T110000Z
DTEND:20260429T123000Z
END:VEVENT
BEGIN:VEVENT
UID:DBWINFO-B05_3_3_Block-1777548600-25
SUMMARY:ARCHI (Vorlesung)
LOCATION:NK: 2.04
DESCRIPTION:Course: DBWINFO-B05_3_3.Block\nType: Vorlesung\nModule/Group:
  ARCHI\nLocation: NK: 2.04
DTSTART:20260430T113000Z
DTEND:20260430T130000Z
END:VEVENT
BEGIN:VEVENT
UID:DBWINFO-B05_3_3_Block-1777293900-26
SUMMARY:EXT RW (Vorlesung)
LOCATION:NK: 2.08
DESCRIPTION:Course: DBWINFO-B05_3_3.Block\nType: Vorlesung\nModule/Group:
  EXT RW\nLocation: NK: 2.08
DTSTART:20260427T124500Z
DTEND:20260427T151500Z
END:VEVENT
BEGIN:VEVENT
UID:DBWINFO-B05_3_3_Block-1777380300-27
SUMMARY:ALGO (Vorlesung)
LOCATION:NK: 1.07
DESCRIPTION:Course: DBWINFO-B05_3_3.Block\nType: Vorlesung\nModule/Group:
  ALGO\nLocation: NK: 1.07
DTSTART:20260428T124500Z
DTEND:20260428T141500Z
END:VEVENT
BEGIN:VEVENT
UID:DBWINFO-B05_3_3_Block-1777466700-28
SUMMARY:ARCHI (Vorlesung)
LOCATION:NK: 2.08
DESCRIPTION:Course: DBWINFO-B05_3_3.Block\nType: Vorlesung\nModule/Group:
  ARCHI\nLocation: NK: 2.08
DTSTART:20260429T124500Z
DTEND:20260429T141500Z
END:VEVENT
BEGIN:VEVENT
UID:DBWINFO-B05_3_3_Block-1777554900-29
SUMMARY:ARCHI (Vorlesung)
LOCATION:NK: 2.04
DESCRIPTION:Course: DBWINFO-B05_3_3.Block\nType: Vorlesung\nModule/Group:
  ARCHI\nLocation: NK: 2.04
DTSTART:20260430T131500Z
DTEND:20260430T144500Z
END:VEVENT
BEGIN:VEVENT
UID:DBWINFO-B05_3_3_Block-1777878000-30
SUMMARY:EXT RW (Vorlesung)
LOCATION:EXT: Online
DESCRIPTION:Course: DBWINFO-B05_3_3.Block\nType: Vorlesung\nModule/Group:
  EXT RW\nLocation: EXT: Online
DTSTART:20260504T070000Z
DTEND:20260504T083000Z
END:VEVENT
BEGIN:VEVENT
UID:DBWINFO-B05_3_3_Block-1777964400-31
SUMMARY:PM (Vorlesung)
LOCATION:NK: 2.04
DESCRIPTION:Course: DBWINFO-B05_3_3.Block\nType: Vorlesung\nModule/Group:
  PM\nLocation: NK: 2.04
DTSTART:20260505T070000Z
DTEND:20260505T083000Z
END:VEVENT
BEGIN:VEVENT
UID:DBWINFO-B05_3_3_Block-1778310000-32
SUMMARY:PM (Vorlesung)
LOCATION:EXT: Online
DESCRIPTION:Course: DBWINFO-B05_3_3.Block\nType: Vorlesung\nModule/Group:
  PM\nLocation: EXT: Online
DTSTART:20260509T070000Z
DTEND:20260509T083000Z
END:VEVENT
BEGIN:VEVENT
UID:DBWINFO-B05_3_3_Block-1777884300-33
SUMMARY:EXT RW (Vorlesung)
LOCATION:EXT: Online
DESCRIPTION:Course: DBWINFO-B05_3_3.Block\nType: Vorlesung\nModule/Group:
  EXT RW\nLocation: EXT: Online
DTSTART:20260504T084500Z
DTEND:20260504T101500Z
END:VEVENT
BEGIN:VEVENT
UID:DBWINFO-B05_3_3_Block-1777970700-34
SUMMARY:PM (Vorlesung)
LOCATION:NK: 2.04
DESCRIPTION:Course: DBWINFO-B05_3_3.Block\nType: Vorlesung\nModule/Group:
  PM\nLocation: NK: 2.04
DTSTART:20260505T084500Z
DTEND:20260505T101500Z
END:VEVENT
BEGIN:VEVENT
UID:DBWINFO-B05_3_3_Block-1778316300-35
SUMMARY:PM (Vorlesung)
LOCATION:EXT: Online
DESCRIPTION:Course: DBWINFO-B05_3_3.Block\nType: Vorlesung\nModule/Group:
  PM\nLocation: EXT: Online
DTSTART:20260509T084500Z
DTEND:20260509T101500Z
END:VEVENT
BEGIN:VEVENT
UID:DBWINFO-B05_3_3_Block-1777892400-36
SUMMARY:EXT RW (Vorlesung)
LOCATION:EXT: Online
DESCRIPTION:Course: DBWINFO-B05_3_3.Block\nType: Vorlesung\nModule/Group:
  EXT RW\nLocation: EXT: Online
DTSTART:20260504T110000Z
DTEND:20260504T123000Z
END:VEVENT
BEGIN:VEVENT
UID:DBWINFO-B05_3_3_Block-1777978800-37
SUMMARY:EXT RW (Vorlesung)
LOCATION:NK: 2.04
DESCRIPTION:Course: DBWINFO-B05_3_3.Block\nType: Vorlesung\nModule/Group:
  EXT RW\nLocation: NK: 2.04
DTSTART:20260505T110000Z
DTEND:20260505T123000Z
END:VEVENT
BEGIN:VEVENT
UID:DBWINFO-B05_3_3_Block-1778151600-38
SUMMARY:TK II ARCHI (Teilklausur eines Moduls)
LOCATION:NK: 1.01
DESCRIPTION:Course: DBWINFO-B05_3_3.Block\nType: Teilklausur eines
  Moduls\nModule/Group: TK II ARCHI\nLocation: NK: 1.01
DTSTART:20260507T110000Z
DTEND:20260507T120000Z
END:VEVENT
BEGIN:VEVENT
UID:DBWINFO-B05_3_3_Block-1778238000-39
SUMMARY:ALGO (Vorlesung)
LOCATION:NK: 2.04
DESCRIPTION:Course: DBWINFO-B05_3_3.Block\nType: Vorlesung\nModule/Group:
  ALGO\nLocation: NK: 2.04
DTSTART:20260508T110000Z
DTEND:20260508T123000Z
END:VEVENT
BEGIN:VEVENT
UID:DBWINFO-B05_3_3_Block-1778324400-40
SUMMARY:PM (Vorlesung)
LOCATION:EXT: Online
DESCRIPTION:Course: DBWINFO-B05_3_3.Block\nType: Vorlesung\nModule/Group:
  PM\nLocation: EXT: Online
DTSTART:20260509T110000Z
DTEND:20260509T123000Z
END:VEVENT
BEGIN:VEVENT
UID:DBWINFO-B05_3_3_Block-1777898700-41
SUMMARY:EXT RW (Vorlesung)
LOCATION:EXT: Online
DESCRIPTION:Course: DBWINFO-B05_3_3.Block\nType: Vorlesung\nModule/Group:
  EXT RW\nLocation: EXT: Online
DTSTART:20260504T124500Z
DTEND:20260504T151500Z
END:VEVENT
BEGIN:VEVENT
UID:DBWINFO-B05_3_3_Block-1777985100-42
SUMMARY:EXT RW (Vorlesung)
LOCATION:NK: 2.04
DESCRIPTION:Course: DBWINFO-B05_3_3.Block\nType: Vorlesung\nModule/Group:
  EXT RW\nLocation: NK: 2.04
DTSTART:20260505T124500Z
DTEND:20260505T141500Z
END:VEVENT
BEGIN:VEVENT
UID:DBWINFO-B05_3_3_Block-1778157900-43
SUMMARY:EXT RW (Vorlesung)
LOCATION:NK: 2.04
DESCRIPTION:Course: DBWINFO-B05_3_3.Block\nType: Vorlesung\nModule/Group:
  EXT RW\nLocation: NK: 2.04
DTSTART:20260507T124500Z
DTEND:20260507T141500Z
END:VEVENT
BEGIN:VEVENT
UID:DBWINFO-B05_3_3_Block-1778244300-44
SUMMARY:ALGO (Vorlesung)
LOCATION:NK: 2.04
DESCRIPTION:Course: DBWINFO-B05_3_3.Block\nType: Vorlesung\nModule/Group:
  ALGO\nLocation: NK: 2.04
DTSTART:20260508T124500Z
DTEND:20260508T141500Z
END:VEVENT
BEGIN:VEVENT
UID:DBWINFO-B05_3_3_Block-1778330700-45
SUMMARY:PM (Vorlesung)
LOCATION:EXT: Online
DESCRIPTION:Course: DBWINFO-B05_3_3.Block\nType: Vorlesung\nModule/Group:
  PM\nLocation: EXT: Online
DTSTART:20260509T124500Z
DTEND:20260509T141500Z
END:VEVENT
BEGIN:VEVENT
UID:DBWINFO-B05_3_3_Block-1778164200-46
SUMMARY:EXT RW (Vorlesung)
LOCATION:NK: 2.04
DESCRIPTION:Course: DBWINFO-B05_3_3.Block\nType: Vorlesung\nModule/Group:
  EXT RW\nLocation: NK: 2.04
DTSTART:20260507T143000Z
DTEND:20260507T160000Z
END:VEVENT
BEGIN:VEVENT
UID:DBWINFO-B05_3_3_Block-1778569200-47
SUMMARY:MP PROG (Klausur)
LOCATION:NK: 1.01
DESCRIPTION:Course: DBWINFO-B05_3_3.Block\nType: Klausur\nModule/Group: MP
  PROG\nLocation: NK: 1.01
DTSTART:20260512T070000Z
DTEND:20260512T093000Z
END:VEVENT
BEGIN:VEVENT
UID:DBWINFO-B05_3_3_Block-1778655600-48
SUMMARY:PM (Vorlesung)
LOCATION:NK: 2.04
DESCRIPTION:Course: DBWINFO-B05_3_3.Block\nType: Vorlesung\nModule/Group:
  PM\nLocation: NK: 2.04
DTSTART:20260513T070000Z
DTEND:20260513T083000Z
END:VEVENT
BEGIN:VEVENT
UID:DBWINFO-B05_3_3_Block-1778914800-49
SUMMARY:EXT RW (Übung)
LOCATION:EXT: Online
DESCRIPTION:Course: DBWINFO-B05_3_3.Block\nType: Übung\nModule/Group: EXT
  RW\nLocation: EXT: Online
DTSTART:20260516T070000Z
DTEND:20260516T083000Z
END:VEVENT
BEGIN:VEVENT
UID:DBWINFO-B05_3_3_Block-1778661900-50
SUMMARY:PM (Vorlesung)
LOCATION:NK: 2.04
DESCRIPTION:Course: DBWINFO-B05_3_3.Block\nType: Vorlesung\nModule/Group:
  PM\nLocation: NK: 2.04
DTSTART:20260513T084500Z
DTEND:20260513T101500Z
END:VEVENT
BEGIN:VEVENT
UID:DBWINFO-B05_3_3_Block-1778834700-51
SUMMARY:TK II PM (Teilklausur eines Moduls)
LOCATION:NK: 1.01
DESCRIPTION:Course: DBWINFO-B05_3_3.Block\nType: Teilklausur eines
  Moduls\nModule/Group: TK II PM\nLocation: NK: 1.01
DTSTART:20260515T084500Z
DTEND:20260515T094500Z
END:VEVENT
BEGIN:VEVENT
UID:DBWINFO-B05_3_3_Block-1778921100-52
SUMMARY:EXT RW (Übung)
LOCATION:EXT: Online
DESCRIPTION:Course: DBWINFO-B05_3_3.Block\nType: Übung\nModule/Group: EXT
  RW\nLocation: EXT: Online
DTSTART:20260516T084500Z
DTEND:20260516T101500Z
END:VEVENT
BEGIN:VEVENT
UID:DBWINFO-B05_3_3_Block-1778583600-53
SUMMARY:EXT RW (Vorlesung)
LOCATION:NK: 2.04
DESCRIPTION:Course: DBWINFO-B05_3_3.Block\nType: Vorlesung\nModule/Group:
  EXT RW\nLocation: NK: 2.04
DTSTART:20260512T110000Z
DTEND:20260512T123000Z
END:VEVENT
BEGIN:VEVENT
UID:DBWINFO-B05_3_3_Block-1778670000-54
SUMMARY:EXT RW (Vorlesung)
LOCATION:NK: 2.04
DESCRIPTION:Course: DBWINFO-B05_3_3.Block\nType: Vorlesung\nModule/Group:
  EXT RW\nLocation: NK: 2.04
DTSTART:20260513T110000Z
DTEND:20260513T123000Z
END:VEVENT
BEGIN:VEVENT
UID:DBWINFO-B05_3_3_Block-1778842800-55
SUMMARY:EXT RW (Übung)
LOCATION:NK: 2.08
DESCRIPTION:Course: DBWINFO-B05_3_3.Block\nType: Übung\nModule/Group: EXT
  RW\nLocation: NK: 2.08
DTSTART:20260515T110000Z
DTEND:20260515T123000Z
END:VEVENT
BEGIN:VEVENT
UID:DBWINFO-B05_3_3_Block-1778929200-56
SUMMARY:EXT RW (Übung)
LOCATION:EXT: Online
DESCRIPTION:Course: DBWINFO-B05_3_3.Block\nType: Übung\nModule/Group: EXT
  RW\nLocation: EXT: Online
DTSTART:20260516T110000Z
DTEND:20260516T123000Z
END:VEVENT
BEGIN:VEVENT
UID:DBWINFO-B05_3_3_Block-1778589900-57
SUMMARY:EXT RW (Vorlesung)
LOCATION:NK: 2.04
DESCRIPTION:Course: DBWINFO-B05_3_3.Block\nType: Vorlesung\nModule/Group:
  EXT RW\nLocation: NK: 2.04
DTSTART:20260512T124500Z
DTEND:20260512T141500Z
END:VEVENT
BEGIN:VEVENT
UID:DBWINFO-B05_3_3_Block-1778676300-58
SUMMARY:EXT RW (Vorlesung)
LOCATION:NK: 2.04
DESCRIPTION:Course: DBWINFO-B05_3_3.Block\nType: Vorlesung\nModule/Group:
  EXT RW\nLocation: NK: 2.04
DTSTART:20260513T124500Z
DTEND:20260513T141500Z
END:VEVENT
BEGIN:VEVENT
UID:DBWINFO-B05_3_3_Block-1778849100-59
SUMMARY:EXT RW (Übung)
LOCATION:NK: 2.08
DESCRIPTION:Course: DBWINFO-B05_3_3.Block\nType: Übung\nModule/Group: EXT
  RW\nLocation: NK: 2.08
DTSTART:20260515T124500Z
DTEND:20260515T141500Z
END:VEVENT
BEGIN:VEVENT
UID:DBWINFO-B05_3_3_Block-1779519600-60
SUMMARY:EXT RW (Klausur)
LOCATION:NK: 1.01
DESCRIPTION:Course: DBWINFO-B05_3_3.Block\nType: Klausur\nModule/Group: EXT
  RW\nLocation: NK: 1.01
DTSTART:20260523T070000Z
DTEND:20260523T090000Z
END:VEVENT
BEGIN:VEVENT
UID:DBWINFO-B05_3_3_Block-1786343400-61
SUMMARY:Posterpräs. (Posterpräsenation)
DESCRIPTION:Course: DBWINFO-B05_3_3.Block\nType:
  Posterpräsenation\nModule/Group: Posterpräs.
DTSTART:20260810T063000Z
DTEND:20260810T141500Z
END:VEVENT
BEGIN:VEVENT
UID:DBWINFO-B05_3_3_Block-1786429800-62
SUMMARY:Posterpräs. (Posterpräsenation)
DESCRIPTION:Course: DBWINFO-B05_3_3.Block\nType:
  Posterpräsenation\nModule/Group: Posterpräs.
DTSTART:20260811T063000Z
DTEND:20260811T141500Z
END:VEVENT
BEGIN:VEVENT
UID:DBWINFO-B05_3_3_Block-1786516200-63
SUMMARY:Posterpräs. (Posterpräsenation)
DESCRIPTION:Course: DBWINFO-B05_3_3.Block\nType:
  Posterpräsenation\nModule/Group: Posterpräs.
DTSTART:20260812T063000Z
DTEND:20260812T141500Z
END:VEVENT
BEGIN:VEVENT
UID:DBWINFO-B05_3_3_Block-1786602600-64
SUMMARY:Posterpräs. (Posterpräsenation)
DESCRIPTION:Course: DBWINFO-B05_3_3.Block\nType:
  Posterpräsenation\nModule/Group: Posterpräs.
DTSTART:20260813T063000Z
DTEND:20260813T141500Z
END:VEVENT
BEGIN:VEVENT
UID:DBWINFO-B05_3_3_Block-1786689000-65
SUMMARY:Posterpräs. (Posterpräsenation)
DESCRIPTION:Course: DBWINFO-B05_3_3.Block\nType:
  Posterpräsenation\nModule/Group: Posterpräs.
DTSTART:20260814T063000Z
DTEND:20260814T141500Z
END:VEVENT
BEGIN:VEVENT
UID:DBWINFO-B05_3_3_Block-1786372200-66
SUMMARY:Zent. NK/WK FB WI (Zentraler Nachschreibetermin FB WI)
DESCRIPTION:Course: DBWINFO-B05_3_3.Block\nType: Zentraler
  Nachschreibetermin FB WI\nModule/Group: Zent. NK/WK FB WI
DTSTART:20260810T143000Z
DTEND:20260810T174500Z
END:VEVENT
BEGIN:VEVENT
UID:DBWINFO-B05_3_3_Block-1786458600-67
SUMMARY:Zent. NK/WK FB WI (Zentraler Nachschreibetermin FB WI)
DESCRIPTION:Course: DBWINFO-B05_3_3.Block\nType: Zentraler
  Nachschreibetermin FB WI\nModule/Group: Zent. NK/WK FB WI
DTSTART:20260811T143000Z
DTEND:20260811T174500Z
END:VEVENT
BEGIN:VEVENT
UID:DBWINFO-B05_3_3_Block-1786545000-68
SUMMARY:Zent. NK/WK FB WI (Zentraler Nachschreibetermin FB WI)
DESCRIPTION:Course: DBWINFO-B05_3_3.Block\nType: Zentraler
  Nachschreibetermin FB WI\nModule/Group: Zent. NK/WK FB WI
DTSTART:20260812T143000Z
DTEND:20260812T174500Z
END:VEVENT
BEGIN:VEVENT
UID:DBWINFO-B05_3_3_Block-1786631400-69
SUMMARY:Zent. NK/WK FB WI (Zentraler Nachschreibetermin FB WI)
DESCRIPTION:Course: DBWINFO-B05_3_3.Block\nType: Zentraler
  Nachschreibetermin FB WI\nModule/Group: Zent. NK/WK FB WI
DTSTART:20260813T143000Z
DTEND:20260813T174500Z
END:VEVENT
BEGIN:VEVENT
UID:DBWINFO-B05_3_3_Block-1786717800-70
SUMMARY:Zent. NK/WK FB WI (Zentraler Nachschreibetermin FB WI)
DESCRIPTION:Course: DBWINFO-B05_3_3.Block\nType: Zentraler
  Nachschreibetermin FB WI\nModule/Group: Zent. NK/WK FB WI
DTSTART:20260814T143000Z
DTEND:20260814T174500Z
END:VEVENT
BEGIN:VEVENT
UID:DBWINFO-B05_3_3_Block-1786948200-71
SUMMARY:Posterpräs. (Posterpräsenation)
DESCRIPTION:Course: DBWINFO-B05_3_3.Block\nType:
  Posterpräsenation\nModule/Group: Posterpräs.
DTSTART:20260817T063000Z
DTEND:20260817T141500Z
END:VEVENT
BEGIN:VEVENT
UID:DBWINFO-B05_3_3_Block-1787034600-72
SUMMARY:Posterpräs. (Posterpräsenation)
DESCRIPTION:Course: DBWINFO-B05_3_3.Block\nType:
  Posterpräsenation\nModule/Group: Posterpräs.
DTSTART:20260818T063000Z
DTEND:20260818T141500Z
END:VEVENT
BEGIN:VEVENT
UID:DBWINFO-B05_3_3_Block-1787121000-73
SUMMARY:Posterpräs. (Posterpräsenation)
DESCRIPTION:Course: DBWINFO-B05_3_3.Block\nType:
  Posterpräsenation\nModule/Group: Posterpräs.
DTSTART:20260819T063000Z
DTEND:20260819T141500Z
END:VEVENT
BEGIN:VEVENT
UID:DBWINFO-B05_3_3_Block-1787207400-74
SUMMARY:Posterpräs. (Posterpräsenation)
DESCRIPTION:Course: DBWINFO-B05_3_3.Block\nType:
  Posterpräsenation\nModule/Group: Posterpräs.
DTSTART:20260820T063000Z
DTEND:20260820T141500Z
END:VEVENT
BEGIN:VEVENT
UID:DBWINFO-B05_3_3_Block-1787293800-75
SUMMARY:Posterpräs. (Posterpräsenation)
DESCRIPTION:Course: DBWINFO-B05_3_3.Block\nType:
  Posterpräsenation\nModule/Group: Posterpräs.
DTSTART:20260821T063000Z
DTEND:20260821T141500Z
END:VEVENT
BEGIN:VEVENT
UID:DBWINFO-B05_3_3_Block-1786977000-76
SUMMARY:Zent. NK/WK FB WI (Zentraler Nachschreibetermin FB WI)
DESCRIPTION:Course: DBWINFO-B05_3_3.Block\nType: Zentraler
  Nachschreibetermin FB WI\nModule/Group: Zent. NK/WK FB WI
DTSTART:20260817T143000Z
DTEND:20260817T174500Z
END:VEVENT
BEGIN:VEVENT
UID:DBWINFO-B05_3_3_Block-1787063400-77
SUMMARY:Zent. NK/WK FB WI (Zentraler Nachschreibetermin FB WI)
DESCRIPTION:Course: DBWINFO-B05_3_3.Block\nType: Zentraler
  Nachschreibetermin FB WI\nModule/Group: Zent. NK/WK FB WI
DTSTART:20260818T143000Z
DTEND:20260818T174500Z
END:VEVENT
BEGIN:VEVENT
UID:DBWINFO-B05_3_3_Block-1787149800-78
SUMMARY:Zent. NK/WK FB WI (Zentraler Nachschreibetermin FB WI)
DESCRIPTION:Course: DBWINFO-B05_3_3.Block\nType: Zentraler
  Nachschreibetermin FB WI\nModule/Group: Zent. NK/WK FB WI
DTSTART:20260819T143000Z
DTEND:20260819T174500Z
END:VEVENT
BEGIN:VEVENT
UID:DBWINFO-B05_3_3_Block-1787236200-79
SUMMARY:Zent. NK/WK FB WI (Zentraler Nachschreibetermin FB WI)
DESCRIPTION:Course: DBWINFO-B05_3_3.Block\nType: Zentraler
  Nachschreibetermin FB WI\nModule/Group: Zent. NK/WK FB WI
DTSTART:20260820T143000Z
DTEND:20260820T174500Z
END:VEVENT
BEGIN:VEVENT
UID:DBWINFO-B05_3_3_Block-1787322600-80
SUMMARY:Zent. NK/WK FB WI (Zentraler Nachschreibetermin FB WI)
DESCRIPTION:Course: DBWINFO-B05_3_3.Block\nType: Zentraler
  Nachschreibetermin FB WI\nModule/Group: Zent. NK/WK FB WI
DTSTART:20260821T143000Z
DTEND:20260821T174500Z
END:VEVENT
BEGIN:VEVENT
UID:DBWINFO-B05_3_3_Block-1787553000-81
SUMMARY:Posterpräs. (Posterpräsenation)
DESCRIPTION:Course: DBWINFO-B05_3_3.Block\nType:
  Posterpräsenation\nModule/Group: Posterpräs.
DTSTART:20260824T063000Z
DTEND:20260824T141500Z
END:VEVENT
BEGIN:VEVENT
UID:DBWINFO-B05_3_3_Block-1787639400-82
SUMMARY:Posterpräs. (Posterpräsenation)
DESCRIPTION:Course: DBWINFO-B05_3_3.Block\nType:
  Posterpräsenation\nModule/Group: Posterpräs.
DTSTART:20260825T063000Z
DTEND:20260825T141500Z
END:VEVENT
BEGIN:VEVENT
UID:DBWINFO-B05_3_3_Block-1787725800-83
SUMMARY:Posterpräs. (Posterpräsenation)
DESCRIPTION:Course: DBWINFO-B05_3_3.Block\nType:
  Posterpräsenation\nModule/Group: Posterpräs.
DTSTART:20260826T063000Z
DTEND:20260826T141500Z
END:VEVENT
BEGIN:VEVENT
UID:DBWINFO-B05_3_3_Block-1787812200-84
SUMMARY:Posterpräs. (Posterpräsenation)
DESCRIPTION:Course: DBWINFO-B05_3_3.Block\nType:
  Posterpräsenation\nModule/Group: Posterpräs.
DTSTART:20260827T063000Z
DTEND:20260827T141500Z
END:VEVENT
BEGIN:VEVENT
UID:DBWINFO-B05_3_3_Block-1787898600-85
SUMMARY:Posterpräs. (Posterpräsenation)
DESCRIPTION:Course: DBWINFO-B05_3_3.Block\nType:
  Posterpräsenation\nModule/Group: Posterpräs.
DTSTART:20260828T063000Z
DTEND:20260828T141500Z
END:VEVENT
BEGIN:VEVENT
UID:DBWINFO-B05_3_3_Block-1787581800-86
SUMMARY:Zent. NK/WK FB WI (Zentraler Nachschreibetermin FB WI)
DESCRIPTION:Course: DBWINFO-B05_3_3.Block\nType: Zentraler
  Nachschreibetermin FB WI\nModule/Group: Zent. NK/WK FB WI
DTSTART:20260824T143000Z
DTEND:20260824T174500Z
END:VEVENT
BEGIN:VEVENT
UID:DBWINFO-B05_3_3_Block-1787668200-87
SUMMARY:Zent. NK/WK FB WI (Zentraler Nachschreibetermin FB WI)
DESCRIPTION:Course: DBWINFO-B05_3_3.Block\nType: Zentraler
  Nachschreibetermin FB WI\nModule/Group: Zent. NK/WK FB WI
DTSTART:20260825T143000Z
DTEND:20260825T174500Z
END:VEVENT
BEGIN:VEVENT
UID:DBWINFO-B05_3_3_Block-1787754600-88
SUMMARY:Zent. NK/WK FB WI (Zentraler Nachschreibetermin FB WI)
DESCRIPTION:Course: DBWINFO-B05_3_3.Block\nType: Zentraler
  Nachschreibetermin FB WI\nModule/Group: Zent. NK/WK FB WI
DTSTART:20260826T143000Z
DTEND:20260826T174500Z
END:VEVENT
BEGIN:VEVENT
UID:DBWINFO-B05_3_3_Block-1787841000-89
SUMMARY:Zent. NK/WK FB WI (Zentraler Nachschreibetermin FB WI)
DESCRIPTION:Course: DBWINFO-B05_3_3.Block\nType: Zentraler
  Nachschreibetermin FB WI\nModule/Group: Zent. NK/WK FB WI
DTSTART:20260827T143000Z
DTEND:20260827T174500Z
END:VEVENT
BEGIN:VEVENT
UID:DBWINFO-B05_3_3_Block-1787927400-90
SUMMARY:Zent. NK/WK FB WI (Zentraler Nachschreibetermin FB WI)
DESCRIPTION:Course: DBWINFO-B05_3_3.Block\nType: Zentraler
  Nachschreibetermin FB WI\nModule/Group: Zent. NK/WK FB WI
DTSTART:20260828T143000Z
DTEND:20260828T174500Z
END:VEVENT
END:VCALENDAR
