BEGIN:VCALENDAR
VERSION:2.0
PRODID:-//ASW Schedule Exporter//EN
NAME:ASW Schedule DBWI-03
X-WR-CALNAME:ASW Schedule DBWI-03
TZID:Europe/Berlin
BEGIN:VEVENT
UID:DBWI-03-1776841200-0
SUMMARY:IND 4.0 (Vorlesung)
LOCATION:NK: EDV 3.16
DESCRIPTION:Course: DBWI-03_6_6.Block\nType: Vorlesung\nModule/Group: IND
  4.0\nLocation: NK: EDV 3.16
DTSTART:20260422T070000Z
DTEND:20260422T083000Z
END:VEVENT
BEGIN:VEVENT
UID:DBWI-03-1776674400-1
SUMMARY:PMG (Schriftliche Teilprüfung)
LOCATION:NK: 1.07
DESCRIPTION:Course: DBWI-03_6_6.Block\nType: Schriftliche
  Teilprüfung\nModule/Group: PMG\nLocation: NK: 1.07
DTSTART:20260420T084000Z
DTEND:20260420T094000Z
END:VEVENT
BEGIN:VEVENT
UID:DBWI-03-1776847500-2
SUMMARY:IND 4.0 (Vorlesung)
LOCATION:NK: EDV 3.16
DESCRIPTION:Course: DBWI-03_6_6.Block\nType: Vorlesung\nModule/Group: IND
  4.0\nLocation: NK: EDV 3.16
DTSTART:20260422T084500Z
DTEND:20260422T101500Z
END:VEVENT
BEGIN:VEVENT
UID:DBWI-03-1776769200-3
SUMMARY:IND 4.0 (Vorlesung)
LOCATION:NK: EDV 3.16
DESCRIPTION:Course: DBWI-03_6_6.Block\nType: Vorlesung\nModule/Group: IND
  4.0\nLocation: NK: EDV 3.16
DTSTART:20260421T110000Z
DTEND:20260421T123000Z
END:VEVENT
BEGIN:VEVENT
UID:DBWI-03-1776942000-4
SUMMARY:PPS (Labor)
LOCATION:NK: EDV 3.16
DESCRIPTION:Course: DBWI-03_6_6.Block\nType: Labor\nModule/Group:
  PPS\nLocation: NK: EDV 3.16
DTSTART:20260423T110000Z
DTEND:20260423T123000Z
END:VEVENT
BEGIN:VEVENT
UID:DBWI-03-1776775500-5
SUMMARY:IND 4.0 (Vorlesung)
LOCATION:NK: EDV 3.16
DESCRIPTION:Course: DBWI-03_6_6.Block\nType: Vorlesung\nModule/Group: IND
  4.0\nLocation: NK: EDV 3.16
DTSTART:20260421T124500Z
DTEND:20260421T141500Z
END:VEVENT
BEGIN:VEVENT
UID:DBWI-03-1776948300-6
SUMMARY:PPS (Labor)
LOCATION:NK: EDV 3.16
DESCRIPTION:Course: DBWI-03_6_6.Block\nType: Labor\nModule/Group:
  PPS\nLocation: NK: EDV 3.16
DTSTART:20260423T124500Z
DTEND:20260423T141500Z
END:VEVENT
BEGIN:VEVENT
UID:DBWI-03-1776954600-7
SUMMARY:MAR (Vorlesung)
LOCATION:NK: 2.14
DESCRIPTION:Course: DBWI-03_6_6.Block\nType: Vorlesung\nModule/Group:
  MAR\nLocation: NK: 2.14
DTSTART:20260423T143000Z
DTEND:20260423T160000Z
END:VEVENT
BEGIN:VEVENT
UID:DBWI-03-1776960900-8
SUMMARY:MAR (Vorlesung)
LOCATION:NK: 2.14
DESCRIPTION:Course: DBWI-03_6_6.Block\nType: Vorlesung\nModule/Group:
  MAR\nLocation: NK: 2.14
DTSTART:20260423T161500Z
DTEND:20260423T174500Z
END:VEVENT
BEGIN:VEVENT
UID:DBWI-03-1777273200-9
SUMMARY:JUR (Vorlesung)
LOCATION:NK: 1.12
DESCRIPTION:Course: DBWI-03_6_6.Block\nType: Vorlesung\nModule/Group:
  JUR\nLocation: NK: 1.12
DTSTART:20260427T070000Z
DTEND:20260427T083000Z
END:VEVENT
BEGIN:VEVENT
UID:DBWI-03-1777279500-10
SUMMARY:JUR (Vorlesung)
LOCATION:NK: 1.12
DESCRIPTION:Course: DBWI-03_6_6.Block\nType: Vorlesung\nModule/Group:
  JUR\nLocation: NK: 1.12
DTSTART:20260427T084500Z
DTEND:20260427T101500Z
END:VEVENT
BEGIN:VEVENT
UID:DBWI-03-1777554000-11
SUMMARY:PPS (Testat)
LOCATION:NK: EDV 3.16
DESCRIPTION:Course: DBWI-03_6_6.Block\nType: Testat\nModule/Group:
  PPS\nLocation: NK: EDV 3.16
DTSTART:20260430T130000Z
DTEND:20260430T140000Z
END:VEVENT
BEGIN:VEVENT
UID:DBWI-03-1777559400-12
SUMMARY:MAR (Vorlesung)
LOCATION:NK: 2.13
DESCRIPTION:Course: DBWI-03_6_6.Block\nType: Vorlesung\nModule/Group:
  MAR\nLocation: NK: 2.13
DTSTART:20260430T143000Z
DTEND:20260430T160000Z
END:VEVENT
BEGIN:VEVENT
UID:DBWI-03-1777565700-13
SUMMARY:MAR (Vorlesung)
LOCATION:NK: 2.13
DESCRIPTION:Course: DBWI-03_6_6.Block\nType: Vorlesung\nModule/Group:
  MAR\nLocation: NK: 2.13
DTSTART:20260430T161500Z
DTEND:20260430T174500Z
END:VEVENT
BEGIN:VEVENT
UID:DBWI-03-1777884300-14
SUMMARY:TK IND 4.0 (Teilklausur eines Moduls)
LOCATION:NK: 1.07
DESCRIPTION:Course: DBWI-03_6_6.Block\nType: Teilklausur eines
  Moduls\nModule/Group: TK IND 4.0\nLocation: NK: 1.07
DTSTART:20260504T084500Z
DTEND:20260504T101500Z
END:VEVENT
BEGIN:VEVENT
UID:DBWI-03-1777892400-15
SUMMARY:JUR (Vorlesung)
LOCATION:NK: 2.14
DESCRIPTION:Course: DBWI-03_6_6.Block\nType: Vorlesung\nModule/Group:
  JUR\nLocation: NK: 2.14
DTSTART:20260504T110000Z
DTEND:20260504T123000Z
END:VEVENT
BEGIN:VEVENT
UID:DBWI-03-1777978800-16
SUMMARY:ABB (Vorlesung)
LOCATION:NK: 2.11
DESCRIPTION:Course: DBWI-03_6_6.Block\nType: Vorlesung\nModule/Group:
  ABB\nLocation: NK: 2.11
DTSTART:20260505T110000Z
DTEND:20260505T123000Z
END:VEVENT
BEGIN:VEVENT
UID:DBWI-03-1778065200-17
SUMMARY:VER (Vorlesung)
LOCATION:EXT: Online
DESCRIPTION:Course: DBWI-03_6_6.Block\nType: Vorlesung\nModule/Group:
  VER\nLocation: EXT: Online
DTSTART:20260506T110000Z
DTEND:20260506T123000Z
END:VEVENT
BEGIN:VEVENT
UID:DBWI-03-1778151600-18
SUMMARY:VER (Vorlesung)
LOCATION:EXT: Online
DESCRIPTION:Course: DBWI-03_6_6.Block\nType: Vorlesung\nModule/Group:
  VER\nLocation: EXT: Online
DTSTART:20260507T110000Z
DTEND:20260507T123000Z
END:VEVENT
BEGIN:VEVENT
UID:DBWI-03-1778238000-19
SUMMARY:VER (Vorlesung)
LOCATION:EXT: Online
DESCRIPTION:Course: DBWI-03_6_6.Block\nType: Vorlesung\nModule/Group:
  VER\nLocation: EXT: Online
DTSTART:20260508T110000Z
DTEND:20260508T123000Z
END:VEVENT
BEGIN:VEVENT
UID:DBWI-03-1777898700-20
SUMMARY:JUR (Vorlesung)
LOCATION:NK: 2.14
DESCRIPTION:Course: DBWI-03_6_6.Block\nType: Vorlesung\nModule/Group:
  JUR\nLocation: NK: 2.14
DTSTART:20260504T124500Z
DTEND:20260504T141500Z
END:VEVENT
BEGIN:VEVENT
UID:DBWI-03-1777985100-21
SUMMARY:ABB (Vorlesung)
LOCATION:NK: 2.11
DESCRIPTION:Course: DBWI-03_6_6.Block\nType: Vorlesung\nModule/Group:
  ABB\nLocation: NK: 2.11
DTSTART:20260505T124500Z
DTEND:20260505T141500Z
END:VEVENT
BEGIN:VEVENT
UID:DBWI-03-1778071500-22
SUMMARY:VER (Vorlesung)
LOCATION:EXT: Online
DESCRIPTION:Course: DBWI-03_6_6.Block\nType: Vorlesung\nModule/Group:
  VER\nLocation: EXT: Online
DTSTART:20260506T124500Z
DTEND:20260506T141500Z
END:VEVENT
BEGIN:VEVENT
UID:DBWI-03-1778157900-23
SUMMARY:VER (Vorlesung)
LOCATION:EXT: Online
DESCRIPTION:Course: DBWI-03_6_6.Block\nType: Vorlesung\nModule/Group:
  VER\nLocation: EXT: Online
DTSTART:20260507T124500Z
DTEND:20260507T141500Z
END:VEVENT
BEGIN:VEVENT
UID:DBWI-03-1777991400-24
SUMMARY:MAR (Vorlesung)
LOCATION:NK: 2.11
DESCRIPTION:Course: DBWI-03_6_6.Block\nType: Vorlesung\nModule/Group:
  MAR\nLocation: NK: 2.11
DTSTART:20260505T143000Z
DTEND:20260505T160000Z
END:VEVENT
BEGIN:VEVENT
UID:DBWI-03-1778077800-25
SUMMARY:VWL (Vorlesung)
LOCATION:EXT: Online
DESCRIPTION:Course: DBWI-03_6_6.Block\nType: Vorlesung\nModule/Group:
  VWL\nLocation: EXT: Online
DTSTART:20260506T143000Z
DTEND:20260506T160000Z
END:VEVENT
BEGIN:VEVENT
UID:DBWI-03-1778164200-26
SUMMARY:VWL (Vorlesung)
LOCATION:EXT: Online
DESCRIPTION:Course: DBWI-03_6_6.Block\nType: Vorlesung\nModule/Group:
  VWL\nLocation: EXT: Online
DTSTART:20260507T143000Z
DTEND:20260507T160000Z
END:VEVENT
BEGIN:VEVENT
UID:DBWI-03-1777997700-27
SUMMARY:MAR (Vorlesung)
LOCATION:NK: 2.11
DESCRIPTION:Course: DBWI-03_6_6.Block\nType: Vorlesung\nModule/Group:
  MAR\nLocation: NK: 2.11
DTSTART:20260505T161500Z
DTEND:20260505T174500Z
END:VEVENT
BEGIN:VEVENT
UID:DBWI-03-1778084100-28
SUMMARY:VWL (Vorlesung)
LOCATION:EXT: Online
DESCRIPTION:Course: DBWI-03_6_6.Block\nType: Vorlesung\nModule/Group:
  VWL\nLocation: EXT: Online
DTSTART:20260506T161500Z
DTEND:20260506T174500Z
END:VEVENT
BEGIN:VEVENT
UID:DBWI-03-1778170500-29
SUMMARY:VWL (Vorlesung)
LOCATION:EXT: Online
DESCRIPTION:Course: DBWI-03_6_6.Block\nType: Vorlesung\nModule/Group:
  VWL\nLocation: EXT: Online
DTSTART:20260507T161500Z
DTEND:20260507T174500Z
END:VEVENT
BEGIN:VEVENT
UID:DBWI-03-1778655600-30
SUMMARY:JUR (Vorlesung)
LOCATION:NK: 2.11
DESCRIPTION:Course: DBWI-03_6_6.Block\nType: Vorlesung\nModule/Group:
  JUR\nLocation: NK: 2.11
DTSTART:20260513T070000Z
DTEND:20260513T083000Z
END:VEVENT
BEGIN:VEVENT
UID:DBWI-03-1778661900-31
SUMMARY:JUR (Vorlesung)
LOCATION:NK: 2.11
DESCRIPTION:Course: DBWI-03_6_6.Block\nType: Vorlesung\nModule/Group:
  JUR\nLocation: NK: 2.11
DTSTART:20260513T084500Z
DTEND:20260513T101500Z
END:VEVENT
BEGIN:VEVENT
UID:DBWI-03-1778497200-32
SUMMARY:JUR (Vorlesung)
LOCATION:NK: 2.14
DESCRIPTION:Course: DBWI-03_6_6.Block\nType: Vorlesung\nModule/Group:
  JUR\nLocation: NK: 2.14
DTSTART:20260511T110000Z
DTEND:20260511T123000Z
END:VEVENT
BEGIN:VEVENT
UID:DBWI-03-1778583600-33
SUMMARY:VWL (Vorlesung)
LOCATION:EXT: Online
DESCRIPTION:Course: DBWI-03_6_6.Block\nType: Vorlesung\nModule/Group:
  VWL\nLocation: EXT: Online
DTSTART:20260512T110000Z
DTEND:20260512T123000Z
END:VEVENT
BEGIN:VEVENT
UID:DBWI-03-1778670000-34
SUMMARY:ABB (Vorlesung)
LOCATION:NK: 2.11
DESCRIPTION:Course: DBWI-03_6_6.Block\nType: Vorlesung\nModule/Group:
  ABB\nLocation: NK: 2.11
DTSTART:20260513T110000Z
DTEND:20260513T123000Z
END:VEVENT
BEGIN:VEVENT
UID:DBWI-03-1778503500-35
SUMMARY:JUR (Vorlesung)
LOCATION:NK: 2.14
DESCRIPTION:Course: DBWI-03_6_6.Block\nType: Vorlesung\nModule/Group:
  JUR\nLocation: NK: 2.14
DTSTART:20260511T124500Z
DTEND:20260511T141500Z
END:VEVENT
BEGIN:VEVENT
UID:DBWI-03-1778589900-36
SUMMARY:VWL (Vorlesung)
LOCATION:EXT: Online
DESCRIPTION:Course: DBWI-03_6_6.Block\nType: Vorlesung\nModule/Group:
  VWL\nLocation: EXT: Online
DTSTART:20260512T124500Z
DTEND:20260512T141500Z
END:VEVENT
BEGIN:VEVENT
UID:DBWI-03-1778676300-37
SUMMARY:ABB (Vorlesung)
LOCATION:NK: 2.11
DESCRIPTION:Course: DBWI-03_6_6.Block\nType: Vorlesung\nModule/Group:
  ABB\nLocation: NK: 2.11
DTSTART:20260513T124500Z
DTEND:20260513T141500Z
END:VEVENT
BEGIN:VEVENT
UID:DBWI-03-1778509800-38
SUMMARY:MAR (Vorlesung)
LOCATION:NK: 2.14
DESCRIPTION:Course: DBWI-03_6_6.Block\nType: Vorlesung\nModule/Group:
  MAR\nLocation: NK: 2.14
DTSTART:20260511T143000Z
DTEND:20260511T160000Z
END:VEVENT
BEGIN:VEVENT
UID:DBWI-03-1778596200-39
SUMMARY:MAR (Vorlesung)
LOCATION:EXT: Online
DESCRIPTION:Course: DBWI-03_6_6.Block\nType: Vorlesung\nModule/Group:
  MAR\nLocation: EXT: Online
DTSTART:20260512T143000Z
DTEND:20260512T160000Z
END:VEVENT
BEGIN:VEVENT
UID:DBWI-03-1778516100-40
SUMMARY:MAR (Vorlesung)
LOCATION:NK: 2.14
DESCRIPTION:Course: DBWI-03_6_6.Block\nType: Vorlesung\nModule/Group:
  MAR\nLocation: NK: 2.14
DTSTART:20260511T161500Z
DTEND:20260511T174500Z
END:VEVENT
BEGIN:VEVENT
UID:DBWI-03-1779087600-41
SUMMARY:MP JUR & VWL (Klausur)
LOCATION:NK: 1.01
DESCRIPTION:Course: DBWI-03_6_6.Block\nType: Klausur\nModule/Group: MP JUR
  & VWL\nLocation: NK: 1.01
DTSTART:20260518T070000Z
DTEND:20260518T100000Z
END:VEVENT
BEGIN:VEVENT
UID:DBWI-03-1779174000-42
SUMMARY:ABB (Vorlesung)
LOCATION:NK: 2.11
DESCRIPTION:Course: DBWI-03_6_6.Block\nType: Vorlesung\nModule/Group:
  ABB\nLocation: NK: 2.11
DTSTART:20260519T070000Z
DTEND:20260519T083000Z
END:VEVENT
BEGIN:VEVENT
UID:DBWI-03-1779180300-43
SUMMARY:ABB (Vorlesung)
LOCATION:NK: 2.11
DESCRIPTION:Course: DBWI-03_6_6.Block\nType: Vorlesung\nModule/Group:
  ABB\nLocation: NK: 2.11
DTSTART:20260519T084500Z
DTEND:20260519T101500Z
END:VEVENT
BEGIN:VEVENT
UID:DBWI-03-1779102000-44
SUMMARY:ABB (Vorlesung)
LOCATION:NK: 2.11
DESCRIPTION:Course: DBWI-03_6_6.Block\nType: Vorlesung\nModule/Group:
  ABB\nLocation: NK: 2.11
DTSTART:20260518T110000Z
DTEND:20260518T123000Z
END:VEVENT
BEGIN:VEVENT
UID:DBWI-03-1779447600-45
SUMMARY:MAR & VER (Klausur)
LOCATION:NK: 1.02
DESCRIPTION:Course: DBWI-03_6_6.Block\nType: Klausur\nModule/Group: MAR &
  VER\nLocation: NK: 1.02
DTSTART:20260522T110000Z
DTEND:20260522T123000Z
END:VEVENT
BEGIN:VEVENT
UID:DBWI-03-1779108300-46
SUMMARY:ABB (Vorlesung)
LOCATION:NK: 2.11
DESCRIPTION:Course: DBWI-03_6_6.Block\nType: Vorlesung\nModule/Group:
  ABB\nLocation: NK: 2.11
DTSTART:20260518T124500Z
DTEND:20260518T141500Z
END:VEVENT
BEGIN:VEVENT
UID:DBWI-03-1780124400-47
SUMMARY:ABB (Klausur)
LOCATION:NK: 1.07
DESCRIPTION:Course: DBWI-03_6_6.Block\nType: Klausur\nModule/Group:
  ABB\nLocation: NK: 1.07
DTSTART:20260530T070000Z
DTEND:20260530T083000Z
END:VEVENT
BEGIN:VEVENT
UID:DBWI-03-1782543600-48
SUMMARY:Zentr. NK/WK FB T (Zentraler Nachschreibetermin FB T)
DESCRIPTION:Course: DBWI-03_6_6.Block\nType: Zentraler Nachschreibetermin
  FB T\nModule/Group: Zentr. NK/WK FB T
DTSTART:20260627T070000Z
DTEND:20260627T141500Z
END:VEVENT
BEGIN:VEVENT
UID:DBWI-03-1786372200-49
SUMMARY:Zentr. NK/WK FB T (Zentraler Nachschreibetermin FB T)
DESCRIPTION:Course: DBWI-03_6_6.Block\nType: Zentraler Nachschreibetermin
  FB T\nModule/Group: Zentr. NK/WK FB T
DTSTART:20260810T143000Z
DTEND:20260810T174500Z
END:VEVENT
BEGIN:VEVENT
UID:DBWI-03-1786458600-50
SUMMARY:Zentr. NK/WK FB T (Zentraler Nachschreibetermin FB T)
DESCRIPTION:Course: DBWI-03_6_6.Block\nType: Zentraler Nachschreibetermin
  FB T\nModule/Group: Zentr. NK/WK FB T
DTSTART:20260811T143000Z
DTEND:20260811T174500Z
END:VEVENT
BEGIN:VEVENT
UID:DBWI-03-1786545000-51
SUMMARY:Zentr. NK/WK FB T (Zentraler Nachschreibetermin FB T)
DESCRIPTION:Course: DBWI-03_6_6.Block\nType: Zentraler Nachschreibetermin
  FB T\nModule/Group: Zentr. NK/WK FB T
DTSTART:20260812T143000Z
DTEND:20260812T174500Z
END:VEVENT
BEGIN:VEVENT
UID:DBWI-03-1786631400-52
SUMMARY:Zentr. NK/WK FB T (Zentraler Nachschreibetermin FB T)
DESCRIPTION:Course: DBWI-03_6_6.Block\nType: Zentraler Nachschreibetermin
  FB T\nModule/Group: Zentr. NK/WK FB T
DTSTART:20260813T143000Z
DTEND:20260813T174500Z
END:VEVENT
BEGIN:VEVENT
UID:DBWI-03-1786717800-53
SUMMARY:Zentr. NK/WK FB T (Zentraler Nachschreibetermin FB T)
DESCRIPTION:Course: DBWI-03_6_6.Block\nType: Zentraler Nachschreibetermin
  FB T\nModule/Group: Zentr. NK/WK FB T
DTSTART:20260814T143000Z
DTEND:20260814T174500Z
END:VEVENT
BEGIN:VEVENT
UID:DBWI-03-1786977000-54
SUMMARY:Zentr. NK/WK FB T (Zentraler Nachschreibetermin FB T)
DESCRIPTION:Course: DBWI-03_6_6.Block\nType: Zentraler Nachschreibetermin
  FB T\nModule/Group: Zentr. NK/WK FB T
DTSTART:20260817T143000Z
DTEND:20260817T174500Z
END:VEVENT
BEGIN:VEVENT
UID:DBWI-03-1787063400-55
SUMMARY:Zentr. NK/WK FB T (Zentraler Nachschreibetermin FB T)
DESCRIPTION:Course: DBWI-03_6_6.Block\nType: Zentraler Nachschreibetermin
  FB T\nModule/Group: Zentr. NK/WK FB T
DTSTART:20260818T143000Z
DTEND:20260818T174500Z
END:VEVENT
BEGIN:VEVENT
UID:DBWI-03-1787149800-56
SUMMARY:Zentr. NK/WK FB T (Zentraler Nachschreibetermin FB T)
DESCRIPTION:Course: DBWI-03_6_6.Block\nType: Zentraler Nachschreibetermin
  FB T\nModule/Group: Zentr. NK/WK FB T
DTSTART:20260819T143000Z
DTEND:20260819T174500Z
END:VEVENT
BEGIN:VEVENT
UID:DBWI-03-1787236200-57
SUMMARY:Zentr. NK/WK FB T (Zentraler Nachschreibetermin FB T)
DESCRIPTION:Course: DBWI-03_6_6.Block\nType: Zentraler Nachschreibetermin
  FB T\nModule/Group: Zentr. NK/WK FB T
DTSTART:20260820T143000Z
DTEND:20260820T174500Z
END:VEVENT
BEGIN:VEVENT
UID:DBWI-03-1787322600-58
SUMMARY:Zentr. NK/WK FB T (Zentraler Nachschreibetermin FB T)
DESCRIPTION:Course: DBWI-03_6_6.Block\nType: Zentraler Nachschreibetermin
  FB T\nModule/Group: Zentr. NK/WK FB T
DTSTART:20260821T143000Z
DTEND:20260821T174500Z
END:VEVENT
BEGIN:VEVENT
UID:DBWI-03-1787581800-59
SUMMARY:Zentr. NK/WK FB T (Zentraler Nachschreibetermin FB T)
DESCRIPTION:Course: DBWI-03_6_6.Block\nType: Zentraler Nachschreibetermin
  FB T\nModule/Group: Zentr. NK/WK FB T
DTSTART:20260824T143000Z
DTEND:20260824T174500Z
END:VEVENT
BEGIN:VEVENT
UID:DBWI-03-1787668200-60
SUMMARY:Zentr. NK/WK FB T (Zentraler Nachschreibetermin FB T)
DESCRIPTION:Course: DBWI-03_6_6.Block\nType: Zentraler Nachschreibetermin
  FB T\nModule/Group: Zentr. NK/WK FB T
DTSTART:20260825T143000Z
DTEND:20260825T174500Z
END:VEVENT
BEGIN:VEVENT
UID:DBWI-03-1787754600-61
SUMMARY:Zentr. NK/WK FB T (Zentraler Nachschreibetermin FB T)
DESCRIPTION:Course: DBWI-03_6_6.Block\nType: Zentraler Nachschreibetermin
  FB T\nModule/Group: Zentr. NK/WK FB T
DTSTART:20260826T143000Z
DTEND:20260826T174500Z
END:VEVENT
BEGIN:VEVENT
UID:DBWI-03-1787841000-62
SUMMARY:Zentr. NK/WK FB T (Zentraler Nachschreibetermin FB T)
DESCRIPTION:Course: DBWI-03_6_6.Block\nType: Zentraler Nachschreibetermin
  FB T\nModule/Group: Zentr. NK/WK FB T
DTSTART:20260827T143000Z
DTEND:20260827T174500Z
END:VEVENT
BEGIN:VEVENT
UID:DBWI-03-1787927400-63
SUMMARY:Zentr. NK/WK FB T (Zentraler Nachschreibetermin FB T)
DESCRIPTION:Course: DBWI-03_6_6.Block\nType: Zentraler Nachschreibetermin
  FB T\nModule/Group: Zentr. NK/WK FB T
DTSTART:20260828T143000Z
DTEND:20260828T174500Z
END:VEVENT
END:VCALENDAR
