BEGIN:VCALENDAR
VERSION:2.0
PRODID:-//ASW Schedule Exporter//EN
NAME:ASW Schedule DBMAB-05
X-WR-CALNAME:ASW Schedule DBMAB-05
TZID:Europe/Berlin
BEGIN:VEVENT
UID:DBMAB-05-1772184600-0
SUMMARY:NWG (Klausur)
LOCATION:NK: 1.07
DESCRIPTION:Course: DBMAB-05_1_1.Block\nType: Klausur\nModule/Group:
  NWG\nLocation: NK: 1.07
DTSTART:20260227T093000Z
DTEND:20260227T113000Z
END:VEVENT
BEGIN:VEVENT
UID:DBMAB-05-1772195400-1
SUMMARY:THDW (Vorlesung)
LOCATION:NK: 1.07
DESCRIPTION:Course: DBMAB-05_1_1.Block\nType: Vorlesung\nModule/Group:
  THDW\nLocation: NK: 1.07
DTSTART:20260227T123000Z
DTEND:20260227T140000Z
END:VEVENT
BEGIN:VEVENT
UID:DBMAB-05-1771940700-2
SUMMARY:KL (Klausur)
LOCATION:NK: 1.07
DESCRIPTION:Course: DBMAB-05_1_1.Block\nType: Klausur\nModule/Group:
  KL\nLocation: NK: 1.07\nKlausurteil einer Portfolioprüfung: 72 Min.
DTSTART:20260224T134500Z
DTEND:20260224T145500Z
END:VEVENT
BEGIN:VEVENT
UID:DBMAB-05-1772201700-3
SUMMARY:THDW (Vorlesung)
LOCATION:NK: 1.07
DESCRIPTION:Course: DBMAB-05_1_1.Block\nType: Vorlesung\nModule/Group:
  THDW\nLocation: NK: 1.07
DTSTART:20260227T141500Z
DTEND:20260227T154500Z
END:VEVENT
BEGIN:VEVENT
UID:DBMAB-05-1771946100-4
SUMMARY:CAD I (Klausur)
LOCATION:NK: EDV 2.09
DESCRIPTION:Course: DBMAB-05_1_1.Block\nType: Klausur\nModule/Group: CAD
  I\nLocation: NK: EDV 2.09\nKlausurteil einer Portfolioprüfung CAD I: 48
  Min.
DTSTART:20260224T151500Z
DTEND:20260224T160500Z
END:VEVENT
BEGIN:VEVENT
UID:DBMAB-05-1776668400-5
SUMMARY:CAD II (Vorlesung)
LOCATION:NK: EDV 2.09
DESCRIPTION:Course: DBMAB-05_2_2.Block\nType: Vorlesung\nModule/Group: CAD
  II\nLocation: NK: EDV 2.09
DTSTART:20260420T070000Z
DTEND:20260420T083000Z
END:VEVENT
BEGIN:VEVENT
UID:DBMAB-05-1776841200-6
SUMMARY:ENG I B2 (Vorlesung)
LOCATION:NK: 2.11
DESCRIPTION:Course: DBMAB-05_2_2.Block\nType: Vorlesung\nModule/Group: ENG
  I B2\nLocation: NK: 2.11
DTSTART:20260422T070000Z
DTEND:20260422T083000Z
END:VEVENT
BEGIN:VEVENT
UID:DBMAB-05-1776841200-7
SUMMARY:ENG I C1 (Vorlesung)
LOCATION:NK: 2.08
DESCRIPTION:Course: DBMAB-05_2_2.Block\nType: Vorlesung\nModule/Group: ENG
  I C1\nLocation: NK: 2.08
DTSTART:20260422T070000Z
DTEND:20260422T083000Z
END:VEVENT
BEGIN:VEVENT
UID:DBMAB-05-1777014000-8
SUMMARY:THDG (Vorlesung)
LOCATION:NK: 1.07
DESCRIPTION:Course: DBMAB-05_2_2.Block\nType: Vorlesung\nModule/Group:
  THDG\nLocation: NK: 1.07
DTSTART:20260424T070000Z
DTEND:20260424T083000Z
END:VEVENT
BEGIN:VEVENT
UID:DBMAB-05-1776674700-9
SUMMARY:CAD II (Vorlesung)
LOCATION:NK: EDV 2.09
DESCRIPTION:Course: DBMAB-05_2_2.Block\nType: Vorlesung\nModule/Group: CAD
  II\nLocation: NK: EDV 2.09
DTSTART:20260420T084500Z
DTEND:20260420T101500Z
END:VEVENT
BEGIN:VEVENT
UID:DBMAB-05-1776847500-10
SUMMARY:ENG I B2 (Vorlesung)
LOCATION:NK: 2.11
DESCRIPTION:Course: DBMAB-05_2_2.Block\nType: Vorlesung\nModule/Group: ENG
  I B2\nLocation: NK: 2.11
DTSTART:20260422T084500Z
DTEND:20260422T101500Z
END:VEVENT
BEGIN:VEVENT
UID:DBMAB-05-1776847500-11
SUMMARY:ENG I C1 (Vorlesung)
LOCATION:NK: 2.08
DESCRIPTION:Course: DBMAB-05_2_2.Block\nType: Vorlesung\nModule/Group: ENG
  I C1\nLocation: NK: 2.08
DTSTART:20260422T084500Z
DTEND:20260422T101500Z
END:VEVENT
BEGIN:VEVENT
UID:DBMAB-05-1777020300-12
SUMMARY:THDG (Vorlesung)
LOCATION:NK: 1.07
DESCRIPTION:Course: DBMAB-05_2_2.Block\nType: Vorlesung\nModule/Group:
  THDG\nLocation: NK: 1.07
DTSTART:20260424T084500Z
DTEND:20260424T101500Z
END:VEVENT
BEGIN:VEVENT
UID:DBMAB-05-1776682800-13
SUMMARY:MAT II (Vorlesung)
LOCATION:NK: 1.05
DESCRIPTION:Course: DBMAB-05_2_2.Block\nType: Vorlesung\nModule/Group: MAT
  II\nLocation: NK: 1.05
DTSTART:20260420T110000Z
DTEND:20260420T123000Z
END:VEVENT
BEGIN:VEVENT
UID:DBMAB-05-1776689100-14
SUMMARY:MAT II (Vorlesung)
LOCATION:NK: 1.05
DESCRIPTION:Course: DBMAB-05_2_2.Block\nType: Vorlesung\nModule/Group: MAT
  II\nLocation: NK: 1.05
DTSTART:20260420T124500Z
DTEND:20260420T141500Z
END:VEVENT
BEGIN:VEVENT
UID:DBMAB-05-1776695400-15
SUMMARY:MAT II Ü (Übung)
LOCATION:NK: 1.05
DESCRIPTION:Course: DBMAB-05_2_2.Block\nType: Übung\nModule/Group: MAT II
  Ü\nLocation: NK: 1.05
DTSTART:20260420T143000Z
DTEND:20260420T160000Z
END:VEVENT
BEGIN:VEVENT
UID:DBMAB-05-1776781800-16
SUMMARY:ME I (Vorlesung)
LOCATION:NK: 1.06
DESCRIPTION:Course: DBMAB-05_2_2.Block\nType: Vorlesung\nModule/Group: ME
  I\nLocation: NK: 1.06
DTSTART:20260421T143000Z
DTEND:20260421T160000Z
END:VEVENT
BEGIN:VEVENT
UID:DBMAB-05-1776868200-17
SUMMARY:TM II Ü (Übung)
LOCATION:EXT: Online
DESCRIPTION:Course: DBMAB-05_2_2.Block\nType: Übung\nModule/Group: TM II
  Ü\nLocation: EXT: Online
DTSTART:20260422T143000Z
DTEND:20260422T160000Z
END:VEVENT
BEGIN:VEVENT
UID:DBMAB-05-1777041000-18
SUMMARY:HA (Hausarbeit)
LOCATION:EXT: Online
DESCRIPTION:Course: DBMAB-05_2_2.Block\nType: Hausarbeit\nModule/Group:
  HA\nLocation: EXT: Online
DTSTART:20260424T143000Z
DTEND:20260424T160000Z
END:VEVENT
BEGIN:VEVENT
UID:DBMAB-05-1776788100-19
SUMMARY:ME I (Vorlesung)
LOCATION:NK: 1.06
DESCRIPTION:Course: DBMAB-05_2_2.Block\nType: Vorlesung\nModule/Group: ME
  I\nLocation: NK: 1.06
DTSTART:20260421T161500Z
DTEND:20260421T174500Z
END:VEVENT
BEGIN:VEVENT
UID:DBMAB-05-1776874500-20
SUMMARY:TM II Ü (Übung)
LOCATION:EXT: Online
DESCRIPTION:Course: DBMAB-05_2_2.Block\nType: Übung\nModule/Group: TM II
  Ü\nLocation: EXT: Online
DTSTART:20260422T161500Z
DTEND:20260422T174500Z
END:VEVENT
BEGIN:VEVENT
UID:DBMAB-05-1777446000-21
SUMMARY:ENG I B2 (Vorlesung)
LOCATION:NK: 2.14
DESCRIPTION:Course: DBMAB-05_2_2.Block\nType: Vorlesung\nModule/Group: ENG
  I B2\nLocation: NK: 2.14
DTSTART:20260429T070000Z
DTEND:20260429T083000Z
END:VEVENT
BEGIN:VEVENT
UID:DBMAB-05-1777446000-22
SUMMARY:ENG I C1 (Vorlesung)
LOCATION:NK: 2.04
DESCRIPTION:Course: DBMAB-05_2_2.Block\nType: Vorlesung\nModule/Group: ENG
  I C1\nLocation: NK: 2.04
DTSTART:20260429T070000Z
DTEND:20260429T083000Z
END:VEVENT
BEGIN:VEVENT
UID:DBMAB-05-1777532400-23
SUMMARY:THDG Ü (Übung)
LOCATION:NK: 2.13
DESCRIPTION:Course: DBMAB-05_2_2.Block\nType: Übung\nModule/Group: THDG
  Ü\nLocation: NK: 2.13
DTSTART:20260430T070000Z
DTEND:20260430T083000Z
END:VEVENT
BEGIN:VEVENT
UID:DBMAB-05-1777452300-24
SUMMARY:ENG I B2 (Vorlesung)
LOCATION:NK: 2.14
DESCRIPTION:Course: DBMAB-05_2_2.Block\nType: Vorlesung\nModule/Group: ENG
  I B2\nLocation: NK: 2.14
DTSTART:20260429T084500Z
DTEND:20260429T101500Z
END:VEVENT
BEGIN:VEVENT
UID:DBMAB-05-1777452300-25
SUMMARY:ENG I C1 (Vorlesung)
LOCATION:NK: 2.04
DESCRIPTION:Course: DBMAB-05_2_2.Block\nType: Vorlesung\nModule/Group: ENG
  I C1\nLocation: NK: 2.04
DTSTART:20260429T084500Z
DTEND:20260429T101500Z
END:VEVENT
BEGIN:VEVENT
UID:DBMAB-05-1777538700-26
SUMMARY:THDG Ü (Übung)
LOCATION:NK: 2.13
DESCRIPTION:Course: DBMAB-05_2_2.Block\nType: Übung\nModule/Group: THDG
  Ü\nLocation: NK: 2.13
DTSTART:20260430T084500Z
DTEND:20260430T101500Z
END:VEVENT
BEGIN:VEVENT
UID:DBMAB-05-1777287600-27
SUMMARY:MAT II (Vorlesung)
LOCATION:NK: 1.07
DESCRIPTION:Course: DBMAB-05_2_2.Block\nType: Vorlesung\nModule/Group: MAT
  II\nLocation: NK: 1.07
DTSTART:20260427T110000Z
DTEND:20260427T123000Z
END:VEVENT
BEGIN:VEVENT
UID:DBMAB-05-1777460400-28
SUMMARY:THDG (Vorlesung)
LOCATION:NK: 2.04
DESCRIPTION:Course: DBMAB-05_2_2.Block\nType: Vorlesung\nModule/Group:
  THDG\nLocation: NK: 2.04
DTSTART:20260429T110000Z
DTEND:20260429T123000Z
END:VEVENT
BEGIN:VEVENT
UID:DBMAB-05-1777546800-29
SUMMARY:TM II Ü (Übung)
LOCATION:NK: 2.13
DESCRIPTION:Course: DBMAB-05_2_2.Block\nType: Übung\nModule/Group: TM II
  Ü\nLocation: NK: 2.13
DTSTART:20260430T110000Z
DTEND:20260430T123000Z
END:VEVENT
BEGIN:VEVENT
UID:DBMAB-05-1777293900-30
SUMMARY:MAT II (Vorlesung)
LOCATION:NK: 1.07
DESCRIPTION:Course: DBMAB-05_2_2.Block\nType: Vorlesung\nModule/Group: MAT
  II\nLocation: NK: 1.07
DTSTART:20260427T124500Z
DTEND:20260427T141500Z
END:VEVENT
BEGIN:VEVENT
UID:DBMAB-05-1777466700-31
SUMMARY:THDG (Vorlesung)
LOCATION:NK: 2.04
DESCRIPTION:Course: DBMAB-05_2_2.Block\nType: Vorlesung\nModule/Group:
  THDG\nLocation: NK: 2.04
DTSTART:20260429T124500Z
DTEND:20260429T141500Z
END:VEVENT
BEGIN:VEVENT
UID:DBMAB-05-1777553100-32
SUMMARY:TM II Ü (Übung)
LOCATION:NK: 2.13
DESCRIPTION:Course: DBMAB-05_2_2.Block\nType: Übung\nModule/Group: TM II
  Ü\nLocation: NK: 2.13
DTSTART:20260430T124500Z
DTEND:20260430T141500Z
END:VEVENT
BEGIN:VEVENT
UID:DBMAB-05-1777300200-33
SUMMARY:MAT II Ü (Übung)
LOCATION:NK: 1.12
DESCRIPTION:Course: DBMAB-05_2_2.Block\nType: Übung\nModule/Group: MAT II
  Ü\nLocation: NK: 1.12
DTSTART:20260427T143000Z
DTEND:20260427T160000Z
END:VEVENT
BEGIN:VEVENT
UID:DBMAB-05-1777386600-34
SUMMARY:ME I Ü (Übung)
LOCATION:NK: 1.06
DESCRIPTION:Course: DBMAB-05_2_2.Block\nType: Übung\nModule/Group: ME I
  Ü\nLocation: NK: 1.06
DTSTART:20260428T143000Z
DTEND:20260428T160000Z
END:VEVENT
BEGIN:VEVENT
UID:DBMAB-05-1777392900-35
SUMMARY:ME I Ü (Übung)
LOCATION:NK: 1.06
DESCRIPTION:Course: DBMAB-05_2_2.Block\nType: Übung\nModule/Group: ME I
  Ü\nLocation: NK: 1.06
DTSTART:20260428T161500Z
DTEND:20260428T174500Z
END:VEVENT
BEGIN:VEVENT
UID:DBMAB-05-1778310000-36
SUMMARY:CAD II (Klausur)
LOCATION:NK: EDV 2.09
DESCRIPTION:Course: DBMAB-05_2_2.Block\nType: Klausur\nModule/Group: CAD
  II\nLocation: NK: EDV 2.09\nKlausurteil einer Portfolioprüfung (48 Min.)
DTSTART:20260509T070000Z
DTEND:20260509T074500Z
END:VEVENT
BEGIN:VEVENT
UID:DBMAB-05-1778314500-37
SUMMARY:ME I (Klausur)
LOCATION:NK: 2.04
DESCRIPTION:Course: DBMAB-05_2_2.Block\nType: Klausur\nModule/Group: ME
  I\nLocation: NK: 2.04\nKlausurteil einer Portfolioprüfung: 72 Min.
DTSTART:20260509T081500Z
DTEND:20260509T092500Z
END:VEVENT
BEGIN:VEVENT
UID:DBMAB-05-1777885200-38
SUMMARY:TK THDW (Teilklausur eines Moduls)
LOCATION:NK: 1.01
DESCRIPTION:Course: DBMAB-05_2_2.Block\nType: Teilklausur eines
  Moduls\nModule/Group: TK THDW\nLocation: NK: 1.01
DTSTART:20260504T090000Z
DTEND:20260504T100000Z
END:VEVENT
BEGIN:VEVENT
UID:DBMAB-05-1777892400-39
SUMMARY:MAT II (Vorlesung)
LOCATION:NK: 1.07
DESCRIPTION:Course: DBMAB-05_2_2.Block\nType: Vorlesung\nModule/Group: MAT
  II\nLocation: NK: 1.07
DTSTART:20260504T110000Z
DTEND:20260504T123000Z
END:VEVENT
BEGIN:VEVENT
UID:DBMAB-05-1777978800-40
SUMMARY:TM II Ü (Übung)
LOCATION:EXT: Online
DESCRIPTION:Course: DBMAB-05_2_2.Block\nType: Übung\nModule/Group: TM II
  Ü\nLocation: EXT: Online
DTSTART:20260505T110000Z
DTEND:20260505T123000Z
END:VEVENT
BEGIN:VEVENT
UID:DBMAB-05-1778065200-41
SUMMARY:ENG I B2 (Vorlesung)
LOCATION:NK: 2.14
DESCRIPTION:Course: DBMAB-05_2_2.Block\nType: Vorlesung\nModule/Group: ENG
  I B2\nLocation: NK: 2.14
DTSTART:20260506T110000Z
DTEND:20260506T123000Z
END:VEVENT
BEGIN:VEVENT
UID:DBMAB-05-1778065200-42
SUMMARY:ENG I C1 (Vorlesung)
LOCATION:NK: 2.07
DESCRIPTION:Course: DBMAB-05_2_2.Block\nType: Vorlesung\nModule/Group: ENG
  I C1\nLocation: NK: 2.07
DTSTART:20260506T110000Z
DTEND:20260506T123000Z
END:VEVENT
BEGIN:VEVENT
UID:DBMAB-05-1777898700-43
SUMMARY:MAT II (Vorlesung)
LOCATION:NK: 1.07
DESCRIPTION:Course: DBMAB-05_2_2.Block\nType: Vorlesung\nModule/Group: MAT
  II\nLocation: NK: 1.07
DTSTART:20260504T124500Z
DTEND:20260504T141500Z
END:VEVENT
BEGIN:VEVENT
UID:DBMAB-05-1777985100-44
SUMMARY:TM II Ü (Übung)
LOCATION:EXT: Online
DESCRIPTION:Course: DBMAB-05_2_2.Block\nType: Übung\nModule/Group: TM II
  Ü\nLocation: EXT: Online
DTSTART:20260505T124500Z
DTEND:20260505T141500Z
END:VEVENT
BEGIN:VEVENT
UID:DBMAB-05-1778071500-45
SUMMARY:ENG I B2 (Vorlesung)
LOCATION:NK: 2.14
DESCRIPTION:Course: DBMAB-05_2_2.Block\nType: Vorlesung\nModule/Group: ENG
  I B2\nLocation: NK: 2.14
DTSTART:20260506T124500Z
DTEND:20260506T141500Z
END:VEVENT
BEGIN:VEVENT
UID:DBMAB-05-1778071500-46
SUMMARY:ENG I C1 (Vorlesung)
LOCATION:NK: 2.07
DESCRIPTION:Course: DBMAB-05_2_2.Block\nType: Vorlesung\nModule/Group: ENG
  I C1\nLocation: NK: 2.07
DTSTART:20260506T124500Z
DTEND:20260506T141500Z
END:VEVENT
BEGIN:VEVENT
UID:DBMAB-05-1777991400-47
SUMMARY:HA (Hausarbeit)
LOCATION:EXT: Online
DESCRIPTION:Course: DBMAB-05_2_2.Block\nType: Hausarbeit\nModule/Group:
  HA\nLocation: EXT: Online
DTSTART:20260505T143000Z
DTEND:20260505T160000Z
END:VEVENT
BEGIN:VEVENT
UID:DBMAB-05-1778077800-48
SUMMARY:TM II (Vorlesung)
LOCATION:NK: 2.14
DESCRIPTION:Course: DBMAB-05_2_2.Block\nType: Vorlesung\nModule/Group: TM
  II\nLocation: NK: 2.14
DTSTART:20260506T143000Z
DTEND:20260506T160000Z
END:VEVENT
BEGIN:VEVENT
UID:DBMAB-05-1778164200-49
SUMMARY:TM II (Vorlesung)
LOCATION:NK: 2.13
DESCRIPTION:Course: DBMAB-05_2_2.Block\nType: Vorlesung\nModule/Group: TM
  II\nLocation: NK: 2.13
DTSTART:20260507T143000Z
DTEND:20260507T160000Z
END:VEVENT
BEGIN:VEVENT
UID:DBMAB-05-1778084100-50
SUMMARY:TM II (Vorlesung)
LOCATION:NK: 2.14
DESCRIPTION:Course: DBMAB-05_2_2.Block\nType: Vorlesung\nModule/Group: TM
  II\nLocation: NK: 2.14
DTSTART:20260506T161500Z
DTEND:20260506T174500Z
END:VEVENT
BEGIN:VEVENT
UID:DBMAB-05-1778170500-51
SUMMARY:TM II (Vorlesung)
LOCATION:NK: 2.13
DESCRIPTION:Course: DBMAB-05_2_2.Block\nType: Vorlesung\nModule/Group: TM
  II\nLocation: NK: 2.13
DTSTART:20260507T161500Z
DTEND:20260507T174500Z
END:VEVENT
BEGIN:VEVENT
UID:DBMAB-05-1778662800-52
SUMMARY:ENG I B2 (Klausur)
LOCATION:NK: 2.14
DESCRIPTION:Course: DBMAB-05_2_2.Block\nType: Klausur\nModule/Group: ENG I
  B2\nLocation: NK: 2.14
DTSTART:20260513T090000Z
DTEND:20260513T100000Z
END:VEVENT
BEGIN:VEVENT
UID:DBMAB-05-1778662800-53
SUMMARY:ENG I C1 (Klausur)
LOCATION:NK: 2.07
DESCRIPTION:Course: DBMAB-05_2_2.Block\nType: Klausur\nModule/Group: ENG I
  C1\nLocation: NK: 2.07
DTSTART:20260513T090000Z
DTEND:20260513T100000Z
END:VEVENT
BEGIN:VEVENT
UID:DBMAB-05-1778497200-54
SUMMARY:ENG I C1 (Vorlesung)
LOCATION:NK: 1.05
DESCRIPTION:Course: DBMAB-05_2_2.Block\nType: Vorlesung\nModule/Group: ENG
  I C1\nLocation: NK: 1.05
DTSTART:20260511T110000Z
DTEND:20260511T123000Z
END:VEVENT
BEGIN:VEVENT
UID:DBMAB-05-1778503500-55
SUMMARY:ENG I C1 (Vorlesung)
LOCATION:NK: 1.05
DESCRIPTION:Course: DBMAB-05_2_2.Block\nType: Vorlesung\nModule/Group: ENG
  I C1\nLocation: NK: 1.05
DTSTART:20260511T124500Z
DTEND:20260511T141500Z
END:VEVENT
BEGIN:VEVENT
UID:DBMAB-05-1778509800-56
SUMMARY:MAT II Ü (Übung)
LOCATION:NK: 1.12
DESCRIPTION:Course: DBMAB-05_2_2.Block\nType: Übung\nModule/Group: MAT II
  Ü\nLocation: NK: 1.12
DTSTART:20260511T143000Z
DTEND:20260511T160000Z
END:VEVENT
BEGIN:VEVENT
UID:DBMAB-05-1778682600-57
SUMMARY:TM II Ü (Übung)
LOCATION:EXT: Online
DESCRIPTION:Course: DBMAB-05_2_2.Block\nType: Übung\nModule/Group: TM II
  Ü\nLocation: EXT: Online
DTSTART:20260513T143000Z
DTEND:20260513T160000Z
END:VEVENT
BEGIN:VEVENT
UID:DBMAB-05-1778516100-58
SUMMARY:MAT II Ü (Übung)
LOCATION:NK: 1.12
DESCRIPTION:Course: DBMAB-05_2_2.Block\nType: Übung\nModule/Group: MAT II
  Ü\nLocation: NK: 1.12
DTSTART:20260511T161500Z
DTEND:20260511T174500Z
END:VEVENT
BEGIN:VEVENT
UID:DBMAB-05-1778688900-59
SUMMARY:TM II Ü (Übung)
LOCATION:EXT: Online
DESCRIPTION:Course: DBMAB-05_2_2.Block\nType: Übung\nModule/Group: TM II
  Ü\nLocation: EXT: Online
DTSTART:20260513T161500Z
DTEND:20260513T174500Z
END:VEVENT
BEGIN:VEVENT
UID:DBMAB-05-1779260400-60
SUMMARY:THDG (Vorlesung)
LOCATION:NK: 1.10
DESCRIPTION:Course: DBMAB-05_2_2.Block\nType: Vorlesung\nModule/Group:
  THDG\nLocation: NK: 1.10
DTSTART:20260520T070000Z
DTEND:20260520T083000Z
END:VEVENT
BEGIN:VEVENT
UID:DBMAB-05-1779266700-61
SUMMARY:THDG (Vorlesung)
LOCATION:NK: 1.10
DESCRIPTION:Course: DBMAB-05_2_2.Block\nType: Vorlesung\nModule/Group:
  THDG\nLocation: NK: 1.10
DTSTART:20260520T084500Z
DTEND:20260520T101500Z
END:VEVENT
BEGIN:VEVENT
UID:DBMAB-05-1779102000-62
SUMMARY:MAT II (Vorlesung)
LOCATION:NK: 1.07
DESCRIPTION:Course: DBMAB-05_2_2.Block\nType: Vorlesung\nModule/Group: MAT
  II\nLocation: NK: 1.07
DTSTART:20260518T110000Z
DTEND:20260518T123000Z
END:VEVENT
BEGIN:VEVENT
UID:DBMAB-05-1779447600-63
SUMMARY:MAT II (Klausur)
LOCATION:NK: 1.01
DESCRIPTION:Course: DBMAB-05_2_2.Block\nType: Klausur\nModule/Group: MAT
  II\nLocation: NK: 1.01
DTSTART:20260522T110000Z
DTEND:20260522T130000Z
END:VEVENT
BEGIN:VEVENT
UID:DBMAB-05-1779108300-64
SUMMARY:MAT II (Vorlesung)
LOCATION:NK: 1.07
DESCRIPTION:Course: DBMAB-05_2_2.Block\nType: Vorlesung\nModule/Group: MAT
  II\nLocation: NK: 1.07
DTSTART:20260518T124500Z
DTEND:20260518T141500Z
END:VEVENT
BEGIN:VEVENT
UID:DBMAB-05-1779456600-65
SUMMARY:TM II (Vorlesung)
LOCATION:NK: 1.01
DESCRIPTION:Course: DBMAB-05_2_2.Block\nType: Vorlesung\nModule/Group: TM
  II\nLocation: NK: 1.01
DTSTART:20260522T133000Z
DTEND:20260522T150000Z
END:VEVENT
BEGIN:VEVENT
UID:DBMAB-05-1779114600-66
SUMMARY:MAT II Ü (Übung)
LOCATION:NK: 1.07
DESCRIPTION:Course: DBMAB-05_2_2.Block\nType: Übung\nModule/Group: MAT II
  Ü\nLocation: NK: 1.07
DTSTART:20260518T143000Z
DTEND:20260518T160000Z
END:VEVENT
BEGIN:VEVENT
UID:DBMAB-05-1779462900-67
SUMMARY:TM II (Vorlesung)
LOCATION:NK: 1.01
DESCRIPTION:Course: DBMAB-05_2_2.Block\nType: Vorlesung\nModule/Group: TM
  II\nLocation: NK: 1.01
DTSTART:20260522T151500Z
DTEND:20260522T164500Z
END:VEVENT
BEGIN:VEVENT
UID:DBMAB-05-1779120900-68
SUMMARY:MAT II Ü (Übung)
LOCATION:NK: 1.07
DESCRIPTION:Course: DBMAB-05_2_2.Block\nType: Übung\nModule/Group: MAT II
  Ü\nLocation: NK: 1.07
DTSTART:20260518T161500Z
DTEND:20260518T174500Z
END:VEVENT
BEGIN:VEVENT
UID:DBMAB-05-1779778800-69
SUMMARY:THDG (Vorlesung)
LOCATION:NK: 1.07
DESCRIPTION:Course: DBMAB-05_2_2.Block\nType: Vorlesung\nModule/Group:
  THDG\nLocation: NK: 1.07
DTSTART:20260526T070000Z
DTEND:20260526T083000Z
END:VEVENT
BEGIN:VEVENT
UID:DBMAB-05-1780038000-70
SUMMARY:THDG Ü (Übung)
LOCATION:NK: 2.13
DESCRIPTION:Course: DBMAB-05_2_2.Block\nType: Übung\nModule/Group: THDG
  Ü\nLocation: NK: 2.13
DTSTART:20260529T070000Z
DTEND:20260529T083000Z
END:VEVENT
BEGIN:VEVENT
UID:DBMAB-05-1779785100-71
SUMMARY:THDG (Vorlesung)
LOCATION:NK: 1.07
DESCRIPTION:Course: DBMAB-05_2_2.Block\nType: Vorlesung\nModule/Group:
  THDG\nLocation: NK: 1.07
DTSTART:20260526T084500Z
DTEND:20260526T101500Z
END:VEVENT
BEGIN:VEVENT
UID:DBMAB-05-1780044300-72
SUMMARY:THDG Ü (Übung)
LOCATION:NK: 2.13
DESCRIPTION:Course: DBMAB-05_2_2.Block\nType: Übung\nModule/Group: THDG
  Ü\nLocation: NK: 2.13
DTSTART:20260529T084500Z
DTEND:20260529T101500Z
END:VEVENT
BEGIN:VEVENT
UID:DBMAB-05-1780052400-73
SUMMARY:TM II Ü (Übung)
LOCATION:NK: 2.13
DESCRIPTION:Course: DBMAB-05_2_2.Block\nType: Übung\nModule/Group: TM II
  Ü\nLocation: NK: 2.13
DTSTART:20260529T110000Z
DTEND:20260529T123000Z
END:VEVENT
BEGIN:VEVENT
UID:DBMAB-05-1780058700-74
SUMMARY:TM II Ü (Übung)
LOCATION:NK: 2.13
DESCRIPTION:Course: DBMAB-05_2_2.Block\nType: Übung\nModule/Group: TM II
  Ü\nLocation: NK: 2.13
DTSTART:20260529T124500Z
DTEND:20260529T141500Z
END:VEVENT
BEGIN:VEVENT
UID:DBMAB-05-1779805800-75
SUMMARY:HA (Hausarbeit)
LOCATION:EXT: Online
DESCRIPTION:Course: DBMAB-05_2_2.Block\nType: Hausarbeit\nModule/Group:
  HA\nLocation: EXT: Online
DTSTART:20260526T143000Z
DTEND:20260526T160000Z
END:VEVENT
BEGIN:VEVENT
UID:DBMAB-05-1779978600-76
SUMMARY:TM II (Vorlesung)
LOCATION:NK: 2.08
DESCRIPTION:Course: DBMAB-05_2_2.Block\nType: Vorlesung\nModule/Group: TM
  II\nLocation: NK: 2.08
DTSTART:20260528T143000Z
DTEND:20260528T160000Z
END:VEVENT
BEGIN:VEVENT
UID:DBMAB-05-1779984900-77
SUMMARY:TM II (Vorlesung)
LOCATION:NK: 2.08
DESCRIPTION:Course: DBMAB-05_2_2.Block\nType: Vorlesung\nModule/Group: TM
  II\nLocation: NK: 2.08
DTSTART:20260528T161500Z
DTEND:20260528T174500Z
END:VEVENT
BEGIN:VEVENT
UID:DBMAB-05-1781334000-78
SUMMARY:TM II (Klausur)
LOCATION:NK: 1.01
DESCRIPTION:Course: DBMAB-05_2_2.Block\nType: Klausur\nModule/Group: TM
  II\nLocation: NK: 1.01
DTSTART:20260613T070000Z
DTEND:20260613T090000Z
END:VEVENT
BEGIN:VEVENT
UID:DBMAB-05-1782543600-79
SUMMARY:TK THDG (Teilklausur eines Moduls)
LOCATION:NK: 1.01
DESCRIPTION:Course: DBMAB-05_2_2.Block\nType: Teilklausur eines
  Moduls\nModule/Group: TK THDG\nLocation: NK: 1.01
DTSTART:20260627T070000Z
DTEND:20260627T083000Z
END:VEVENT
BEGIN:VEVENT
UID:DBMAB-05-1786371300-80
SUMMARY:Zentr. NK/WK FB T (Zentraler Nachschreibetermin FB T)
DESCRIPTION:Course: DBMAB-05_2_2.Block\nType: Zentraler Nachschreibetermin
  FB T\nModule/Group: Zentr. NK/WK FB T
DTSTART:20260810T141500Z
DTEND:20260810T174500Z
END:VEVENT
BEGIN:VEVENT
UID:DBMAB-05-1786457700-81
SUMMARY:Zentr. NK/WK FB T (Zentraler Nachschreibetermin FB T)
DESCRIPTION:Course: DBMAB-05_2_2.Block\nType: Zentraler Nachschreibetermin
  FB T\nModule/Group: Zentr. NK/WK FB T
DTSTART:20260811T141500Z
DTEND:20260811T174500Z
END:VEVENT
BEGIN:VEVENT
UID:DBMAB-05-1786544100-82
SUMMARY:Zentr. NK/WK FB T (Zentraler Nachschreibetermin FB T)
DESCRIPTION:Course: DBMAB-05_2_2.Block\nType: Zentraler Nachschreibetermin
  FB T\nModule/Group: Zentr. NK/WK FB T
DTSTART:20260812T141500Z
DTEND:20260812T174500Z
END:VEVENT
BEGIN:VEVENT
UID:DBMAB-05-1786630500-83
SUMMARY:Zentr. NK/WK FB T (Zentraler Nachschreibetermin FB T)
DESCRIPTION:Course: DBMAB-05_2_2.Block\nType: Zentraler Nachschreibetermin
  FB T\nModule/Group: Zentr. NK/WK FB T
DTSTART:20260813T141500Z
DTEND:20260813T174500Z
END:VEVENT
BEGIN:VEVENT
UID:DBMAB-05-1786716900-84
SUMMARY:Zentr. NK/WK FB T (Zentraler Nachschreibetermin FB T)
DESCRIPTION:Course: DBMAB-05_2_2.Block\nType: Zentraler Nachschreibetermin
  FB T\nModule/Group: Zentr. NK/WK FB T
DTSTART:20260814T141500Z
DTEND:20260814T174500Z
END:VEVENT
BEGIN:VEVENT
UID:DBMAB-05-1786976100-85
SUMMARY:Zentr. NK/WK FB T (Zentraler Nachschreibetermin FB T)
DESCRIPTION:Course: DBMAB-05_2_2.Block\nType: Zentraler Nachschreibetermin
  FB T\nModule/Group: Zentr. NK/WK FB T
DTSTART:20260817T141500Z
DTEND:20260817T174500Z
END:VEVENT
BEGIN:VEVENT
UID:DBMAB-05-1787062500-86
SUMMARY:Zentr. NK/WK FB T (Zentraler Nachschreibetermin FB T)
DESCRIPTION:Course: DBMAB-05_2_2.Block\nType: Zentraler Nachschreibetermin
  FB T\nModule/Group: Zentr. NK/WK FB T
DTSTART:20260818T141500Z
DTEND:20260818T174500Z
END:VEVENT
BEGIN:VEVENT
UID:DBMAB-05-1787148900-87
SUMMARY:Zentr. NK/WK FB T (Zentraler Nachschreibetermin FB T)
DESCRIPTION:Course: DBMAB-05_2_2.Block\nType: Zentraler Nachschreibetermin
  FB T\nModule/Group: Zentr. NK/WK FB T
DTSTART:20260819T141500Z
DTEND:20260819T174500Z
END:VEVENT
BEGIN:VEVENT
UID:DBMAB-05-1787235300-88
SUMMARY:Zentr. NK/WK FB T (Zentraler Nachschreibetermin FB T)
DESCRIPTION:Course: DBMAB-05_2_2.Block\nType: Zentraler Nachschreibetermin
  FB T\nModule/Group: Zentr. NK/WK FB T
DTSTART:20260820T141500Z
DTEND:20260820T174500Z
END:VEVENT
BEGIN:VEVENT
UID:DBMAB-05-1787321700-89
SUMMARY:Zentr. NK/WK FB T (Zentraler Nachschreibetermin FB T)
DESCRIPTION:Course: DBMAB-05_2_2.Block\nType: Zentraler Nachschreibetermin
  FB T\nModule/Group: Zentr. NK/WK FB T
DTSTART:20260821T141500Z
DTEND:20260821T174500Z
END:VEVENT
BEGIN:VEVENT
UID:DBMAB-05-1787551200-90
SUMMARY:PRAX I_REF (Referat)
DESCRIPTION:Course: DBMAB-05_2_2.Block\nType: Referat\nModule/Group: PRAX
  I_REF
DTSTART:20260824T060000Z
DTEND:20260824T141500Z
END:VEVENT
BEGIN:VEVENT
UID:DBMAB-05-1787637600-91
SUMMARY:PRAX I_REF (Referat)
DESCRIPTION:Course: DBMAB-05_2_2.Block\nType: Referat\nModule/Group: PRAX
  I_REF
DTSTART:20260825T060000Z
DTEND:20260825T141500Z
END:VEVENT
BEGIN:VEVENT
UID:DBMAB-05-1787724000-92
SUMMARY:PRAX I_REF (Referat)
DESCRIPTION:Course: DBMAB-05_2_2.Block\nType: Referat\nModule/Group: PRAX
  I_REF
DTSTART:20260826T060000Z
DTEND:20260826T141500Z
END:VEVENT
BEGIN:VEVENT
UID:DBMAB-05-1787810400-93
SUMMARY:PRAX I_REF (Referat)
DESCRIPTION:Course: DBMAB-05_2_2.Block\nType: Referat\nModule/Group: PRAX
  I_REF
DTSTART:20260827T060000Z
DTEND:20260827T141500Z
END:VEVENT
BEGIN:VEVENT
UID:DBMAB-05-1787896800-94
SUMMARY:PRAX I_REF (Referat)
DESCRIPTION:Course: DBMAB-05_2_2.Block\nType: Referat\nModule/Group: PRAX
  I_REF
DTSTART:20260828T060000Z
DTEND:20260828T141500Z
END:VEVENT
BEGIN:VEVENT
UID:DBMAB-05-1787580900-95
SUMMARY:Zentr. NK/WK FB T (Zentraler Nachschreibetermin FB T)
DESCRIPTION:Course: DBMAB-05_2_2.Block\nType: Zentraler Nachschreibetermin
  FB T\nModule/Group: Zentr. NK/WK FB T
DTSTART:20260824T141500Z
DTEND:20260824T174500Z
END:VEVENT
BEGIN:VEVENT
UID:DBMAB-05-1787667300-96
SUMMARY:Zentr. NK/WK FB T (Zentraler Nachschreibetermin FB T)
DESCRIPTION:Course: DBMAB-05_2_2.Block\nType: Zentraler Nachschreibetermin
  FB T\nModule/Group: Zentr. NK/WK FB T
DTSTART:20260825T141500Z
DTEND:20260825T174500Z
END:VEVENT
BEGIN:VEVENT
UID:DBMAB-05-1787753700-97
SUMMARY:Zentr. NK/WK FB T (Zentraler Nachschreibetermin FB T)
DESCRIPTION:Course: DBMAB-05_2_2.Block\nType: Zentraler Nachschreibetermin
  FB T\nModule/Group: Zentr. NK/WK FB T
DTSTART:20260826T141500Z
DTEND:20260826T174500Z
END:VEVENT
BEGIN:VEVENT
UID:DBMAB-05-1787840100-98
SUMMARY:Zentr. NK/WK FB T (Zentraler Nachschreibetermin FB T)
DESCRIPTION:Course: DBMAB-05_2_2.Block\nType: Zentraler Nachschreibetermin
  FB T\nModule/Group: Zentr. NK/WK FB T
DTSTART:20260827T141500Z
DTEND:20260827T174500Z
END:VEVENT
BEGIN:VEVENT
UID:DBMAB-05-1787926500-99
SUMMARY:Zentr. NK/WK FB T (Zentraler Nachschreibetermin FB T)
DESCRIPTION:Course: DBMAB-05_2_2.Block\nType: Zentraler Nachschreibetermin
  FB T\nModule/Group: Zentr. NK/WK FB T
DTSTART:20260828T141500Z
DTEND:20260828T174500Z
END:VEVENT
BEGIN:VEVENT
UID:DBMAB-05-1788156000-100
SUMMARY:PRAX I_REF (Referat)
DESCRIPTION:Course: DBMAB-05_2_2.Block\nType: Referat\nModule/Group: PRAX
  I_REF
DTSTART:20260831T060000Z
DTEND:20260831T141500Z
END:VEVENT
END:VCALENDAR
