BEGIN:VCALENDAR
VERSION:2.0
PRODID:-//ASW Schedule Exporter//EN
NAME:ASW Schedule DBMAB-03_6_6.Block
X-WR-CALNAME:ASW Schedule DBMAB-03_6_6.Block
TZID:Europe/Berlin
BEGIN:VEVENT
UID:DBMAB-03_6_6_Block-1776855600-0
SUMMARY:IND 4.0 (Vorlesung)
LOCATION:NK: EDV 3.16
DESCRIPTION:Course: DBMAB-03_6_6.Block\nType: Vorlesung\nModule/Group: IND
  4.0\nLocation: NK: EDV 3.16
DTSTART:20260422T110000Z
DTEND:20260422T123000Z
END:VEVENT
BEGIN:VEVENT
UID:DBMAB-03_6_6_Block-1776942000-1
SUMMARY:PPS (Labor)
LOCATION:NK: EDV 3.16
DESCRIPTION:Course: DBMAB-03_6_6.Block\nType: Labor\nModule/Group:
  PPS\nLocation: NK: EDV 3.16
DTSTART:20260423T110000Z
DTEND:20260423T123000Z
END:VEVENT
BEGIN:VEVENT
UID:DBMAB-03_6_6_Block-1776861900-2
SUMMARY:IND 4.0 (Vorlesung)
LOCATION:NK: EDV 3.16
DESCRIPTION:Course: DBMAB-03_6_6.Block\nType: Vorlesung\nModule/Group: IND
  4.0\nLocation: NK: EDV 3.16
DTSTART:20260422T124500Z
DTEND:20260422T141500Z
END:VEVENT
BEGIN:VEVENT
UID:DBMAB-03_6_6_Block-1776948300-3
SUMMARY:PPS (Labor)
LOCATION:NK: EDV 3.16
DESCRIPTION:Course: DBMAB-03_6_6.Block\nType: Labor\nModule/Group:
  PPS\nLocation: NK: EDV 3.16
DTSTART:20260423T124500Z
DTEND:20260423T141500Z
END:VEVENT
BEGIN:VEVENT
UID:DBMAB-03_6_6_Block-1776780000-4
SUMMARY:Präsentation Praxisarbeit (Einzelveranstaltung)
DESCRIPTION:Course: DBMAB-03_6_6.Block\nType:
  Einzelveranstaltung\nModule/Group: Präsentation Praxisarbeit
DTSTART:20260421T140000Z
DTEND:20260421T143000Z
END:VEVENT
BEGIN:VEVENT
UID:DBMAB-03_6_6_Block-1777359600-5
SUMMARY:FM (Vorlesung)
LOCATION:NK: 2.14
DESCRIPTION:Course: DBMAB-03_6_6.Block\nType: Vorlesung\nModule/Group:
  FM\nLocation: NK: 2.14
DTSTART:20260428T070000Z
DTEND:20260428T083000Z
END:VEVENT
BEGIN:VEVENT
UID:DBMAB-03_6_6_Block-1777279500-6
SUMMARY:TK MECH/TO (Teilklausur eines Moduls)
LOCATION:NK: 1.06
DESCRIPTION:Course: DBMAB-03_6_6.Block\nType: Teilklausur eines
  Moduls\nModule/Group: TK MECH/TO\nLocation: NK: 1.06
DTSTART:20260427T084500Z
DTEND:20260427T101500Z
END:VEVENT
BEGIN:VEVENT
UID:DBMAB-03_6_6_Block-1777365900-7
SUMMARY:FM (Vorlesung)
LOCATION:NK: 2.14
DESCRIPTION:Course: DBMAB-03_6_6.Block\nType: Vorlesung\nModule/Group:
  FM\nLocation: NK: 2.14
DTSTART:20260428T084500Z
DTEND:20260428T101500Z
END:VEVENT
BEGIN:VEVENT
UID:DBMAB-03_6_6_Block-1777287600-8
SUMMARY:IND 4.0 (Vorlesung)
LOCATION:NK: EDV 3.16
DESCRIPTION:Course: DBMAB-03_6_6.Block\nType: Vorlesung\nModule/Group: IND
  4.0\nLocation: NK: EDV 3.16
DTSTART:20260427T110000Z
DTEND:20260427T123000Z
END:VEVENT
BEGIN:VEVENT
UID:DBMAB-03_6_6_Block-1777374000-9
SUMMARY:IND 4.0 (Vorlesung)
LOCATION:NK: EDV 3.16
DESCRIPTION:Course: DBMAB-03_6_6.Block\nType: Vorlesung\nModule/Group: IND
  4.0\nLocation: NK: EDV 3.16
DTSTART:20260428T110000Z
DTEND:20260428T123000Z
END:VEVENT
BEGIN:VEVENT
UID:DBMAB-03_6_6_Block-1777547700-10
SUMMARY:PPS (Testat)
LOCATION:NK: EDV 3.16
DESCRIPTION:Course: DBMAB-03_6_6.Block\nType: Testat\nModule/Group:
  PPS\nLocation: NK: EDV 3.16
DTSTART:20260430T111500Z
DTEND:20260430T121500Z
END:VEVENT
BEGIN:VEVENT
UID:DBMAB-03_6_6_Block-1777293900-11
SUMMARY:IND 4.0 (Vorlesung)
LOCATION:NK: EDV 3.16
DESCRIPTION:Course: DBMAB-03_6_6.Block\nType: Vorlesung\nModule/Group: IND
  4.0\nLocation: NK: EDV 3.16
DTSTART:20260427T124500Z
DTEND:20260427T141500Z
END:VEVENT
BEGIN:VEVENT
UID:DBMAB-03_6_6_Block-1777380300-12
SUMMARY:IND 4.0 (Vorlesung)
LOCATION:NK: EDV 3.16
DESCRIPTION:Course: DBMAB-03_6_6.Block\nType: Vorlesung\nModule/Group: IND
  4.0\nLocation: NK: EDV 3.16
DTSTART:20260428T124500Z
DTEND:20260428T141500Z
END:VEVENT
BEGIN:VEVENT
UID:DBMAB-03_6_6_Block-1777964400-13
SUMMARY:FM (Vorlesung)
LOCATION:NK: 2.13
DESCRIPTION:Course: DBMAB-03_6_6.Block\nType: Vorlesung\nModule/Group:
  FM\nLocation: NK: 2.13
DTSTART:20260505T070000Z
DTEND:20260505T083000Z
END:VEVENT
BEGIN:VEVENT
UID:DBMAB-03_6_6_Block-1777970700-14
SUMMARY:FM (Vorlesung)
LOCATION:NK: 2.13
DESCRIPTION:Course: DBMAB-03_6_6.Block\nType: Vorlesung\nModule/Group:
  FM\nLocation: NK: 2.13
DTSTART:20260505T084500Z
DTEND:20260505T101500Z
END:VEVENT
BEGIN:VEVENT
UID:DBMAB-03_6_6_Block-1778229900-15
SUMMARY:TK IND 4.0 (Teilklausur eines Moduls)
LOCATION:NK: 1.07
DESCRIPTION:Course: DBMAB-03_6_6.Block\nType: Teilklausur eines
  Moduls\nModule/Group: TK IND 4.0\nLocation: NK: 1.07
DTSTART:20260508T084500Z
DTEND:20260508T101500Z
END:VEVENT
BEGIN:VEVENT
UID:DBMAB-03_6_6_Block-1777892400-16
SUMMARY:IND 4.0 (Vorlesung)
LOCATION:EXT: Online
DESCRIPTION:Course: DBMAB-03_6_6.Block\nType: Vorlesung\nModule/Group: IND
  4.0\nLocation: EXT: Online
DTSTART:20260504T110000Z
DTEND:20260504T123000Z
END:VEVENT
BEGIN:VEVENT
UID:DBMAB-03_6_6_Block-1777978800-17
SUMMARY:ABB (Vorlesung)
LOCATION:NK: 2.11
DESCRIPTION:Course: DBMAB-03_6_6.Block\nType: Vorlesung\nModule/Group:
  ABB\nLocation: NK: 2.11
DTSTART:20260505T110000Z
DTEND:20260505T123000Z
END:VEVENT
BEGIN:VEVENT
UID:DBMAB-03_6_6_Block-1778238000-18
SUMMARY:FM Ü (Übung)
LOCATION:NK: 1.10
DESCRIPTION:Course: DBMAB-03_6_6.Block\nType: Übung\nModule/Group: FM
  Ü\nLocation: NK: 1.10
DTSTART:20260508T110000Z
DTEND:20260508T123000Z
END:VEVENT
BEGIN:VEVENT
UID:DBMAB-03_6_6_Block-1777898700-19
SUMMARY:IND 4.0 (Vorlesung)
LOCATION:EXT: Online
DESCRIPTION:Course: DBMAB-03_6_6.Block\nType: Vorlesung\nModule/Group: IND
  4.0\nLocation: EXT: Online
DTSTART:20260504T124500Z
DTEND:20260504T141500Z
END:VEVENT
BEGIN:VEVENT
UID:DBMAB-03_6_6_Block-1777985100-20
SUMMARY:ABB (Vorlesung)
LOCATION:NK: 2.11
DESCRIPTION:Course: DBMAB-03_6_6.Block\nType: Vorlesung\nModule/Group:
  ABB\nLocation: NK: 2.11
DTSTART:20260505T124500Z
DTEND:20260505T141500Z
END:VEVENT
BEGIN:VEVENT
UID:DBMAB-03_6_6_Block-1778244300-21
SUMMARY:FM Ü (Übung)
LOCATION:NK: 1.10
DESCRIPTION:Course: DBMAB-03_6_6.Block\nType: Übung\nModule/Group: FM
  Ü\nLocation: NK: 1.10
DTSTART:20260508T124500Z
DTEND:20260508T141500Z
END:VEVENT
BEGIN:VEVENT
UID:DBMAB-03_6_6_Block-1778659200-22
SUMMARY:MP HTHDYN FM (Klausur)
LOCATION:NK: 1.06
DESCRIPTION:Course: DBMAB-03_6_6.Block\nType: Klausur\nModule/Group: MP
  HTHDYN FM\nLocation: NK: 1.06
DTSTART:20260513T080000Z
DTEND:20260513T100000Z
END:VEVENT
BEGIN:VEVENT
UID:DBMAB-03_6_6_Block-1778670000-23
SUMMARY:ABB (Vorlesung)
LOCATION:NK: 2.11
DESCRIPTION:Course: DBMAB-03_6_6.Block\nType: Vorlesung\nModule/Group:
  ABB\nLocation: NK: 2.11
DTSTART:20260513T110000Z
DTEND:20260513T123000Z
END:VEVENT
BEGIN:VEVENT
UID:DBMAB-03_6_6_Block-1778676300-24
SUMMARY:ABB (Vorlesung)
LOCATION:NK: 2.11
DESCRIPTION:Course: DBMAB-03_6_6.Block\nType: Vorlesung\nModule/Group:
  ABB\nLocation: NK: 2.11
DTSTART:20260513T124500Z
DTEND:20260513T141500Z
END:VEVENT
BEGIN:VEVENT
UID:DBMAB-03_6_6_Block-1779174000-25
SUMMARY:ABB (Vorlesung)
LOCATION:NK: 2.11
DESCRIPTION:Course: DBMAB-03_6_6.Block\nType: Vorlesung\nModule/Group:
  ABB\nLocation: NK: 2.11
DTSTART:20260519T070000Z
DTEND:20260519T083000Z
END:VEVENT
BEGIN:VEVENT
UID:DBMAB-03_6_6_Block-1779180300-26
SUMMARY:ABB (Vorlesung)
LOCATION:NK: 2.11
DESCRIPTION:Course: DBMAB-03_6_6.Block\nType: Vorlesung\nModule/Group:
  ABB\nLocation: NK: 2.11
DTSTART:20260519T084500Z
DTEND:20260519T101500Z
END:VEVENT
BEGIN:VEVENT
UID:DBMAB-03_6_6_Block-1779102000-27
SUMMARY:ABB (Vorlesung)
LOCATION:NK: 2.11
DESCRIPTION:Course: DBMAB-03_6_6.Block\nType: Vorlesung\nModule/Group:
  ABB\nLocation: NK: 2.11
DTSTART:20260518T110000Z
DTEND:20260518T123000Z
END:VEVENT
BEGIN:VEVENT
UID:DBMAB-03_6_6_Block-1779108300-28
SUMMARY:ABB (Vorlesung)
LOCATION:NK: 2.11
DESCRIPTION:Course: DBMAB-03_6_6.Block\nType: Vorlesung\nModule/Group:
  ABB\nLocation: NK: 2.11
DTSTART:20260518T124500Z
DTEND:20260518T141500Z
END:VEVENT
BEGIN:VEVENT
UID:DBMAB-03_6_6_Block-1780124400-29
SUMMARY:ABB (Klausur)
LOCATION:NK: 1.07
DESCRIPTION:Course: DBMAB-03_6_6.Block\nType: Klausur\nModule/Group:
  ABB\nLocation: NK: 1.07
DTSTART:20260530T070000Z
DTEND:20260530T083000Z
END:VEVENT
BEGIN:VEVENT
UID:DBMAB-03_6_6_Block-1782543600-30
SUMMARY:Zentr. NK/WK FB T (Zentraler Nachschreibetermin FB T)
DESCRIPTION:Course: DBMAB-03_6_6.Block\nType: Zentraler Nachschreibetermin
  FB T\nModule/Group: Zentr. NK/WK FB T
DTSTART:20260627T070000Z
DTEND:20260627T141500Z
END:VEVENT
BEGIN:VEVENT
UID:DBMAB-03_6_6_Block-1786372200-31
SUMMARY:Zentr. NK/WK FB T (Zentraler Nachschreibetermin FB T)
DESCRIPTION:Course: DBMAB-03_6_6.Block\nType: Zentraler Nachschreibetermin
  FB T\nModule/Group: Zentr. NK/WK FB T
DTSTART:20260810T143000Z
DTEND:20260810T174500Z
END:VEVENT
BEGIN:VEVENT
UID:DBMAB-03_6_6_Block-1786458600-32
SUMMARY:Zentr. NK/WK FB T (Zentraler Nachschreibetermin FB T)
DESCRIPTION:Course: DBMAB-03_6_6.Block\nType: Zentraler Nachschreibetermin
  FB T\nModule/Group: Zentr. NK/WK FB T
DTSTART:20260811T143000Z
DTEND:20260811T174500Z
END:VEVENT
BEGIN:VEVENT
UID:DBMAB-03_6_6_Block-1786545000-33
SUMMARY:Zentr. NK/WK FB T (Zentraler Nachschreibetermin FB T)
DESCRIPTION:Course: DBMAB-03_6_6.Block\nType: Zentraler Nachschreibetermin
  FB T\nModule/Group: Zentr. NK/WK FB T
DTSTART:20260812T143000Z
DTEND:20260812T174500Z
END:VEVENT
BEGIN:VEVENT
UID:DBMAB-03_6_6_Block-1786631400-34
SUMMARY:Zentr. NK/WK FB T (Zentraler Nachschreibetermin FB T)
DESCRIPTION:Course: DBMAB-03_6_6.Block\nType: Zentraler Nachschreibetermin
  FB T\nModule/Group: Zentr. NK/WK FB T
DTSTART:20260813T143000Z
DTEND:20260813T174500Z
END:VEVENT
BEGIN:VEVENT
UID:DBMAB-03_6_6_Block-1786717800-35
SUMMARY:Zentr. NK/WK FB T (Zentraler Nachschreibetermin FB T)
DESCRIPTION:Course: DBMAB-03_6_6.Block\nType: Zentraler Nachschreibetermin
  FB T\nModule/Group: Zentr. NK/WK FB T
DTSTART:20260814T143000Z
DTEND:20260814T174500Z
END:VEVENT
BEGIN:VEVENT
UID:DBMAB-03_6_6_Block-1786977000-36
SUMMARY:Zentr. NK/WK FB T (Zentraler Nachschreibetermin FB T)
DESCRIPTION:Course: DBMAB-03_6_6.Block\nType: Zentraler Nachschreibetermin
  FB T\nModule/Group: Zentr. NK/WK FB T
DTSTART:20260817T143000Z
DTEND:20260817T174500Z
END:VEVENT
BEGIN:VEVENT
UID:DBMAB-03_6_6_Block-1787063400-37
SUMMARY:Zentr. NK/WK FB T (Zentraler Nachschreibetermin FB T)
DESCRIPTION:Course: DBMAB-03_6_6.Block\nType: Zentraler Nachschreibetermin
  FB T\nModule/Group: Zentr. NK/WK FB T
DTSTART:20260818T143000Z
DTEND:20260818T174500Z
END:VEVENT
BEGIN:VEVENT
UID:DBMAB-03_6_6_Block-1787149800-38
SUMMARY:Zentr. NK/WK FB T (Zentraler Nachschreibetermin FB T)
DESCRIPTION:Course: DBMAB-03_6_6.Block\nType: Zentraler Nachschreibetermin
  FB T\nModule/Group: Zentr. NK/WK FB T
DTSTART:20260819T143000Z
DTEND:20260819T174500Z
END:VEVENT
BEGIN:VEVENT
UID:DBMAB-03_6_6_Block-1787236200-39
SUMMARY:Zentr. NK/WK FB T (Zentraler Nachschreibetermin FB T)
DESCRIPTION:Course: DBMAB-03_6_6.Block\nType: Zentraler Nachschreibetermin
  FB T\nModule/Group: Zentr. NK/WK FB T
DTSTART:20260820T143000Z
DTEND:20260820T174500Z
END:VEVENT
BEGIN:VEVENT
UID:DBMAB-03_6_6_Block-1787322600-40
SUMMARY:Zentr. NK/WK FB T (Zentraler Nachschreibetermin FB T)
DESCRIPTION:Course: DBMAB-03_6_6.Block\nType: Zentraler Nachschreibetermin
  FB T\nModule/Group: Zentr. NK/WK FB T
DTSTART:20260821T143000Z
DTEND:20260821T174500Z
END:VEVENT
BEGIN:VEVENT
UID:DBMAB-03_6_6_Block-1787581800-41
SUMMARY:Zentr. NK/WK FB T (Zentraler Nachschreibetermin FB T)
DESCRIPTION:Course: DBMAB-03_6_6.Block\nType: Zentraler Nachschreibetermin
  FB T\nModule/Group: Zentr. NK/WK FB T
DTSTART:20260824T143000Z
DTEND:20260824T174500Z
END:VEVENT
BEGIN:VEVENT
UID:DBMAB-03_6_6_Block-1787668200-42
SUMMARY:Zentr. NK/WK FB T (Zentraler Nachschreibetermin FB T)
DESCRIPTION:Course: DBMAB-03_6_6.Block\nType: Zentraler Nachschreibetermin
  FB T\nModule/Group: Zentr. NK/WK FB T
DTSTART:20260825T143000Z
DTEND:20260825T174500Z
END:VEVENT
BEGIN:VEVENT
UID:DBMAB-03_6_6_Block-1787754600-43
SUMMARY:Zentr. NK/WK FB T (Zentraler Nachschreibetermin FB T)
DESCRIPTION:Course: DBMAB-03_6_6.Block\nType: Zentraler Nachschreibetermin
  FB T\nModule/Group: Zentr. NK/WK FB T
DTSTART:20260826T143000Z
DTEND:20260826T174500Z
END:VEVENT
BEGIN:VEVENT
UID:DBMAB-03_6_6_Block-1787841000-44
SUMMARY:Zentr. NK/WK FB T (Zentraler Nachschreibetermin FB T)
DESCRIPTION:Course: DBMAB-03_6_6.Block\nType: Zentraler Nachschreibetermin
  FB T\nModule/Group: Zentr. NK/WK FB T
DTSTART:20260827T143000Z
DTEND:20260827T174500Z
END:VEVENT
BEGIN:VEVENT
UID:DBMAB-03_6_6_Block-1787927400-45
SUMMARY:Zentr. NK/WK FB T (Zentraler Nachschreibetermin FB T)
DESCRIPTION:Course: DBMAB-03_6_6.Block\nType: Zentraler Nachschreibetermin
  FB T\nModule/Group: Zentr. NK/WK FB T
DTSTART:20260828T143000Z
DTEND:20260828T174500Z
END:VEVENT
END:VCALENDAR
