BEGIN:VCALENDAR
VERSION:2.0
PRODID:-//ASW Schedule Exporter//EN
NAME:ASW Schedule DBING-01
X-WR-CALNAME:ASW Schedule DBING-01
TZID:Europe/Berlin
BEGIN:VEVENT
UID:DBING-01-1763539200-0
SUMMARY:WIARB (Seminar)
LOCATION:EXT: Online
DESCRIPTION:Course: DBING-01_3_3. Block\nType: Seminar\nModule/Group:
  WIARB\nLocation: EXT: Online
DTSTART:20251119T080000Z
DTEND:20251119T093000Z
END:VEVENT
BEGIN:VEVENT
UID:DBING-01-1763798400-1
SUMMARY:MAT III (Klausur)
LOCATION:NK: 1.01
DESCRIPTION:Course: DBING-01_3_3. Block\nType: Klausur\nModule/Group: MAT
  III\nLocation: NK: 1.01
DTSTART:20251122T080000Z
DTEND:20251122T100000Z
END:VEVENT
BEGIN:VEVENT
UID:DBING-01-1763545500-2
SUMMARY:WIARB (Seminar)
LOCATION:EXT: Online
DESCRIPTION:Course: DBING-01_3_3. Block\nType: Seminar\nModule/Group:
  WIARB\nLocation: EXT: Online
DTSTART:20251119T094500Z
DTEND:20251119T111500Z
END:VEVENT
BEGIN:VEVENT
UID:DBING-01-1763806500-3
SUMMARY:TUT ET (Tutorium)
LOCATION:NK: 1.01
DESCRIPTION:Course: DBING-01_3_3. Block\nType: Tutorium\nModule/Group: TUT
  ET\nLocation: NK: 1.01
DTSTART:20251122T101500Z
DTEND:20251122T114500Z
END:VEVENT
BEGIN:VEVENT
UID:DBING-01-1763812800-4
SUMMARY:TUT ET (Tutorium)
LOCATION:NK: 1.01
DESCRIPTION:Course: DBING-01_3_3. Block\nType: Tutorium\nModule/Group: TUT
  ET\nLocation: NK: 1.01
DTSTART:20251122T120000Z
DTEND:20251122T133000Z
END:VEVENT
BEGIN:VEVENT
UID:DBING-01-1763381700-5
SUMMARY:ET-LAB Gr. 1 (Labor)
LOCATION:EXT: Extern TGSBBZ NK
DESCRIPTION:Course: DBING-01_3_3. Block\nType: Labor\nModule/Group: ET-LAB
  Gr. 1\nLocation: EXT: Extern TGSBBZ NK
DTSTART:20251117T121500Z
DTEND:20251117T134500Z
END:VEVENT
BEGIN:VEVENT
UID:DBING-01-1763468100-6
SUMMARY:ET-LAB Gr. 2 (Labor)
LOCATION:EXT: Extern TGSBBZ NK
DESCRIPTION:Course: DBING-01_3_3. Block\nType: Labor\nModule/Group: ET-LAB
  Gr. 2\nLocation: EXT: Extern TGSBBZ NK
DTSTART:20251118T121500Z
DTEND:20251118T134500Z
END:VEVENT
BEGIN:VEVENT
UID:DBING-01-1763388000-7
SUMMARY:ET-LAB Gr. 1 (Labor)
LOCATION:EXT: Extern TGSBBZ NK
DESCRIPTION:Course: DBING-01_3_3. Block\nType: Labor\nModule/Group: ET-LAB
  Gr. 1\nLocation: EXT: Extern TGSBBZ NK
DTSTART:20251117T140000Z
DTEND:20251117T153000Z
END:VEVENT
BEGIN:VEVENT
UID:DBING-01-1763474400-8
SUMMARY:ET-LAB Gr. 2 (Labor)
LOCATION:EXT: Extern TGSBBZ NK
DESCRIPTION:Course: DBING-01_3_3. Block\nType: Labor\nModule/Group: ET-LAB
  Gr. 2\nLocation: EXT: Extern TGSBBZ NK
DTSTART:20251118T140000Z
DTEND:20251118T153000Z
END:VEVENT
BEGIN:VEVENT
UID:DBING-01-1763395200-9
SUMMARY:MAT III Ü (Übung)
LOCATION:NK: 2.08
DESCRIPTION:Course: DBING-01_3_3. Block\nType: Übung\nModule/Group: MAT
  III Ü\nLocation: NK: 2.08
DTSTART:20251117T160000Z
DTEND:20251117T173000Z
END:VEVENT
BEGIN:VEVENT
UID:DBING-01-1763401500-10
SUMMARY:MAT III Ü (Übung)
LOCATION:NK: 2.08
DESCRIPTION:Course: DBING-01_3_3. Block\nType: Übung\nModule/Group: MAT
  III Ü\nLocation: NK: 2.08
DTSTART:20251117T174500Z
DTEND:20251117T191500Z
END:VEVENT
BEGIN:VEVENT
UID:DBING-01-1780898400-11
SUMMARY:PRAX II_TR (Referat)
DESCRIPTION:Course: DBING-01_4_4. Block\nType: Referat\nModule/Group: PRAX
  II_TR
DTSTART:20260608T060000Z
DTEND:20260608T153000Z
END:VEVENT
BEGIN:VEVENT
UID:DBING-01-1780984800-12
SUMMARY:PRAX II_TR (Referat)
DESCRIPTION:Course: DBING-01_4_4. Block\nType: Referat\nModule/Group: PRAX
  II_TR
DTSTART:20260609T060000Z
DTEND:20260609T153000Z
END:VEVENT
BEGIN:VEVENT
UID:DBING-01-1781071200-13
SUMMARY:PRAX II_TR (Referat)
DESCRIPTION:Course: DBING-01_4_4. Block\nType: Referat\nModule/Group: PRAX
  II_TR
DTSTART:20260610T060000Z
DTEND:20260610T153000Z
END:VEVENT
BEGIN:VEVENT
UID:DBING-01-1781157600-14
SUMMARY:PRAX II_TR (Referat)
DESCRIPTION:Course: DBING-01_4_4. Block\nType: Referat\nModule/Group: PRAX
  II_TR
DTSTART:20260611T060000Z
DTEND:20260611T153000Z
END:VEVENT
BEGIN:VEVENT
UID:DBING-01-1781244000-15
SUMMARY:PRAX II_TR (Referat)
DESCRIPTION:Course: DBING-01_4_4. Block\nType: Referat\nModule/Group: PRAX
  II_TR
DTSTART:20260612T060000Z
DTEND:20260612T153000Z
END:VEVENT
BEGIN:VEVENT
UID:DBING-01-1786371300-16
SUMMARY:Zentr. NK/WK FB T (Zentraler Nachschreibetermin FB T)
DESCRIPTION:Course: DBING-01_4_4. Block\nType: Zentraler Nachschreibetermin
  FB T\nModule/Group: Zentr. NK/WK FB T
DTSTART:20260810T141500Z
DTEND:20260810T174500Z
END:VEVENT
BEGIN:VEVENT
UID:DBING-01-1786457700-17
SUMMARY:Zentr. NK/WK FB T (Zentraler Nachschreibetermin FB T)
DESCRIPTION:Course: DBING-01_4_4. Block\nType: Zentraler Nachschreibetermin
  FB T\nModule/Group: Zentr. NK/WK FB T
DTSTART:20260811T141500Z
DTEND:20260811T174500Z
END:VEVENT
BEGIN:VEVENT
UID:DBING-01-1786544100-18
SUMMARY:Zentr. NK/WK FB T (Zentraler Nachschreibetermin FB T)
DESCRIPTION:Course: DBING-01_4_4. Block\nType: Zentraler Nachschreibetermin
  FB T\nModule/Group: Zentr. NK/WK FB T
DTSTART:20260812T141500Z
DTEND:20260812T174500Z
END:VEVENT
BEGIN:VEVENT
UID:DBING-01-1786630500-19
SUMMARY:Zentr. NK/WK FB T (Zentraler Nachschreibetermin FB T)
DESCRIPTION:Course: DBING-01_4_4. Block\nType: Zentraler Nachschreibetermin
  FB T\nModule/Group: Zentr. NK/WK FB T
DTSTART:20260813T141500Z
DTEND:20260813T174500Z
END:VEVENT
BEGIN:VEVENT
UID:DBING-01-1786716900-20
SUMMARY:Zentr. NK/WK FB T (Zentraler Nachschreibetermin FB T)
DESCRIPTION:Course: DBING-01_4_4. Block\nType: Zentraler Nachschreibetermin
  FB T\nModule/Group: Zentr. NK/WK FB T
DTSTART:20260814T141500Z
DTEND:20260814T174500Z
END:VEVENT
BEGIN:VEVENT
UID:DBING-01-1786976100-21
SUMMARY:Zentr. NK/WK FB T (Zentraler Nachschreibetermin FB T)
DESCRIPTION:Course: DBING-01_4_4. Block\nType: Zentraler Nachschreibetermin
  FB T\nModule/Group: Zentr. NK/WK FB T
DTSTART:20260817T141500Z
DTEND:20260817T174500Z
END:VEVENT
BEGIN:VEVENT
UID:DBING-01-1787062500-22
SUMMARY:Zentr. NK/WK FB T (Zentraler Nachschreibetermin FB T)
DESCRIPTION:Course: DBING-01_4_4. Block\nType: Zentraler Nachschreibetermin
  FB T\nModule/Group: Zentr. NK/WK FB T
DTSTART:20260818T141500Z
DTEND:20260818T174500Z
END:VEVENT
BEGIN:VEVENT
UID:DBING-01-1787148900-23
SUMMARY:Zentr. NK/WK FB T (Zentraler Nachschreibetermin FB T)
DESCRIPTION:Course: DBING-01_4_4. Block\nType: Zentraler Nachschreibetermin
  FB T\nModule/Group: Zentr. NK/WK FB T
DTSTART:20260819T141500Z
DTEND:20260819T174500Z
END:VEVENT
BEGIN:VEVENT
UID:DBING-01-1787235300-24
SUMMARY:Zentr. NK/WK FB T (Zentraler Nachschreibetermin FB T)
DESCRIPTION:Course: DBING-01_4_4. Block\nType: Zentraler Nachschreibetermin
  FB T\nModule/Group: Zentr. NK/WK FB T
DTSTART:20260820T141500Z
DTEND:20260820T174500Z
END:VEVENT
BEGIN:VEVENT
UID:DBING-01-1787321700-25
SUMMARY:Zentr. NK/WK FB T (Zentraler Nachschreibetermin FB T)
DESCRIPTION:Course: DBING-01_4_4. Block\nType: Zentraler Nachschreibetermin
  FB T\nModule/Group: Zentr. NK/WK FB T
DTSTART:20260821T141500Z
DTEND:20260821T174500Z
END:VEVENT
BEGIN:VEVENT
UID:DBING-01-1787637600-26
SUMMARY:PRAX III_TR (Referat)
DESCRIPTION:Course: DBING-01_4_4. Block\nType: Referat\nModule/Group: PRAX
  III_TR
DTSTART:20260825T060000Z
DTEND:20260825T141500Z
END:VEVENT
BEGIN:VEVENT
UID:DBING-01-1787724000-27
SUMMARY:PRAX III_TR (Referat)
DESCRIPTION:Course: DBING-01_4_4. Block\nType: Referat\nModule/Group: PRAX
  III_TR
DTSTART:20260826T060000Z
DTEND:20260826T141500Z
END:VEVENT
BEGIN:VEVENT
UID:DBING-01-1787810400-28
SUMMARY:PRAX III_TR (Referat)
DESCRIPTION:Course: DBING-01_4_4. Block\nType: Referat\nModule/Group: PRAX
  III_TR
DTSTART:20260827T060000Z
DTEND:20260827T141500Z
END:VEVENT
BEGIN:VEVENT
UID:DBING-01-1787896800-29
SUMMARY:PRAX III_TR (Referat)
DESCRIPTION:Course: DBING-01_4_4. Block\nType: Referat\nModule/Group: PRAX
  III_TR
DTSTART:20260828T060000Z
DTEND:20260828T141500Z
END:VEVENT
BEGIN:VEVENT
UID:DBING-01-1787580900-30
SUMMARY:Zentr. NK/WK FB T (Zentraler Nachschreibetermin FB T)
DESCRIPTION:Course: DBING-01_4_4. Block\nType: Zentraler Nachschreibetermin
  FB T\nModule/Group: Zentr. NK/WK FB T
DTSTART:20260824T141500Z
DTEND:20260824T174500Z
END:VEVENT
BEGIN:VEVENT
UID:DBING-01-1787667300-31
SUMMARY:Zentr. NK/WK FB T (Zentraler Nachschreibetermin FB T)
DESCRIPTION:Course: DBING-01_4_4. Block\nType: Zentraler Nachschreibetermin
  FB T\nModule/Group: Zentr. NK/WK FB T
DTSTART:20260825T141500Z
DTEND:20260825T174500Z
END:VEVENT
BEGIN:VEVENT
UID:DBING-01-1787753700-32
SUMMARY:Zentr. NK/WK FB T (Zentraler Nachschreibetermin FB T)
DESCRIPTION:Course: DBING-01_4_4. Block\nType: Zentraler Nachschreibetermin
  FB T\nModule/Group: Zentr. NK/WK FB T
DTSTART:20260826T141500Z
DTEND:20260826T174500Z
END:VEVENT
BEGIN:VEVENT
UID:DBING-01-1787840100-33
SUMMARY:Zentr. NK/WK FB T (Zentraler Nachschreibetermin FB T)
DESCRIPTION:Course: DBING-01_4_4. Block\nType: Zentraler Nachschreibetermin
  FB T\nModule/Group: Zentr. NK/WK FB T
DTSTART:20260827T141500Z
DTEND:20260827T174500Z
END:VEVENT
BEGIN:VEVENT
UID:DBING-01-1787926500-34
SUMMARY:Zentr. NK/WK FB T (Zentraler Nachschreibetermin FB T)
DESCRIPTION:Course: DBING-01_4_4. Block\nType: Zentraler Nachschreibetermin
  FB T\nModule/Group: Zentr. NK/WK FB T
DTSTART:20260828T141500Z
DTEND:20260828T174500Z
END:VEVENT
BEGIN:VEVENT
UID:DBING-01-1788156000-35
SUMMARY:PRAX III_TR (Referat)
DESCRIPTION:Course: DBING-01_4_4. Block\nType: Referat\nModule/Group: PRAX
  III_TR
DTSTART:20260831T060000Z
DTEND:20260831T141500Z
END:VEVENT
END:VCALENDAR
