BEGIN:VCALENDAR
VERSION:2.0
PRODID:-//ASW Schedule Exporter//EN
NAME:ASW Schedule DBBWL-E05_3_3.Block
X-WR-CALNAME:ASW Schedule DBBWL-E05_3_3.Block
TZID:Europe/Berlin
BEGIN:VEVENT
UID:DBBWL-E05_3_3_Block-1776668400-0
SUMMARY:ENG I C1 (Vorlesung)
LOCATION:NK: 1.11
DESCRIPTION:Course: DBBWL-E05_3_3.Block\nType: Vorlesung\nModule/Group: ENG
  I C1\nLocation: NK: 1.11
DTSTART:20260420T070000Z
DTEND:20260420T083000Z
END:VEVENT
BEGIN:VEVENT
UID:DBBWL-E05_3_3_Block-1776754800-1
SUMMARY:MAFO (Vorlesung)
LOCATION:EXT: Online
DESCRIPTION:Course: DBBWL-E05_3_3.Block\nType: Vorlesung\nModule/Group:
  MAFO\nLocation: EXT: Online
DTSTART:20260421T070000Z
DTEND:20260421T083000Z
END:VEVENT
BEGIN:VEVENT
UID:DBBWL-E05_3_3_Block-1776841200-2
SUMMARY:MAFO (Vorlesung)
LOCATION:EXT: Online
DESCRIPTION:Course: DBBWL-E05_3_3.Block\nType: Vorlesung\nModule/Group:
  MAFO\nLocation: EXT: Online
DTSTART:20260422T070000Z
DTEND:20260422T083000Z
END:VEVENT
BEGIN:VEVENT
UID:DBBWL-E05_3_3_Block-1776927600-3
SUMMARY:MAT (Vorlesung)
LOCATION:EXT: Online
DESCRIPTION:Course: DBBWL-E05_3_3.Block\nType: Vorlesung\nModule/Group:
  MAT\nLocation: EXT: Online
DTSTART:20260423T070000Z
DTEND:20260423T083000Z
END:VEVENT
BEGIN:VEVENT
UID:DBBWL-E05_3_3_Block-1777014000-4
SUMMARY:STAT (Vorlesung)
LOCATION:EXT: Online
DESCRIPTION:Course: DBBWL-E05_3_3.Block\nType: Vorlesung\nModule/Group:
  STAT\nLocation: EXT: Online
DTSTART:20260424T070000Z
DTEND:20260424T083000Z
END:VEVENT
BEGIN:VEVENT
UID:DBBWL-E05_3_3_Block-1777100400-5
SUMMARY:ENG I B2 (Vorlesung)
LOCATION:EXT: Online
DESCRIPTION:Course: DBBWL-E05_3_3.Block\nType: Vorlesung\nModule/Group: ENG
  I B2\nLocation: EXT: Online
DTSTART:20260425T070000Z
DTEND:20260425T083000Z
END:VEVENT
BEGIN:VEVENT
UID:DBBWL-E05_3_3_Block-1776674700-6
SUMMARY:ENG I C1 (Vorlesung)
LOCATION:NK: 1.11
DESCRIPTION:Course: DBBWL-E05_3_3.Block\nType: Vorlesung\nModule/Group: ENG
  I C1\nLocation: NK: 1.11
DTSTART:20260420T084500Z
DTEND:20260420T101500Z
END:VEVENT
BEGIN:VEVENT
UID:DBBWL-E05_3_3_Block-1776761100-7
SUMMARY:MAFO (Vorlesung)
LOCATION:EXT: Online
DESCRIPTION:Course: DBBWL-E05_3_3.Block\nType: Vorlesung\nModule/Group:
  MAFO\nLocation: EXT: Online
DTSTART:20260421T084500Z
DTEND:20260421T101500Z
END:VEVENT
BEGIN:VEVENT
UID:DBBWL-E05_3_3_Block-1776847500-8
SUMMARY:MAFO (Vorlesung)
LOCATION:EXT: Online
DESCRIPTION:Course: DBBWL-E05_3_3.Block\nType: Vorlesung\nModule/Group:
  MAFO\nLocation: EXT: Online
DTSTART:20260422T084500Z
DTEND:20260422T101500Z
END:VEVENT
BEGIN:VEVENT
UID:DBBWL-E05_3_3_Block-1776933900-9
SUMMARY:MAT (Vorlesung)
LOCATION:EXT: Online
DESCRIPTION:Course: DBBWL-E05_3_3.Block\nType: Vorlesung\nModule/Group:
  MAT\nLocation: EXT: Online
DTSTART:20260423T084500Z
DTEND:20260423T101500Z
END:VEVENT
BEGIN:VEVENT
UID:DBBWL-E05_3_3_Block-1777020300-10
SUMMARY:STAT (Vorlesung)
LOCATION:EXT: Online
DESCRIPTION:Course: DBBWL-E05_3_3.Block\nType: Vorlesung\nModule/Group:
  STAT\nLocation: EXT: Online
DTSTART:20260424T084500Z
DTEND:20260424T101500Z
END:VEVENT
BEGIN:VEVENT
UID:DBBWL-E05_3_3_Block-1777106700-11
SUMMARY:ENG I B2 (Vorlesung)
LOCATION:EXT: Online
DESCRIPTION:Course: DBBWL-E05_3_3.Block\nType: Vorlesung\nModule/Group: ENG
  I B2\nLocation: EXT: Online
DTSTART:20260425T084500Z
DTEND:20260425T101500Z
END:VEVENT
BEGIN:VEVENT
UID:DBBWL-E05_3_3_Block-1776769200-12
SUMMARY:MAT (Vorlesung)
LOCATION:EXT: Online
DESCRIPTION:Course: DBBWL-E05_3_3.Block\nType: Vorlesung\nModule/Group:
  MAT\nLocation: EXT: Online
DTSTART:20260421T110000Z
DTEND:20260421T123000Z
END:VEVENT
BEGIN:VEVENT
UID:DBBWL-E05_3_3_Block-1776855600-13
SUMMARY:STAT (Vorlesung)
LOCATION:EXT: Online
DESCRIPTION:Course: DBBWL-E05_3_3.Block\nType: Vorlesung\nModule/Group:
  STAT\nLocation: EXT: Online
DTSTART:20260422T110000Z
DTEND:20260422T123000Z
END:VEVENT
BEGIN:VEVENT
UID:DBBWL-E05_3_3_Block-1776942000-14
SUMMARY:MAFO (Vorlesung)
LOCATION:EXT: Online
DESCRIPTION:Course: DBBWL-E05_3_3.Block\nType: Vorlesung\nModule/Group:
  MAFO\nLocation: EXT: Online
DTSTART:20260423T110000Z
DTEND:20260423T123000Z
END:VEVENT
BEGIN:VEVENT
UID:DBBWL-E05_3_3_Block-1777028400-15
SUMMARY:PM (Vorlesung)
LOCATION:EXT: Online
DESCRIPTION:Course: DBBWL-E05_3_3.Block\nType: Vorlesung\nModule/Group:
  PM\nLocation: EXT: Online
DTSTART:20260424T110000Z
DTEND:20260424T123000Z
END:VEVENT
BEGIN:VEVENT
UID:DBBWL-E05_3_3_Block-1776775500-16
SUMMARY:MAT (Vorlesung)
LOCATION:EXT: Online
DESCRIPTION:Course: DBBWL-E05_3_3.Block\nType: Vorlesung\nModule/Group:
  MAT\nLocation: EXT: Online
DTSTART:20260421T124500Z
DTEND:20260421T141500Z
END:VEVENT
BEGIN:VEVENT
UID:DBBWL-E05_3_3_Block-1776861900-17
SUMMARY:STAT (Vorlesung)
LOCATION:EXT: Online
DESCRIPTION:Course: DBBWL-E05_3_3.Block\nType: Vorlesung\nModule/Group:
  STAT\nLocation: EXT: Online
DTSTART:20260422T124500Z
DTEND:20260422T141500Z
END:VEVENT
BEGIN:VEVENT
UID:DBBWL-E05_3_3_Block-1776948300-18
SUMMARY:MAFO (Vorlesung)
LOCATION:EXT: Online
DESCRIPTION:Course: DBBWL-E05_3_3.Block\nType: Vorlesung\nModule/Group:
  MAFO\nLocation: EXT: Online
DTSTART:20260423T124500Z
DTEND:20260423T141500Z
END:VEVENT
BEGIN:VEVENT
UID:DBBWL-E05_3_3_Block-1777034700-19
SUMMARY:PM (Vorlesung)
LOCATION:EXT: Online
DESCRIPTION:Course: DBBWL-E05_3_3.Block\nType: Vorlesung\nModule/Group:
  PM\nLocation: EXT: Online
DTSTART:20260424T124500Z
DTEND:20260424T141500Z
END:VEVENT
BEGIN:VEVENT
UID:DBBWL-E05_3_3_Block-1776781800-20
SUMMARY:MAT (Vorlesung)
LOCATION:EXT: Online
DESCRIPTION:Course: DBBWL-E05_3_3.Block\nType: Vorlesung\nModule/Group:
  MAT\nLocation: EXT: Online
DTSTART:20260421T143000Z
DTEND:20260421T160000Z
END:VEVENT
BEGIN:VEVENT
UID:DBBWL-E05_3_3_Block-1777273200-21
SUMMARY:ENG I B2 (Vorlesung)
LOCATION:NK: 1.10
DESCRIPTION:Course: DBBWL-E05_3_3.Block\nType: Vorlesung\nModule/Group: ENG
  I B2\nLocation: NK: 1.10
DTSTART:20260427T070000Z
DTEND:20260427T083000Z
END:VEVENT
BEGIN:VEVENT
UID:DBBWL-E05_3_3_Block-1777273200-22
SUMMARY:ENG I C1 (Vorlesung)
LOCATION:NK: 1.11
DESCRIPTION:Course: DBBWL-E05_3_3.Block\nType: Vorlesung\nModule/Group: ENG
  I C1\nLocation: NK: 1.11
DTSTART:20260427T070000Z
DTEND:20260427T083000Z
END:VEVENT
BEGIN:VEVENT
UID:DBBWL-E05_3_3_Block-1777359600-23
SUMMARY:MAR (Vorlesung)
LOCATION:NK: 1.10
DESCRIPTION:Course: DBBWL-E05_3_3.Block\nType: Vorlesung\nModule/Group:
  MAR\nLocation: NK: 1.10
DTSTART:20260428T070000Z
DTEND:20260428T083000Z
END:VEVENT
BEGIN:VEVENT
UID:DBBWL-E05_3_3_Block-1777446000-24
SUMMARY:STAT (Vorlesung)
LOCATION:EXT: Online
DESCRIPTION:Course: DBBWL-E05_3_3.Block\nType: Vorlesung\nModule/Group:
  STAT\nLocation: EXT: Online
DTSTART:20260429T070000Z
DTEND:20260429T083000Z
END:VEVENT
BEGIN:VEVENT
UID:DBBWL-E05_3_3_Block-1777532400-25
SUMMARY:STAT (Vorlesung)
LOCATION:EXT: Online
DESCRIPTION:Course: DBBWL-E05_3_3.Block\nType: Vorlesung\nModule/Group:
  STAT\nLocation: EXT: Online
DTSTART:20260430T070000Z
DTEND:20260430T083000Z
END:VEVENT
BEGIN:VEVENT
UID:DBBWL-E05_3_3_Block-1777279500-26
SUMMARY:ENG I B2 (Vorlesung)
LOCATION:NK: 1.10
DESCRIPTION:Course: DBBWL-E05_3_3.Block\nType: Vorlesung\nModule/Group: ENG
  I B2\nLocation: NK: 1.10
DTSTART:20260427T084500Z
DTEND:20260427T101500Z
END:VEVENT
BEGIN:VEVENT
UID:DBBWL-E05_3_3_Block-1777279500-27
SUMMARY:ENG I C1 (Vorlesung)
LOCATION:NK: 1.11
DESCRIPTION:Course: DBBWL-E05_3_3.Block\nType: Vorlesung\nModule/Group: ENG
  I C1\nLocation: NK: 1.11
DTSTART:20260427T084500Z
DTEND:20260427T101500Z
END:VEVENT
BEGIN:VEVENT
UID:DBBWL-E05_3_3_Block-1777365900-28
SUMMARY:MAR (Vorlesung)
LOCATION:NK: 1.10
DESCRIPTION:Course: DBBWL-E05_3_3.Block\nType: Vorlesung\nModule/Group:
  MAR\nLocation: NK: 1.10
DTSTART:20260428T084500Z
DTEND:20260428T101500Z
END:VEVENT
BEGIN:VEVENT
UID:DBBWL-E05_3_3_Block-1777452300-29
SUMMARY:STAT (Vorlesung)
LOCATION:EXT: Online
DESCRIPTION:Course: DBBWL-E05_3_3.Block\nType: Vorlesung\nModule/Group:
  STAT\nLocation: EXT: Online
DTSTART:20260429T084500Z
DTEND:20260429T101500Z
END:VEVENT
BEGIN:VEVENT
UID:DBBWL-E05_3_3_Block-1777538700-30
SUMMARY:STAT (Vorlesung)
LOCATION:EXT: Online
DESCRIPTION:Course: DBBWL-E05_3_3.Block\nType: Vorlesung\nModule/Group:
  STAT\nLocation: EXT: Online
DTSTART:20260430T084500Z
DTEND:20260430T101500Z
END:VEVENT
BEGIN:VEVENT
UID:DBBWL-E05_3_3_Block-1777287600-31
SUMMARY:MAFO (Vorlesung)
LOCATION:NK: 1.06
DESCRIPTION:Course: DBBWL-E05_3_3.Block\nType: Vorlesung\nModule/Group:
  MAFO\nLocation: NK: 1.06
DTSTART:20260427T110000Z
DTEND:20260427T123000Z
END:VEVENT
BEGIN:VEVENT
UID:DBBWL-E05_3_3_Block-1777374000-32
SUMMARY:Übung Mathe
LOCATION:NK: 1.10
DESCRIPTION:Course: DBBWL-E05_3_3.Block\nType: Übung\nModule/Group: Übung
  Mathe\nLocation: NK: 1.10
DTSTART:20260428T110000Z
DTEND:20260428T123000Z
END:VEVENT
BEGIN:VEVENT
UID:DBBWL-E05_3_3_Block-1777460400-33
SUMMARY:MAR (Vorlesung)
LOCATION:EXT: Online
DESCRIPTION:Course: DBBWL-E05_3_3.Block\nType: Vorlesung\nModule/Group:
  MAR\nLocation: EXT: Online
DTSTART:20260429T110000Z
DTEND:20260429T123000Z
END:VEVENT
BEGIN:VEVENT
UID:DBBWL-E05_3_3_Block-1777546800-34
SUMMARY:MAR (Vorlesung)
LOCATION:EXT: Online
DESCRIPTION:Course: DBBWL-E05_3_3.Block\nType: Vorlesung\nModule/Group:
  MAR\nLocation: EXT: Online
DTSTART:20260430T110000Z
DTEND:20260430T123000Z
END:VEVENT
BEGIN:VEVENT
UID:DBBWL-E05_3_3_Block-1777293900-35
SUMMARY:MAFO (Vorlesung)
LOCATION:NK: 1.06
DESCRIPTION:Course: DBBWL-E05_3_3.Block\nType: Vorlesung\nModule/Group:
  MAFO\nLocation: NK: 1.06
DTSTART:20260427T124500Z
DTEND:20260427T141500Z
END:VEVENT
BEGIN:VEVENT
UID:DBBWL-E05_3_3_Block-1777380300-36
SUMMARY:Übung Mathe
LOCATION:NK: 1.10
DESCRIPTION:Course: DBBWL-E05_3_3.Block\nType: Übung\nModule/Group: Übung
  Mathe\nLocation: NK: 1.10
DTSTART:20260428T124500Z
DTEND:20260428T141500Z
END:VEVENT
BEGIN:VEVENT
UID:DBBWL-E05_3_3_Block-1777466700-37
SUMMARY:MAR (Vorlesung)
LOCATION:EXT: Online
DESCRIPTION:Course: DBBWL-E05_3_3.Block\nType: Vorlesung\nModule/Group:
  MAR\nLocation: EXT: Online
DTSTART:20260429T124500Z
DTEND:20260429T141500Z
END:VEVENT
BEGIN:VEVENT
UID:DBBWL-E05_3_3_Block-1777553100-38
SUMMARY:MAR (Vorlesung)
LOCATION:EXT: Online
DESCRIPTION:Course: DBBWL-E05_3_3.Block\nType: Vorlesung\nModule/Group:
  MAR\nLocation: EXT: Online
DTSTART:20260430T124500Z
DTEND:20260430T141500Z
END:VEVENT
BEGIN:VEVENT
UID:DBBWL-E05_3_3_Block-1777878000-39
SUMMARY:MAFO (Vorlesung)
LOCATION:NK: 1.06
DESCRIPTION:Course: DBBWL-E05_3_3.Block\nType: Vorlesung\nModule/Group:
  MAFO\nLocation: NK: 1.06
DTSTART:20260504T070000Z
DTEND:20260504T083000Z
END:VEVENT
BEGIN:VEVENT
UID:DBBWL-E05_3_3_Block-1777964400-40
SUMMARY:MAR (Vorlesung)
LOCATION:NK: 1.10
DESCRIPTION:Course: DBBWL-E05_3_3.Block\nType: Vorlesung\nModule/Group:
  MAR\nLocation: NK: 1.10
DTSTART:20260505T070000Z
DTEND:20260505T083000Z
END:VEVENT
BEGIN:VEVENT
UID:DBBWL-E05_3_3_Block-1778050800-41
SUMMARY:STAT (Vorlesung)
LOCATION:EXT: Online
DESCRIPTION:Course: DBBWL-E05_3_3.Block\nType: Vorlesung\nModule/Group:
  STAT\nLocation: EXT: Online
DTSTART:20260506T070000Z
DTEND:20260506T083000Z
END:VEVENT
BEGIN:VEVENT
UID:DBBWL-E05_3_3_Block-1778137200-42
SUMMARY:STAT (Vorlesung)
LOCATION:EXT: Online
DESCRIPTION:Course: DBBWL-E05_3_3.Block\nType: Vorlesung\nModule/Group:
  STAT\nLocation: EXT: Online
DTSTART:20260507T070000Z
DTEND:20260507T083000Z
END:VEVENT
BEGIN:VEVENT
UID:DBBWL-E05_3_3_Block-1778310000-43
SUMMARY:MP QU METH (Klausur)
LOCATION:NK: 1.07
DESCRIPTION:Course: DBBWL-E05_3_3.Block\nType: Klausur\nModule/Group: MP QU
  METH\nLocation: NK: 1.07
DTSTART:20260509T070000Z
DTEND:20260509T093000Z
END:VEVENT
BEGIN:VEVENT
UID:DBBWL-E05_3_3_Block-1777884300-44
SUMMARY:MAFO (Vorlesung)
LOCATION:NK: 1.06
DESCRIPTION:Course: DBBWL-E05_3_3.Block\nType: Vorlesung\nModule/Group:
  MAFO\nLocation: NK: 1.06
DTSTART:20260504T084500Z
DTEND:20260504T101500Z
END:VEVENT
BEGIN:VEVENT
UID:DBBWL-E05_3_3_Block-1777970700-45
SUMMARY:MAR (Vorlesung)
LOCATION:NK: 1.10
DESCRIPTION:Course: DBBWL-E05_3_3.Block\nType: Vorlesung\nModule/Group:
  MAR\nLocation: NK: 1.10
DTSTART:20260505T084500Z
DTEND:20260505T101500Z
END:VEVENT
BEGIN:VEVENT
UID:DBBWL-E05_3_3_Block-1778057100-46
SUMMARY:STAT (Vorlesung)
LOCATION:EXT: Online
DESCRIPTION:Course: DBBWL-E05_3_3.Block\nType: Vorlesung\nModule/Group:
  STAT\nLocation: EXT: Online
DTSTART:20260506T084500Z
DTEND:20260506T101500Z
END:VEVENT
BEGIN:VEVENT
UID:DBBWL-E05_3_3_Block-1778143500-47
SUMMARY:STAT (Vorlesung)
LOCATION:EXT: Online
DESCRIPTION:Course: DBBWL-E05_3_3.Block\nType: Vorlesung\nModule/Group:
  STAT\nLocation: EXT: Online
DTSTART:20260507T084500Z
DTEND:20260507T101500Z
END:VEVENT
BEGIN:VEVENT
UID:DBBWL-E05_3_3_Block-1777892400-48
SUMMARY:MAT (Vorlesung)
LOCATION:NK: 1.06
DESCRIPTION:Course: DBBWL-E05_3_3.Block\nType: Vorlesung\nModule/Group:
  MAT\nLocation: NK: 1.06
DTSTART:20260504T110000Z
DTEND:20260504T123000Z
END:VEVENT
BEGIN:VEVENT
UID:DBBWL-E05_3_3_Block-1777978800-49
SUMMARY:MAFO (Vorlesung)
LOCATION:NK: 1.10
DESCRIPTION:Course: DBBWL-E05_3_3.Block\nType: Vorlesung\nModule/Group:
  MAFO\nLocation: NK: 1.10
DTSTART:20260505T110000Z
DTEND:20260505T123000Z
END:VEVENT
BEGIN:VEVENT
UID:DBBWL-E05_3_3_Block-1778065200-50
SUMMARY:MAR (Vorlesung)
LOCATION:EXT: Online
DESCRIPTION:Course: DBBWL-E05_3_3.Block\nType: Vorlesung\nModule/Group:
  MAR\nLocation: EXT: Online
DTSTART:20260506T110000Z
DTEND:20260506T123000Z
END:VEVENT
BEGIN:VEVENT
UID:DBBWL-E05_3_3_Block-1778151600-51
SUMMARY:MAFO (Vorlesung)
LOCATION:EXT: Online
DESCRIPTION:Course: DBBWL-E05_3_3.Block\nType: Vorlesung\nModule/Group:
  MAFO\nLocation: EXT: Online
DTSTART:20260507T110000Z
DTEND:20260507T123000Z
END:VEVENT
BEGIN:VEVENT
UID:DBBWL-E05_3_3_Block-1777898700-52
SUMMARY:MAT (Vorlesung)
LOCATION:NK: 1.06
DESCRIPTION:Course: DBBWL-E05_3_3.Block\nType: Vorlesung\nModule/Group:
  MAT\nLocation: NK: 1.06
DTSTART:20260504T124500Z
DTEND:20260504T141500Z
END:VEVENT
BEGIN:VEVENT
UID:DBBWL-E05_3_3_Block-1777985100-53
SUMMARY:MAFO (Vorlesung)
LOCATION:NK: 1.10
DESCRIPTION:Course: DBBWL-E05_3_3.Block\nType: Vorlesung\nModule/Group:
  MAFO\nLocation: NK: 1.10
DTSTART:20260505T124500Z
DTEND:20260505T141500Z
END:VEVENT
BEGIN:VEVENT
UID:DBBWL-E05_3_3_Block-1778071500-54
SUMMARY:MAR (Vorlesung)
LOCATION:EXT: Online
DESCRIPTION:Course: DBBWL-E05_3_3.Block\nType: Vorlesung\nModule/Group:
  MAR\nLocation: EXT: Online
DTSTART:20260506T124500Z
DTEND:20260506T141500Z
END:VEVENT
BEGIN:VEVENT
UID:DBBWL-E05_3_3_Block-1778157900-55
SUMMARY:MAFO (Vorlesung)
LOCATION:EXT: Online
DESCRIPTION:Course: DBBWL-E05_3_3.Block\nType: Vorlesung\nModule/Group:
  MAFO\nLocation: EXT: Online
DTSTART:20260507T124500Z
DTEND:20260507T141500Z
END:VEVENT
BEGIN:VEVENT
UID:DBBWL-E05_3_3_Block-1777905000-56
SUMMARY:MAT (Vorlesung)
LOCATION:NK: 1.06
DESCRIPTION:Course: DBBWL-E05_3_3.Block\nType: Vorlesung\nModule/Group:
  MAT\nLocation: NK: 1.06
DTSTART:20260504T143000Z
DTEND:20260504T160000Z
END:VEVENT
BEGIN:VEVENT
UID:DBBWL-E05_3_3_Block-1777991400-57
SUMMARY:Übung Mathe Ringwald
LOCATION:NK: 1.10
DESCRIPTION:Course: DBBWL-E05_3_3.Block\nType: Übung\nModule/Group: Übung
  Mathe Ringwald\nLocation: NK: 1.10
DTSTART:20260505T143000Z
DTEND:20260505T160000Z
END:VEVENT
BEGIN:VEVENT
UID:DBBWL-E05_3_3_Block-1778655600-58
SUMMARY:MAR (Vorlesung)
LOCATION:NK: 1.10
DESCRIPTION:Course: DBBWL-E05_3_3.Block\nType: Vorlesung\nModule/Group:
  MAR\nLocation: NK: 1.10
DTSTART:20260513T070000Z
DTEND:20260513T083000Z
END:VEVENT
BEGIN:VEVENT
UID:DBBWL-E05_3_3_Block-1778914800-59
SUMMARY:MP MAR (Klausur)
LOCATION:NK: 1.07
DESCRIPTION:Course: DBBWL-E05_3_3.Block\nType: Klausur\nModule/Group: MP
  MAR\nLocation: NK: 1.07
DTSTART:20260516T070000Z
DTEND:20260516T093000Z
END:VEVENT
BEGIN:VEVENT
UID:DBBWL-E05_3_3_Block-1778572800-60
SUMMARY:MP Anteil ENG I B2 (Klausur)
LOCATION:NK: 1.05
DESCRIPTION:Course: DBBWL-E05_3_3.Block\nType: Klausur\nModule/Group: MP
  Anteil ENG I B2\nLocation: NK: 1.05
DTSTART:20260512T080000Z
DTEND:20260512T090000Z
END:VEVENT
BEGIN:VEVENT
UID:DBBWL-E05_3_3_Block-1778572800-61
SUMMARY:MP Anteil ENG I C1 (Klausur)
LOCATION:NK: 1.11
DESCRIPTION:Course: DBBWL-E05_3_3.Block\nType: Klausur\nModule/Group: MP
  Anteil ENG I C1\nLocation: NK: 1.11
DTSTART:20260512T080000Z
DTEND:20260512T090000Z
END:VEVENT
BEGIN:VEVENT
UID:DBBWL-E05_3_3_Block-1778661900-62
SUMMARY:MAR (Vorlesung)
LOCATION:NK: 1.10
DESCRIPTION:Course: DBBWL-E05_3_3.Block\nType: Vorlesung\nModule/Group:
  MAR\nLocation: NK: 1.10
DTSTART:20260513T084500Z
DTEND:20260513T101500Z
END:VEVENT
BEGIN:VEVENT
UID:DBBWL-E05_3_3_Block-1778576400-63
SUMMARY:MP Anteil PM (Klausur)
LOCATION:NK: 1.06
DESCRIPTION:Course: DBBWL-E05_3_3.Block\nType: Klausur\nModule/Group: MP
  Anteil PM\nLocation: NK: 1.06
DTSTART:20260512T090000Z
DTEND:20260512T100000Z
END:VEVENT
BEGIN:VEVENT
UID:DBBWL-E05_3_3_Block-1778583600-64
SUMMARY:MAR (Vorlesung)
LOCATION:NK: 1.10
DESCRIPTION:Course: DBBWL-E05_3_3.Block\nType: Vorlesung\nModule/Group:
  MAR\nLocation: NK: 1.10
DTSTART:20260512T110000Z
DTEND:20260512T123000Z
END:VEVENT
BEGIN:VEVENT
UID:DBBWL-E05_3_3_Block-1778670000-65
SUMMARY:MAFO (Vorlesung)
LOCATION:NK: 1.10
DESCRIPTION:Course: DBBWL-E05_3_3.Block\nType: Vorlesung\nModule/Group:
  MAFO\nLocation: NK: 1.10
DTSTART:20260513T110000Z
DTEND:20260513T123000Z
END:VEVENT
BEGIN:VEVENT
UID:DBBWL-E05_3_3_Block-1778589900-66
SUMMARY:MAR (Vorlesung)
LOCATION:NK: 1.10
DESCRIPTION:Course: DBBWL-E05_3_3.Block\nType: Vorlesung\nModule/Group:
  MAR\nLocation: NK: 1.10
DTSTART:20260512T124500Z
DTEND:20260512T141500Z
END:VEVENT
BEGIN:VEVENT
UID:DBBWL-E05_3_3_Block-1778676300-67
SUMMARY:MAFO (Vorlesung)
LOCATION:NK: 1.10
DESCRIPTION:Course: DBBWL-E05_3_3.Block\nType: Vorlesung\nModule/Group:
  MAFO\nLocation: NK: 1.10
DTSTART:20260513T124500Z
DTEND:20260513T141500Z
END:VEVENT
BEGIN:VEVENT
UID:DBBWL-E05_3_3_Block-1786343400-68
SUMMARY:Posterpräs. (Posterpräsenation)
DESCRIPTION:Course: DBBWL-E05_3_3.Block\nType:
  Posterpräsenation\nModule/Group: Posterpräs.
DTSTART:20260810T063000Z
DTEND:20260810T141500Z
END:VEVENT
BEGIN:VEVENT
UID:DBBWL-E05_3_3_Block-1786429800-69
SUMMARY:Posterpräs. (Posterpräsenation)
DESCRIPTION:Course: DBBWL-E05_3_3.Block\nType:
  Posterpräsenation\nModule/Group: Posterpräs.
DTSTART:20260811T063000Z
DTEND:20260811T141500Z
END:VEVENT
BEGIN:VEVENT
UID:DBBWL-E05_3_3_Block-1786516200-70
SUMMARY:Posterpräs. (Posterpräsenation)
DESCRIPTION:Course: DBBWL-E05_3_3.Block\nType:
  Posterpräsenation\nModule/Group: Posterpräs.
DTSTART:20260812T063000Z
DTEND:20260812T141500Z
END:VEVENT
BEGIN:VEVENT
UID:DBBWL-E05_3_3_Block-1786602600-71
SUMMARY:Posterpräs. (Posterpräsenation)
DESCRIPTION:Course: DBBWL-E05_3_3.Block\nType:
  Posterpräsenation\nModule/Group: Posterpräs.
DTSTART:20260813T063000Z
DTEND:20260813T141500Z
END:VEVENT
BEGIN:VEVENT
UID:DBBWL-E05_3_3_Block-1786689000-72
SUMMARY:Posterpräs. (Posterpräsenation)
DESCRIPTION:Course: DBBWL-E05_3_3.Block\nType:
  Posterpräsenation\nModule/Group: Posterpräs.
DTSTART:20260814T063000Z
DTEND:20260814T141500Z
END:VEVENT
BEGIN:VEVENT
UID:DBBWL-E05_3_3_Block-1786371300-73
SUMMARY:Zent. NK/WK FB WI (Zentraler Nachschreibetermin FB WI)
DESCRIPTION:Course: DBBWL-E05_3_3.Block\nType: Zentraler Nachschreibetermin
  FB WI\nModule/Group: Zent. NK/WK FB WI
DTSTART:20260810T141500Z
DTEND:20260810T174500Z
END:VEVENT
BEGIN:VEVENT
UID:DBBWL-E05_3_3_Block-1786457700-74
SUMMARY:Zent. NK/WK FB WI (Zentraler Nachschreibetermin FB WI)
DESCRIPTION:Course: DBBWL-E05_3_3.Block\nType: Zentraler Nachschreibetermin
  FB WI\nModule/Group: Zent. NK/WK FB WI
DTSTART:20260811T141500Z
DTEND:20260811T174500Z
END:VEVENT
BEGIN:VEVENT
UID:DBBWL-E05_3_3_Block-1786544100-75
SUMMARY:Zent. NK/WK FB WI (Zentraler Nachschreibetermin FB WI)
DESCRIPTION:Course: DBBWL-E05_3_3.Block\nType: Zentraler Nachschreibetermin
  FB WI\nModule/Group: Zent. NK/WK FB WI
DTSTART:20260812T141500Z
DTEND:20260812T174500Z
END:VEVENT
BEGIN:VEVENT
UID:DBBWL-E05_3_3_Block-1786630500-76
SUMMARY:Zent. NK/WK FB WI (Zentraler Nachschreibetermin FB WI)
DESCRIPTION:Course: DBBWL-E05_3_3.Block\nType: Zentraler Nachschreibetermin
  FB WI\nModule/Group: Zent. NK/WK FB WI
DTSTART:20260813T141500Z
DTEND:20260813T174500Z
END:VEVENT
BEGIN:VEVENT
UID:DBBWL-E05_3_3_Block-1786716900-77
SUMMARY:Zent. NK/WK FB WI (Zentraler Nachschreibetermin FB WI)
DESCRIPTION:Course: DBBWL-E05_3_3.Block\nType: Zentraler Nachschreibetermin
  FB WI\nModule/Group: Zent. NK/WK FB WI
DTSTART:20260814T141500Z
DTEND:20260814T174500Z
END:VEVENT
BEGIN:VEVENT
UID:DBBWL-E05_3_3_Block-1786948200-78
SUMMARY:Posterpräs. (Posterpräsenation)
DESCRIPTION:Course: DBBWL-E05_3_3.Block\nType:
  Posterpräsenation\nModule/Group: Posterpräs.
DTSTART:20260817T063000Z
DTEND:20260817T141500Z
END:VEVENT
BEGIN:VEVENT
UID:DBBWL-E05_3_3_Block-1787034600-79
SUMMARY:Posterpräs. (Posterpräsenation)
DESCRIPTION:Course: DBBWL-E05_3_3.Block\nType:
  Posterpräsenation\nModule/Group: Posterpräs.
DTSTART:20260818T063000Z
DTEND:20260818T141500Z
END:VEVENT
BEGIN:VEVENT
UID:DBBWL-E05_3_3_Block-1787121000-80
SUMMARY:Posterpräs. (Posterpräsenation)
DESCRIPTION:Course: DBBWL-E05_3_3.Block\nType:
  Posterpräsenation\nModule/Group: Posterpräs.
DTSTART:20260819T063000Z
DTEND:20260819T141500Z
END:VEVENT
BEGIN:VEVENT
UID:DBBWL-E05_3_3_Block-1787207400-81
SUMMARY:Posterpräs. (Posterpräsenation)
DESCRIPTION:Course: DBBWL-E05_3_3.Block\nType:
  Posterpräsenation\nModule/Group: Posterpräs.
DTSTART:20260820T063000Z
DTEND:20260820T141500Z
END:VEVENT
BEGIN:VEVENT
UID:DBBWL-E05_3_3_Block-1787293800-82
SUMMARY:Posterpräs. (Posterpräsenation)
DESCRIPTION:Course: DBBWL-E05_3_3.Block\nType:
  Posterpräsenation\nModule/Group: Posterpräs.
DTSTART:20260821T063000Z
DTEND:20260821T141500Z
END:VEVENT
BEGIN:VEVENT
UID:DBBWL-E05_3_3_Block-1786976100-83
SUMMARY:Zent. NK/WK FB WI (Zentraler Nachschreibetermin FB WI)
DESCRIPTION:Course: DBBWL-E05_3_3.Block\nType: Zentraler Nachschreibetermin
  FB WI\nModule/Group: Zent. NK/WK FB WI
DTSTART:20260817T141500Z
DTEND:20260817T174500Z
END:VEVENT
BEGIN:VEVENT
UID:DBBWL-E05_3_3_Block-1787062500-84
SUMMARY:Zent. NK/WK FB WI (Zentraler Nachschreibetermin FB WI)
DESCRIPTION:Course: DBBWL-E05_3_3.Block\nType: Zentraler Nachschreibetermin
  FB WI\nModule/Group: Zent. NK/WK FB WI
DTSTART:20260818T141500Z
DTEND:20260818T174500Z
END:VEVENT
BEGIN:VEVENT
UID:DBBWL-E05_3_3_Block-1787148900-85
SUMMARY:Zent. NK/WK FB WI (Zentraler Nachschreibetermin FB WI)
DESCRIPTION:Course: DBBWL-E05_3_3.Block\nType: Zentraler Nachschreibetermin
  FB WI\nModule/Group: Zent. NK/WK FB WI
DTSTART:20260819T141500Z
DTEND:20260819T174500Z
END:VEVENT
BEGIN:VEVENT
UID:DBBWL-E05_3_3_Block-1787235300-86
SUMMARY:Zent. NK/WK FB WI (Zentraler Nachschreibetermin FB WI)
DESCRIPTION:Course: DBBWL-E05_3_3.Block\nType: Zentraler Nachschreibetermin
  FB WI\nModule/Group: Zent. NK/WK FB WI
DTSTART:20260820T141500Z
DTEND:20260820T174500Z
END:VEVENT
BEGIN:VEVENT
UID:DBBWL-E05_3_3_Block-1787321700-87
SUMMARY:Zent. NK/WK FB WI (Zentraler Nachschreibetermin FB WI)
DESCRIPTION:Course: DBBWL-E05_3_3.Block\nType: Zentraler Nachschreibetermin
  FB WI\nModule/Group: Zent. NK/WK FB WI
DTSTART:20260821T141500Z
DTEND:20260821T174500Z
END:VEVENT
BEGIN:VEVENT
UID:DBBWL-E05_3_3_Block-1787553000-88
SUMMARY:Posterpräs. (Posterpräsenation)
DESCRIPTION:Course: DBBWL-E05_3_3.Block\nType:
  Posterpräsenation\nModule/Group: Posterpräs.
DTSTART:20260824T063000Z
DTEND:20260824T141500Z
END:VEVENT
BEGIN:VEVENT
UID:DBBWL-E05_3_3_Block-1787639400-89
SUMMARY:Posterpräs. (Posterpräsenation)
DESCRIPTION:Course: DBBWL-E05_3_3.Block\nType:
  Posterpräsenation\nModule/Group: Posterpräs.
DTSTART:20260825T063000Z
DTEND:20260825T141500Z
END:VEVENT
BEGIN:VEVENT
UID:DBBWL-E05_3_3_Block-1787725800-90
SUMMARY:Posterpräs. (Posterpräsenation)
DESCRIPTION:Course: DBBWL-E05_3_3.Block\nType:
  Posterpräsenation\nModule/Group: Posterpräs.
DTSTART:20260826T063000Z
DTEND:20260826T141500Z
END:VEVENT
BEGIN:VEVENT
UID:DBBWL-E05_3_3_Block-1787812200-91
SUMMARY:Posterpräs. (Posterpräsenation)
DESCRIPTION:Course: DBBWL-E05_3_3.Block\nType:
  Posterpräsenation\nModule/Group: Posterpräs.
DTSTART:20260827T063000Z
DTEND:20260827T141500Z
END:VEVENT
BEGIN:VEVENT
UID:DBBWL-E05_3_3_Block-1787898600-92
SUMMARY:Posterpräs. (Posterpräsenation)
DESCRIPTION:Course: DBBWL-E05_3_3.Block\nType:
  Posterpräsenation\nModule/Group: Posterpräs.
DTSTART:20260828T063000Z
DTEND:20260828T141500Z
END:VEVENT
BEGIN:VEVENT
UID:DBBWL-E05_3_3_Block-1787580900-93
SUMMARY:Zent. NK/WK FB WI (Zentraler Nachschreibetermin FB WI)
DESCRIPTION:Course: DBBWL-E05_3_3.Block\nType: Zentraler Nachschreibetermin
  FB WI\nModule/Group: Zent. NK/WK FB WI
DTSTART:20260824T141500Z
DTEND:20260824T174500Z
END:VEVENT
BEGIN:VEVENT
UID:DBBWL-E05_3_3_Block-1787667300-94
SUMMARY:Zent. NK/WK FB WI (Zentraler Nachschreibetermin FB WI)
DESCRIPTION:Course: DBBWL-E05_3_3.Block\nType: Zentraler Nachschreibetermin
  FB WI\nModule/Group: Zent. NK/WK FB WI
DTSTART:20260825T141500Z
DTEND:20260825T174500Z
END:VEVENT
BEGIN:VEVENT
UID:DBBWL-E05_3_3_Block-1787753700-95
SUMMARY:Zent. NK/WK FB WI (Zentraler Nachschreibetermin FB WI)
DESCRIPTION:Course: DBBWL-E05_3_3.Block\nType: Zentraler Nachschreibetermin
  FB WI\nModule/Group: Zent. NK/WK FB WI
DTSTART:20260826T141500Z
DTEND:20260826T174500Z
END:VEVENT
BEGIN:VEVENT
UID:DBBWL-E05_3_3_Block-1787840100-96
SUMMARY:Zent. NK/WK FB WI (Zentraler Nachschreibetermin FB WI)
DESCRIPTION:Course: DBBWL-E05_3_3.Block\nType: Zentraler Nachschreibetermin
  FB WI\nModule/Group: Zent. NK/WK FB WI
DTSTART:20260827T141500Z
DTEND:20260827T174500Z
END:VEVENT
BEGIN:VEVENT
UID:DBBWL-E05_3_3_Block-1787926500-97
SUMMARY:Zent. NK/WK FB WI (Zentraler Nachschreibetermin FB WI)
DESCRIPTION:Course: DBBWL-E05_3_3.Block\nType: Zentraler Nachschreibetermin
  FB WI\nModule/Group: Zent. NK/WK FB WI
DTSTART:20260828T141500Z
DTEND:20260828T174500Z
END:VEVENT
END:VCALENDAR
