BEGIN:VCALENDAR
VERSION:2.0
PRODID:-//ASW Schedule Exporter//EN
NAME:ASW Schedule DBBWL-E03_9_9.Block
X-WR-CALNAME:ASW Schedule DBBWL-E03_9_9.Block
TZID:Europe/Berlin
BEGIN:VEVENT
UID:DBBWL-E03_9_9_Block-1776668400-0
SUMMARY:IK (Vorlesung)
LOCATION:NK: 2.12
DESCRIPTION:Course: DBBWL-E03_9_9.Block\nType: Vorlesung\nModule/Group:
  IK\nLocation: NK: 2.12
DTSTART:20260420T070000Z
DTEND:20260420T083000Z
END:VEVENT
BEGIN:VEVENT
UID:DBBWL-E03_9_9_Block-1776754800-1
SUMMARY:RHETG (Vorlesung)
LOCATION:NK: 2.12\, NK: 2.13
DESCRIPTION:Course: DBBWL-E03_9_9.Block\nType: Vorlesung\nModule/Group:
  RHETG\nLocation: NK: 2.12\, NK: 2.13
DTSTART:20260421T070000Z
DTEND:20260421T083000Z
END:VEVENT
BEGIN:VEVENT
UID:DBBWL-E03_9_9_Block-1776841200-2
SUMMARY:RHETG (Vorlesung)
LOCATION:NK: 2.12\, NK: 2.13
DESCRIPTION:Course: DBBWL-E03_9_9.Block\nType: Vorlesung\nModule/Group:
  RHETG\nLocation: NK: 2.12\, NK: 2.13
DTSTART:20260422T070000Z
DTEND:20260422T083000Z
END:VEVENT
BEGIN:VEVENT
UID:DBBWL-E03_9_9_Block-1776927600-3
SUMMARY:RHETG (Präsentation)
LOCATION:NK: 2.12\, NK: 2.13
DESCRIPTION:Course: DBBWL-E03_9_9.Block\nType: Präsentation\nModule/Group:
  RHETG\nLocation: NK: 2.12\, NK: 2.13
DTSTART:20260423T070000Z
DTEND:20260423T083000Z
END:VEVENT
BEGIN:VEVENT
UID:DBBWL-E03_9_9_Block-1776674700-4
SUMMARY:IK (Vorlesung)
LOCATION:NK: 2.12
DESCRIPTION:Course: DBBWL-E03_9_9.Block\nType: Vorlesung\nModule/Group:
  IK\nLocation: NK: 2.12
DTSTART:20260420T084500Z
DTEND:20260420T101500Z
END:VEVENT
BEGIN:VEVENT
UID:DBBWL-E03_9_9_Block-1776761100-5
SUMMARY:RHETG (Vorlesung)
LOCATION:NK: 2.12\, NK: 2.13
DESCRIPTION:Course: DBBWL-E03_9_9.Block\nType: Vorlesung\nModule/Group:
  RHETG\nLocation: NK: 2.12\, NK: 2.13
DTSTART:20260421T084500Z
DTEND:20260421T101500Z
END:VEVENT
BEGIN:VEVENT
UID:DBBWL-E03_9_9_Block-1776847500-6
SUMMARY:RHETG (Vorlesung)
LOCATION:NK: 2.12\, NK: 2.13
DESCRIPTION:Course: DBBWL-E03_9_9.Block\nType: Vorlesung\nModule/Group:
  RHETG\nLocation: NK: 2.12\, NK: 2.13
DTSTART:20260422T084500Z
DTEND:20260422T101500Z
END:VEVENT
BEGIN:VEVENT
UID:DBBWL-E03_9_9_Block-1776933900-7
SUMMARY:RHETG (Präsentation)
LOCATION:NK: 2.12\, NK: 2.13
DESCRIPTION:Course: DBBWL-E03_9_9.Block\nType: Präsentation\nModule/Group:
  RHETG\nLocation: NK: 2.12\, NK: 2.13
DTSTART:20260423T084500Z
DTEND:20260423T101500Z
END:VEVENT
BEGIN:VEVENT
UID:DBBWL-E03_9_9_Block-1776682800-8
SUMMARY:IK (Vorlesung)
LOCATION:NK: 2.12
DESCRIPTION:Course: DBBWL-E03_9_9.Block\nType: Vorlesung\nModule/Group:
  IK\nLocation: NK: 2.12
DTSTART:20260420T110000Z
DTEND:20260420T123000Z
END:VEVENT
BEGIN:VEVENT
UID:DBBWL-E03_9_9_Block-1776769200-9
SUMMARY:RHETG (Vorlesung)
LOCATION:NK: 2.12\, NK: 2.13
DESCRIPTION:Course: DBBWL-E03_9_9.Block\nType: Vorlesung\nModule/Group:
  RHETG\nLocation: NK: 2.12\, NK: 2.13
DTSTART:20260421T110000Z
DTEND:20260421T123000Z
END:VEVENT
BEGIN:VEVENT
UID:DBBWL-E03_9_9_Block-1776855600-10
SUMMARY:RHETG (Vorlesung)
LOCATION:NK: 2.12\, NK: 2.13
DESCRIPTION:Course: DBBWL-E03_9_9.Block\nType: Vorlesung\nModule/Group:
  RHETG\nLocation: NK: 2.12\, NK: 2.13
DTSTART:20260422T110000Z
DTEND:20260422T123000Z
END:VEVENT
BEGIN:VEVENT
UID:DBBWL-E03_9_9_Block-1776689100-11
SUMMARY:IK (Vorlesung)
LOCATION:NK: 2.12
DESCRIPTION:Course: DBBWL-E03_9_9.Block\nType: Vorlesung\nModule/Group:
  IK\nLocation: NK: 2.12
DTSTART:20260420T124500Z
DTEND:20260420T141500Z
END:VEVENT
BEGIN:VEVENT
UID:DBBWL-E03_9_9_Block-1776775500-12
SUMMARY:RHETG (Vorlesung)
LOCATION:NK: 2.12\, NK: 2.13
DESCRIPTION:Course: DBBWL-E03_9_9.Block\nType: Vorlesung\nModule/Group:
  RHETG\nLocation: NK: 2.12\, NK: 2.13
DTSTART:20260421T124500Z
DTEND:20260421T141500Z
END:VEVENT
BEGIN:VEVENT
UID:DBBWL-E03_9_9_Block-1776861900-13
SUMMARY:RHETG (Vorlesung)
LOCATION:NK: 2.12\, NK: 2.13
DESCRIPTION:Course: DBBWL-E03_9_9.Block\nType: Vorlesung\nModule/Group:
  RHETG\nLocation: NK: 2.12\, NK: 2.13
DTSTART:20260422T124500Z
DTEND:20260422T141500Z
END:VEVENT
BEGIN:VEVENT
UID:DBBWL-E03_9_9_Block-1777446000-14
SUMMARY:UK (Vorlesung)
LOCATION:EXT: Online
DESCRIPTION:Course: DBBWL-E03_9_9.Block\nType: Vorlesung\nModule/Group:
  UK\nLocation: EXT: Online
DTSTART:20260429T070000Z
DTEND:20260429T083000Z
END:VEVENT
BEGIN:VEVENT
UID:DBBWL-E03_9_9_Block-1777532400-15
SUMMARY:UK (Vorlesung)
LOCATION:NK: 2.04
DESCRIPTION:Course: DBBWL-E03_9_9.Block\nType: Vorlesung\nModule/Group:
  UK\nLocation: NK: 2.04
DTSTART:20260430T070000Z
DTEND:20260430T083000Z
END:VEVENT
BEGIN:VEVENT
UID:DBBWL-E03_9_9_Block-1777452300-16
SUMMARY:UK (Vorlesung)
LOCATION:EXT: Online
DESCRIPTION:Course: DBBWL-E03_9_9.Block\nType: Vorlesung\nModule/Group:
  UK\nLocation: EXT: Online
DTSTART:20260429T084500Z
DTEND:20260429T101500Z
END:VEVENT
BEGIN:VEVENT
UID:DBBWL-E03_9_9_Block-1777538700-17
SUMMARY:UK (Vorlesung)
LOCATION:NK: 2.04
DESCRIPTION:Course: DBBWL-E03_9_9.Block\nType: Vorlesung\nModule/Group:
  UK\nLocation: NK: 2.04
DTSTART:20260430T084500Z
DTEND:20260430T101500Z
END:VEVENT
BEGIN:VEVENT
UID:DBBWL-E03_9_9_Block-1777544100-18
SUMMARY:WINFO II (Vorlesung)
LOCATION:NK: EDV 3.11
DESCRIPTION:Course: DBBWL-E03_9_9.Block\nType: Vorlesung\nModule/Group:
  WINFO II\nLocation: NK: EDV 3.11
DTSTART:20260430T101500Z
DTEND:20260430T114500Z
END:VEVENT
BEGIN:VEVENT
UID:DBBWL-E03_9_9_Block-1777374000-19
SUMMARY:UK (Vorlesung)
LOCATION:NK: 2.14
DESCRIPTION:Course: DBBWL-E03_9_9.Block\nType: Vorlesung\nModule/Group:
  UK\nLocation: NK: 2.14
DTSTART:20260428T110000Z
DTEND:20260428T123000Z
END:VEVENT
BEGIN:VEVENT
UID:DBBWL-E03_9_9_Block-1777460400-20
SUMMARY:WINFO II (Vorlesung)
LOCATION:EXT: Online
DESCRIPTION:Course: DBBWL-E03_9_9.Block\nType: Vorlesung\nModule/Group:
  WINFO II\nLocation: EXT: Online
DTSTART:20260429T110000Z
DTEND:20260429T123000Z
END:VEVENT
BEGIN:VEVENT
UID:DBBWL-E03_9_9_Block-1777380300-21
SUMMARY:UK (Vorlesung)
LOCATION:NK: 2.14
DESCRIPTION:Course: DBBWL-E03_9_9.Block\nType: Vorlesung\nModule/Group:
  UK\nLocation: NK: 2.14
DTSTART:20260428T124500Z
DTEND:20260428T141500Z
END:VEVENT
BEGIN:VEVENT
UID:DBBWL-E03_9_9_Block-1777466700-22
SUMMARY:WINFO II (Vorlesung)
LOCATION:EXT: Online
DESCRIPTION:Course: DBBWL-E03_9_9.Block\nType: Vorlesung\nModule/Group:
  WINFO II\nLocation: EXT: Online
DTSTART:20260429T124500Z
DTEND:20260429T141500Z
END:VEVENT
BEGIN:VEVENT
UID:DBBWL-E03_9_9_Block-1777473000-23
SUMMARY:WINFO II (Vorlesung)
LOCATION:EXT: Online
DESCRIPTION:Course: DBBWL-E03_9_9.Block\nType: Vorlesung\nModule/Group:
  WINFO II\nLocation: EXT: Online
DTSTART:20260429T143000Z
DTEND:20260429T160000Z
END:VEVENT
BEGIN:VEVENT
UID:DBBWL-E03_9_9_Block-1778144400-24
SUMMARY:Teilklausur II WINFO II/MDAT
LOCATION:NK: EDV 3.11
DESCRIPTION:Course: DBBWL-E03_9_9.Block\nType: Klausur\nModule/Group:
  Teilklausur II WINFO II/MDAT\nLocation: NK: EDV 3.11
DTSTART:20260507T090000Z
DTEND:20260507T101500Z
END:VEVENT
BEGIN:VEVENT
UID:DBBWL-E03_9_9_Block-1777978800-25
SUMMARY:IK (Vorlesung)
LOCATION:EXT: Online
DESCRIPTION:Course: DBBWL-E03_9_9.Block\nType: Vorlesung\nModule/Group:
  IK\nLocation: EXT: Online
DTSTART:20260505T110000Z
DTEND:20260505T123000Z
END:VEVENT
BEGIN:VEVENT
UID:DBBWL-E03_9_9_Block-1777985100-26
SUMMARY:IK (Vorlesung)
LOCATION:EXT: Online
DESCRIPTION:Course: DBBWL-E03_9_9.Block\nType: Vorlesung\nModule/Group:
  IK\nLocation: EXT: Online
DTSTART:20260505T124500Z
DTEND:20260505T141500Z
END:VEVENT
BEGIN:VEVENT
UID:DBBWL-E03_9_9_Block-1778497200-27
SUMMARY:IK (Vorlesung)
LOCATION:NK: 2.12
DESCRIPTION:Course: DBBWL-E03_9_9.Block\nType: Vorlesung\nModule/Group:
  IK\nLocation: NK: 2.12
DTSTART:20260511T110000Z
DTEND:20260511T123000Z
END:VEVENT
BEGIN:VEVENT
UID:DBBWL-E03_9_9_Block-1778670000-28
SUMMARY:MP Schlüssel III (Klausur)
LOCATION:NK: 2.13
DESCRIPTION:Course: DBBWL-E03_9_9.Block\nType: Klausur\nModule/Group: MP
  Schlüssel III\nLocation: NK: 2.13
DTSTART:20260513T110000Z
DTEND:20260513T130000Z
END:VEVENT
BEGIN:VEVENT
UID:DBBWL-E03_9_9_Block-1778503500-29
SUMMARY:IK (Vorlesung)
LOCATION:NK: 2.12
DESCRIPTION:Course: DBBWL-E03_9_9.Block\nType: Vorlesung\nModule/Group:
  IK\nLocation: NK: 2.12
DTSTART:20260511T124500Z
DTEND:20260511T141500Z
END:VEVENT
BEGIN:VEVENT
UID:DBBWL-E03_9_9_Block-1778508900-30
SUMMARY:EVAL (Evaluation)
LOCATION:NK: EDV 2.09
DESCRIPTION:Course: DBBWL-E03_9_9.Block\nType: Evaluation\nModule/Group:
  EVAL\nLocation: NK: EDV 2.09
DTSTART:20260511T141500Z
DTEND:20260511T144500Z
END:VEVENT
BEGIN:VEVENT
UID:DBBWL-E03_9_9_Block-1783434600-31
SUMMARY:ABB (Vorlesung)
LOCATION:NK: 1.07
DESCRIPTION:Course: DBBWL-E03_9_9.Block\nType: Vorlesung\nModule/Group:
  ABB\nLocation: NK: 1.07
DTSTART:20260707T143000Z
DTEND:20260707T160000Z
END:VEVENT
BEGIN:VEVENT
UID:DBBWL-E03_9_9_Block-1783521000-32
SUMMARY:ABB (Vorlesung)
LOCATION:NK: 1.07
DESCRIPTION:Course: DBBWL-E03_9_9.Block\nType: Vorlesung\nModule/Group:
  ABB\nLocation: NK: 1.07
DTSTART:20260708T143000Z
DTEND:20260708T160000Z
END:VEVENT
BEGIN:VEVENT
UID:DBBWL-E03_9_9_Block-1783440900-33
SUMMARY:ABB (Vorlesung)
LOCATION:NK: 1.07
DESCRIPTION:Course: DBBWL-E03_9_9.Block\nType: Vorlesung\nModule/Group:
  ABB\nLocation: NK: 1.07
DTSTART:20260707T161500Z
DTEND:20260707T174500Z
END:VEVENT
BEGIN:VEVENT
UID:DBBWL-E03_9_9_Block-1783527300-34
SUMMARY:ABB (Vorlesung)
LOCATION:NK: 1.07
DESCRIPTION:Course: DBBWL-E03_9_9.Block\nType: Vorlesung\nModule/Group:
  ABB\nLocation: NK: 1.07
DTSTART:20260708T161500Z
DTEND:20260708T174500Z
END:VEVENT
BEGIN:VEVENT
UID:DBBWL-E03_9_9_Block-1785567600-35
SUMMARY:ABB (Vorlesung)
LOCATION:NK: 1.07
DESCRIPTION:Course: DBBWL-E03_9_9.Block\nType: Vorlesung\nModule/Group:
  ABB\nLocation: NK: 1.07
DTSTART:20260801T070000Z
DTEND:20260801T083000Z
END:VEVENT
BEGIN:VEVENT
UID:DBBWL-E03_9_9_Block-1785573900-36
SUMMARY:ABB (Vorlesung)
LOCATION:NK: 1.07
DESCRIPTION:Course: DBBWL-E03_9_9.Block\nType: Vorlesung\nModule/Group:
  ABB\nLocation: NK: 1.07
DTSTART:20260801T084500Z
DTEND:20260801T101500Z
END:VEVENT
BEGIN:VEVENT
UID:DBBWL-E03_9_9_Block-1785582000-37
SUMMARY:ABB (Vorlesung)
LOCATION:NK: 1.07
DESCRIPTION:Course: DBBWL-E03_9_9.Block\nType: Vorlesung\nModule/Group:
  ABB\nLocation: NK: 1.07
DTSTART:20260801T110000Z
DTEND:20260801T123000Z
END:VEVENT
BEGIN:VEVENT
UID:DBBWL-E03_9_9_Block-1785588300-38
SUMMARY:ABB (Vorlesung)
LOCATION:NK: 1.07
DESCRIPTION:Course: DBBWL-E03_9_9.Block\nType: Vorlesung\nModule/Group:
  ABB\nLocation: NK: 1.07
DTSTART:20260801T124500Z
DTEND:20260801T141500Z
END:VEVENT
BEGIN:VEVENT
UID:DBBWL-E03_9_9_Block-1786371300-39
SUMMARY:Zent. NK/WK FB WI (Zentraler Nachschreibetermin FB WI)
DESCRIPTION:Course: DBBWL-E03_9_9.Block\nType: Zentraler Nachschreibetermin
  FB WI\nModule/Group: Zent. NK/WK FB WI
DTSTART:20260810T141500Z
DTEND:20260810T174500Z
END:VEVENT
BEGIN:VEVENT
UID:DBBWL-E03_9_9_Block-1786457700-40
SUMMARY:Zent. NK/WK FB WI (Zentraler Nachschreibetermin FB WI)
DESCRIPTION:Course: DBBWL-E03_9_9.Block\nType: Zentraler Nachschreibetermin
  FB WI\nModule/Group: Zent. NK/WK FB WI
DTSTART:20260811T141500Z
DTEND:20260811T174500Z
END:VEVENT
BEGIN:VEVENT
UID:DBBWL-E03_9_9_Block-1786544100-41
SUMMARY:Zent. NK/WK FB WI (Zentraler Nachschreibetermin FB WI)
DESCRIPTION:Course: DBBWL-E03_9_9.Block\nType: Zentraler Nachschreibetermin
  FB WI\nModule/Group: Zent. NK/WK FB WI
DTSTART:20260812T141500Z
DTEND:20260812T174500Z
END:VEVENT
BEGIN:VEVENT
UID:DBBWL-E03_9_9_Block-1786630500-42
SUMMARY:Zent. NK/WK FB WI (Zentraler Nachschreibetermin FB WI)
DESCRIPTION:Course: DBBWL-E03_9_9.Block\nType: Zentraler Nachschreibetermin
  FB WI\nModule/Group: Zent. NK/WK FB WI
DTSTART:20260813T141500Z
DTEND:20260813T174500Z
END:VEVENT
BEGIN:VEVENT
UID:DBBWL-E03_9_9_Block-1786716900-43
SUMMARY:Zent. NK/WK FB WI (Zentraler Nachschreibetermin FB WI)
DESCRIPTION:Course: DBBWL-E03_9_9.Block\nType: Zentraler Nachschreibetermin
  FB WI\nModule/Group: Zent. NK/WK FB WI
DTSTART:20260814T141500Z
DTEND:20260814T174500Z
END:VEVENT
BEGIN:VEVENT
UID:DBBWL-E03_9_9_Block-1786976100-44
SUMMARY:Zent. NK/WK FB WI (Zentraler Nachschreibetermin FB WI)
DESCRIPTION:Course: DBBWL-E03_9_9.Block\nType: Zentraler Nachschreibetermin
  FB WI\nModule/Group: Zent. NK/WK FB WI
DTSTART:20260817T141500Z
DTEND:20260817T174500Z
END:VEVENT
BEGIN:VEVENT
UID:DBBWL-E03_9_9_Block-1787062500-45
SUMMARY:Zent. NK/WK FB WI (Zentraler Nachschreibetermin FB WI)
DESCRIPTION:Course: DBBWL-E03_9_9.Block\nType: Zentraler Nachschreibetermin
  FB WI\nModule/Group: Zent. NK/WK FB WI
DTSTART:20260818T141500Z
DTEND:20260818T174500Z
END:VEVENT
BEGIN:VEVENT
UID:DBBWL-E03_9_9_Block-1787148900-46
SUMMARY:Zent. NK/WK FB WI (Zentraler Nachschreibetermin FB WI)
DESCRIPTION:Course: DBBWL-E03_9_9.Block\nType: Zentraler Nachschreibetermin
  FB WI\nModule/Group: Zent. NK/WK FB WI
DTSTART:20260819T141500Z
DTEND:20260819T174500Z
END:VEVENT
BEGIN:VEVENT
UID:DBBWL-E03_9_9_Block-1787235300-47
SUMMARY:Zent. NK/WK FB WI (Zentraler Nachschreibetermin FB WI)
DESCRIPTION:Course: DBBWL-E03_9_9.Block\nType: Zentraler Nachschreibetermin
  FB WI\nModule/Group: Zent. NK/WK FB WI
DTSTART:20260820T141500Z
DTEND:20260820T174500Z
END:VEVENT
BEGIN:VEVENT
UID:DBBWL-E03_9_9_Block-1787321700-48
SUMMARY:Zent. NK/WK FB WI (Zentraler Nachschreibetermin FB WI)
DESCRIPTION:Course: DBBWL-E03_9_9.Block\nType: Zentraler Nachschreibetermin
  FB WI\nModule/Group: Zent. NK/WK FB WI
DTSTART:20260821T141500Z
DTEND:20260821T174500Z
END:VEVENT
BEGIN:VEVENT
UID:DBBWL-E03_9_9_Block-1787580900-49
SUMMARY:Zent. NK/WK FB WI (Zentraler Nachschreibetermin FB WI)
DESCRIPTION:Course: DBBWL-E03_9_9.Block\nType: Zentraler Nachschreibetermin
  FB WI\nModule/Group: Zent. NK/WK FB WI
DTSTART:20260824T141500Z
DTEND:20260824T174500Z
END:VEVENT
BEGIN:VEVENT
UID:DBBWL-E03_9_9_Block-1787667300-50
SUMMARY:Zent. NK/WK FB WI (Zentraler Nachschreibetermin FB WI)
DESCRIPTION:Course: DBBWL-E03_9_9.Block\nType: Zentraler Nachschreibetermin
  FB WI\nModule/Group: Zent. NK/WK FB WI
DTSTART:20260825T141500Z
DTEND:20260825T174500Z
END:VEVENT
BEGIN:VEVENT
UID:DBBWL-E03_9_9_Block-1787753700-51
SUMMARY:Zent. NK/WK FB WI (Zentraler Nachschreibetermin FB WI)
DESCRIPTION:Course: DBBWL-E03_9_9.Block\nType: Zentraler Nachschreibetermin
  FB WI\nModule/Group: Zent. NK/WK FB WI
DTSTART:20260826T141500Z
DTEND:20260826T174500Z
END:VEVENT
BEGIN:VEVENT
UID:DBBWL-E03_9_9_Block-1787840100-52
SUMMARY:Zent. NK/WK FB WI (Zentraler Nachschreibetermin FB WI)
DESCRIPTION:Course: DBBWL-E03_9_9.Block\nType: Zentraler Nachschreibetermin
  FB WI\nModule/Group: Zent. NK/WK FB WI
DTSTART:20260827T141500Z
DTEND:20260827T174500Z
END:VEVENT
BEGIN:VEVENT
UID:DBBWL-E03_9_9_Block-1787926500-53
SUMMARY:ABB (Klausur)
DESCRIPTION:Course: DBBWL-E03_9_9.Block\nType: Klausur\nModule/Group: ABB
DTSTART:20260828T141500Z
DTEND:20260828T154500Z
END:VEVENT
BEGIN:VEVENT
UID:DBBWL-E03_9_9_Block-1787926500-54
SUMMARY:Zent. NK/WK FB WI (Zentraler Nachschreibetermin FB WI)
DESCRIPTION:Course: DBBWL-E03_9_9.Block\nType: Zentraler Nachschreibetermin
  FB WI\nModule/Group: Zent. NK/WK FB WI
DTSTART:20260828T141500Z
DTEND:20260828T174500Z
END:VEVENT
END:VCALENDAR
