BEGIN:VCALENDAR
VERSION:2.0
PRODID:-//ASW Schedule Exporter//EN
NAME:ASW Schedule DBBWL-D04
X-WR-CALNAME:ASW Schedule DBBWL-D04
TZID:Europe/Berlin
BEGIN:VEVENT
UID:DBBWL-D04-1779085800-0
SUMMARY:Posterpräs. (Posterpräsenation)
DESCRIPTION:Course: DBBWL-D04_5_5.Block\nType:
  Posterpräsenation\nModule/Group: Posterpräs.
DTSTART:20260518T063000Z
DTEND:20260518T160000Z
END:VEVENT
BEGIN:VEVENT
UID:DBBWL-D04-1779172200-1
SUMMARY:Posterpräs. (Posterpräsenation)
DESCRIPTION:Course: DBBWL-D04_5_5.Block\nType:
  Posterpräsenation\nModule/Group: Posterpräs.
DTSTART:20260519T063000Z
DTEND:20260519T160000Z
END:VEVENT
BEGIN:VEVENT
UID:DBBWL-D04-1779258600-2
SUMMARY:Posterpräs. (Posterpräsenation)
DESCRIPTION:Course: DBBWL-D04_5_5.Block\nType:
  Posterpräsenation\nModule/Group: Posterpräs.
DTSTART:20260520T063000Z
DTEND:20260520T160000Z
END:VEVENT
BEGIN:VEVENT
UID:DBBWL-D04-1779345000-3
SUMMARY:Posterpräs. (Posterpräsenation)
DESCRIPTION:Course: DBBWL-D04_5_5.Block\nType:
  Posterpräsenation\nModule/Group: Posterpräs.
DTSTART:20260521T063000Z
DTEND:20260521T160000Z
END:VEVENT
BEGIN:VEVENT
UID:DBBWL-D04-1779431400-4
SUMMARY:Posterpräs. (Posterpräsenation)
DESCRIPTION:Course: DBBWL-D04_5_5.Block\nType:
  Posterpräsenation\nModule/Group: Posterpräs.
DTSTART:20260522T063000Z
DTEND:20260522T160000Z
END:VEVENT
BEGIN:VEVENT
UID:DBBWL-D04-1779777000-5
SUMMARY:Posterpräs. (Posterpräsenation)
DESCRIPTION:Course: DBBWL-D04_5_5.Block\nType:
  Posterpräsenation\nModule/Group: Posterpräs.
DTSTART:20260526T063000Z
DTEND:20260526T160000Z
END:VEVENT
BEGIN:VEVENT
UID:DBBWL-D04-1779863400-6
SUMMARY:Posterpräs. (Posterpräsenation)
DESCRIPTION:Course: DBBWL-D04_5_5.Block\nType:
  Posterpräsenation\nModule/Group: Posterpräs.
DTSTART:20260527T063000Z
DTEND:20260527T160000Z
END:VEVENT
BEGIN:VEVENT
UID:DBBWL-D04-1779949800-7
SUMMARY:Posterpräs. (Posterpräsenation)
DESCRIPTION:Course: DBBWL-D04_5_5.Block\nType:
  Posterpräsenation\nModule/Group: Posterpräs.
DTSTART:20260528T063000Z
DTEND:20260528T160000Z
END:VEVENT
BEGIN:VEVENT
UID:DBBWL-D04-1780036200-8
SUMMARY:Posterpräs. (Posterpräsenation)
DESCRIPTION:Course: DBBWL-D04_5_5.Block\nType:
  Posterpräsenation\nModule/Group: Posterpräs.
DTSTART:20260529T063000Z
DTEND:20260529T160000Z
END:VEVENT
BEGIN:VEVENT
UID:DBBWL-D04-1780297200-9
SUMMARY:Zent. NK/WK FB WI (Zentraler Nachschreibetermin FB WI)
DESCRIPTION:Course: DBBWL-D04_6_6.Block\nType: Zentraler Nachschreibetermin
  FB WI\nModule/Group: Zent. NK/WK FB WI
DTSTART:20260601T070000Z
DTEND:20260601T141500Z
END:VEVENT
BEGIN:VEVENT
UID:DBBWL-D04-1780470000-10
SUMMARY:ENG II B2 (Vorlesung)
LOCATION:NK: 1.12
DESCRIPTION:Course: DBBWL-D04_6_6.Block\nType: Vorlesung\nModule/Group: ENG
  II B2\nLocation: NK: 1.12
DTSTART:20260603T070000Z
DTEND:20260603T083000Z
END:VEVENT
BEGIN:VEVENT
UID:DBBWL-D04-1780470000-11
SUMMARY:ENG II C1 (Vorlesung)
LOCATION:NK: 1.05
DESCRIPTION:Course: DBBWL-D04_6_6.Block\nType: Vorlesung\nModule/Group: ENG
  II C1\nLocation: NK: 1.05
DTSTART:20260603T070000Z
DTEND:20260603T083000Z
END:VEVENT
BEGIN:VEVENT
UID:DBBWL-D04-1780476300-12
SUMMARY:ENG II B2 (Vorlesung)
LOCATION:NK: 1.12
DESCRIPTION:Course: DBBWL-D04_6_6.Block\nType: Vorlesung\nModule/Group: ENG
  II B2\nLocation: NK: 1.12
DTSTART:20260603T084500Z
DTEND:20260603T101500Z
END:VEVENT
BEGIN:VEVENT
UID:DBBWL-D04-1780476300-13
SUMMARY:ENG II C1 (Vorlesung)
LOCATION:NK: 1.05
DESCRIPTION:Course: DBBWL-D04_6_6.Block\nType: Vorlesung\nModule/Group: ENG
  II C1\nLocation: NK: 1.05
DTSTART:20260603T084500Z
DTEND:20260603T101500Z
END:VEVENT
BEGIN:VEVENT
UID:DBBWL-D04-1780484400-14
SUMMARY:WINFO I (Vorlesung)
LOCATION:NK: 1.12
DESCRIPTION:Course: DBBWL-D04_6_6.Block\nType: Vorlesung\nModule/Group:
  WINFO I\nLocation: NK: 1.12
DTSTART:20260603T110000Z
DTEND:20260603T123000Z
END:VEVENT
BEGIN:VEVENT
UID:DBBWL-D04-1780657200-15
SUMMARY:GDV (Vorlesung)
LOCATION:NK: EDV 3.11
DESCRIPTION:Course: DBBWL-D04_6_6.Block\nType: Vorlesung\nModule/Group:
  GDV\nLocation: NK: EDV 3.11
DTSTART:20260605T110000Z
DTEND:20260605T123000Z
END:VEVENT
BEGIN:VEVENT
UID:DBBWL-D04-1780490700-16
SUMMARY:WINFO I (Vorlesung)
LOCATION:NK: 1.12
DESCRIPTION:Course: DBBWL-D04_6_6.Block\nType: Vorlesung\nModule/Group:
  WINFO I\nLocation: NK: 1.12
DTSTART:20260603T124500Z
DTEND:20260603T141500Z
END:VEVENT
BEGIN:VEVENT
UID:DBBWL-D04-1780663500-17
SUMMARY:GDV (Vorlesung)
LOCATION:NK: EDV 3.11
DESCRIPTION:Course: DBBWL-D04_6_6.Block\nType: Vorlesung\nModule/Group:
  GDV\nLocation: NK: EDV 3.11
DTSTART:20260605T124500Z
DTEND:20260605T141500Z
END:VEVENT
BEGIN:VEVENT
UID:DBBWL-D04-1780324200-18
SUMMARY:WIARB (Vorlesung)
LOCATION:NK: 1.12
DESCRIPTION:Course: DBBWL-D04_6_6.Block\nType: Vorlesung\nModule/Group:
  WIARB\nLocation: NK: 1.12
DTSTART:20260601T143000Z
DTEND:20260601T160000Z
END:VEVENT
BEGIN:VEVENT
UID:DBBWL-D04-1780410600-19
SUMMARY:WIARB (Vorlesung)
LOCATION:NK: 1.12
DESCRIPTION:Course: DBBWL-D04_6_6.Block\nType: Vorlesung\nModule/Group:
  WIARB\nLocation: NK: 1.12
DTSTART:20260602T143000Z
DTEND:20260602T160000Z
END:VEVENT
BEGIN:VEVENT
UID:DBBWL-D04-1780330500-20
SUMMARY:WIARB (Vorlesung)
LOCATION:NK: 1.12
DESCRIPTION:Course: DBBWL-D04_6_6.Block\nType: Vorlesung\nModule/Group:
  WIARB\nLocation: NK: 1.12
DTSTART:20260601T161500Z
DTEND:20260601T174500Z
END:VEVENT
BEGIN:VEVENT
UID:DBBWL-D04-1780416900-21
SUMMARY:WIARB (Vorlesung)
LOCATION:NK: 1.12
DESCRIPTION:Course: DBBWL-D04_6_6.Block\nType: Vorlesung\nModule/Group:
  WIARB\nLocation: NK: 1.12
DTSTART:20260602T161500Z
DTEND:20260602T174500Z
END:VEVENT
BEGIN:VEVENT
UID:DBBWL-D04-1781074800-22
SUMMARY:ENG II B2 (Vorlesung)
LOCATION:NK: 1.12
DESCRIPTION:Course: DBBWL-D04_6_6.Block\nType: Vorlesung\nModule/Group: ENG
  II B2\nLocation: NK: 1.12
DTSTART:20260610T070000Z
DTEND:20260610T083000Z
END:VEVENT
BEGIN:VEVENT
UID:DBBWL-D04-1781074800-23
SUMMARY:ENG II C1 (Vorlesung)
LOCATION:NK: 1.05
DESCRIPTION:Course: DBBWL-D04_6_6.Block\nType: Vorlesung\nModule/Group: ENG
  II C1\nLocation: NK: 1.05
DTSTART:20260610T070000Z
DTEND:20260610T083000Z
END:VEVENT
BEGIN:VEVENT
UID:DBBWL-D04-1781081100-24
SUMMARY:ENG II B2 (Vorlesung)
LOCATION:NK: 1.12
DESCRIPTION:Course: DBBWL-D04_6_6.Block\nType: Vorlesung\nModule/Group: ENG
  II B2\nLocation: NK: 1.12
DTSTART:20260610T084500Z
DTEND:20260610T101500Z
END:VEVENT
BEGIN:VEVENT
UID:DBBWL-D04-1781081100-25
SUMMARY:ENG II C1 (Vorlesung)
LOCATION:NK: 1.05
DESCRIPTION:Course: DBBWL-D04_6_6.Block\nType: Vorlesung\nModule/Group: ENG
  II C1\nLocation: NK: 1.05
DTSTART:20260610T084500Z
DTEND:20260610T101500Z
END:VEVENT
BEGIN:VEVENT
UID:DBBWL-D04-1780916400-26
SUMMARY:HGB (Vorlesung)
LOCATION:NK: 1.12
DESCRIPTION:Course: DBBWL-D04_6_6.Block\nType: Vorlesung\nModule/Group:
  HGB\nLocation: NK: 1.12
DTSTART:20260608T110000Z
DTEND:20260608T123000Z
END:VEVENT
BEGIN:VEVENT
UID:DBBWL-D04-1781002800-27
SUMMARY:HGB (Vorlesung)
LOCATION:NK: 1.12
DESCRIPTION:Course: DBBWL-D04_6_6.Block\nType: Vorlesung\nModule/Group:
  HGB\nLocation: NK: 1.12
DTSTART:20260609T110000Z
DTEND:20260609T123000Z
END:VEVENT
BEGIN:VEVENT
UID:DBBWL-D04-1781089200-28
SUMMARY:WINFO I (Vorlesung)
LOCATION:NK: 1.12
DESCRIPTION:Course: DBBWL-D04_6_6.Block\nType: Vorlesung\nModule/Group:
  WINFO I\nLocation: NK: 1.12
DTSTART:20260610T110000Z
DTEND:20260610T123000Z
END:VEVENT
BEGIN:VEVENT
UID:DBBWL-D04-1781175600-29
SUMMARY:HGB (Vorlesung)
LOCATION:NK: 1.12
DESCRIPTION:Course: DBBWL-D04_6_6.Block\nType: Vorlesung\nModule/Group:
  HGB\nLocation: NK: 1.12
DTSTART:20260611T110000Z
DTEND:20260611T123000Z
END:VEVENT
BEGIN:VEVENT
UID:DBBWL-D04-1781262000-30
SUMMARY:GDV (Vorlesung)
LOCATION:NK: EDV 3.11
DESCRIPTION:Course: DBBWL-D04_6_6.Block\nType: Vorlesung\nModule/Group:
  GDV\nLocation: NK: EDV 3.11
DTSTART:20260612T110000Z
DTEND:20260612T123000Z
END:VEVENT
BEGIN:VEVENT
UID:DBBWL-D04-1780922700-31
SUMMARY:HGB (Vorlesung)
LOCATION:NK: 1.12
DESCRIPTION:Course: DBBWL-D04_6_6.Block\nType: Vorlesung\nModule/Group:
  HGB\nLocation: NK: 1.12
DTSTART:20260608T124500Z
DTEND:20260608T141500Z
END:VEVENT
BEGIN:VEVENT
UID:DBBWL-D04-1781009100-32
SUMMARY:HGB (Vorlesung)
LOCATION:NK: 1.12
DESCRIPTION:Course: DBBWL-D04_6_6.Block\nType: Vorlesung\nModule/Group:
  HGB\nLocation: NK: 1.12
DTSTART:20260609T124500Z
DTEND:20260609T141500Z
END:VEVENT
BEGIN:VEVENT
UID:DBBWL-D04-1781095500-33
SUMMARY:WINFO I (Vorlesung)
LOCATION:NK: 1.12
DESCRIPTION:Course: DBBWL-D04_6_6.Block\nType: Vorlesung\nModule/Group:
  WINFO I\nLocation: NK: 1.12
DTSTART:20260610T124500Z
DTEND:20260610T141500Z
END:VEVENT
BEGIN:VEVENT
UID:DBBWL-D04-1781181900-34
SUMMARY:HGB (Vorlesung)
LOCATION:NK: 1.12
DESCRIPTION:Course: DBBWL-D04_6_6.Block\nType: Vorlesung\nModule/Group:
  HGB\nLocation: NK: 1.12
DTSTART:20260611T124500Z
DTEND:20260611T141500Z
END:VEVENT
BEGIN:VEVENT
UID:DBBWL-D04-1781268300-35
SUMMARY:GDV (Vorlesung)
LOCATION:NK: EDV 3.11
DESCRIPTION:Course: DBBWL-D04_6_6.Block\nType: Vorlesung\nModule/Group:
  GDV\nLocation: NK: EDV 3.11
DTSTART:20260612T124500Z
DTEND:20260612T141500Z
END:VEVENT
BEGIN:VEVENT
UID:DBBWL-D04-1781015400-36
SUMMARY:WIARB (Vorlesung)
LOCATION:NK: 1.12
DESCRIPTION:Course: DBBWL-D04_6_6.Block\nType: Vorlesung\nModule/Group:
  WIARB\nLocation: NK: 1.12
DTSTART:20260609T143000Z
DTEND:20260609T160000Z
END:VEVENT
BEGIN:VEVENT
UID:DBBWL-D04-1781188200-37
SUMMARY:WIARB (Vorlesung)
LOCATION:NK: 1.12
DESCRIPTION:Course: DBBWL-D04_6_6.Block\nType: Vorlesung\nModule/Group:
  WIARB\nLocation: NK: 1.12
DTSTART:20260611T143000Z
DTEND:20260611T160000Z
END:VEVENT
BEGIN:VEVENT
UID:DBBWL-D04-1781021700-38
SUMMARY:WIARB (Vorlesung)
LOCATION:NK: 1.12
DESCRIPTION:Course: DBBWL-D04_6_6.Block\nType: Vorlesung\nModule/Group:
  WIARB\nLocation: NK: 1.12
DTSTART:20260609T161500Z
DTEND:20260609T174500Z
END:VEVENT
BEGIN:VEVENT
UID:DBBWL-D04-1781194500-39
SUMMARY:WIARB (Vorlesung)
LOCATION:NK: 1.12
DESCRIPTION:Course: DBBWL-D04_6_6.Block\nType: Vorlesung\nModule/Group:
  WIARB\nLocation: NK: 1.12
DTSTART:20260611T161500Z
DTEND:20260611T174500Z
END:VEVENT
BEGIN:VEVENT
UID:DBBWL-D04-1781679600-40
SUMMARY:ENG II B2 (Vorlesung)
LOCATION:NK: 1.12
DESCRIPTION:Course: DBBWL-D04_6_6.Block\nType: Vorlesung\nModule/Group: ENG
  II B2\nLocation: NK: 1.12
DTSTART:20260617T070000Z
DTEND:20260617T083000Z
END:VEVENT
BEGIN:VEVENT
UID:DBBWL-D04-1781679600-41
SUMMARY:ENG II C1 (Vorlesung)
LOCATION:NK: 1.05
DESCRIPTION:Course: DBBWL-D04_6_6.Block\nType: Vorlesung\nModule/Group: ENG
  II C1\nLocation: NK: 1.05
DTSTART:20260617T070000Z
DTEND:20260617T083000Z
END:VEVENT
BEGIN:VEVENT
UID:DBBWL-D04-1781852400-42
SUMMARY:GDV (Vorlesung)
LOCATION:NK: EDV 3.11
DESCRIPTION:Course: DBBWL-D04_6_6.Block\nType: Vorlesung\nModule/Group:
  GDV\nLocation: NK: EDV 3.11
DTSTART:20260619T070000Z
DTEND:20260619T083000Z
END:VEVENT
BEGIN:VEVENT
UID:DBBWL-D04-1781685900-43
SUMMARY:ENG II B2 (Vorlesung)
LOCATION:NK: 1.12
DESCRIPTION:Course: DBBWL-D04_6_6.Block\nType: Vorlesung\nModule/Group: ENG
  II B2\nLocation: NK: 1.12
DTSTART:20260617T084500Z
DTEND:20260617T101500Z
END:VEVENT
BEGIN:VEVENT
UID:DBBWL-D04-1781685900-44
SUMMARY:ENG II C1 (Vorlesung)
LOCATION:NK: 1.05
DESCRIPTION:Course: DBBWL-D04_6_6.Block\nType: Vorlesung\nModule/Group: ENG
  II C1\nLocation: NK: 1.05
DTSTART:20260617T084500Z
DTEND:20260617T101500Z
END:VEVENT
BEGIN:VEVENT
UID:DBBWL-D04-1781858700-45
SUMMARY:GDV (Vorlesung)
LOCATION:NK: EDV 3.11
DESCRIPTION:Course: DBBWL-D04_6_6.Block\nType: Vorlesung\nModule/Group:
  GDV\nLocation: NK: EDV 3.11
DTSTART:20260619T084500Z
DTEND:20260619T101500Z
END:VEVENT
BEGIN:VEVENT
UID:DBBWL-D04-1781521200-46
SUMMARY:HGB (Vorlesung)
LOCATION:NK: 1.12
DESCRIPTION:Course: DBBWL-D04_6_6.Block\nType: Vorlesung\nModule/Group:
  HGB\nLocation: NK: 1.12
DTSTART:20260615T110000Z
DTEND:20260615T123000Z
END:VEVENT
BEGIN:VEVENT
UID:DBBWL-D04-1781607600-47
SUMMARY:HGB (Vorlesung)
LOCATION:NK: 1.12
DESCRIPTION:Course: DBBWL-D04_6_6.Block\nType: Vorlesung\nModule/Group:
  HGB\nLocation: NK: 1.12
DTSTART:20260616T110000Z
DTEND:20260616T123000Z
END:VEVENT
BEGIN:VEVENT
UID:DBBWL-D04-1781694000-48
SUMMARY:WINFO I (Vorlesung)
LOCATION:NK: 1.12
DESCRIPTION:Course: DBBWL-D04_6_6.Block\nType: Vorlesung\nModule/Group:
  WINFO I\nLocation: NK: 1.12
DTSTART:20260617T110000Z
DTEND:20260617T123000Z
END:VEVENT
BEGIN:VEVENT
UID:DBBWL-D04-1781780400-49
SUMMARY:HGB (Vorlesung)
LOCATION:NK: 1.12
DESCRIPTION:Course: DBBWL-D04_6_6.Block\nType: Vorlesung\nModule/Group:
  HGB\nLocation: NK: 1.12
DTSTART:20260618T110000Z
DTEND:20260618T123000Z
END:VEVENT
BEGIN:VEVENT
UID:DBBWL-D04-1781527500-50
SUMMARY:HGB (Vorlesung)
LOCATION:NK: 1.12
DESCRIPTION:Course: DBBWL-D04_6_6.Block\nType: Vorlesung\nModule/Group:
  HGB\nLocation: NK: 1.12
DTSTART:20260615T124500Z
DTEND:20260615T141500Z
END:VEVENT
BEGIN:VEVENT
UID:DBBWL-D04-1781613900-51
SUMMARY:HGB (Vorlesung)
LOCATION:NK: 1.12
DESCRIPTION:Course: DBBWL-D04_6_6.Block\nType: Vorlesung\nModule/Group:
  HGB\nLocation: NK: 1.12
DTSTART:20260616T124500Z
DTEND:20260616T141500Z
END:VEVENT
BEGIN:VEVENT
UID:DBBWL-D04-1781700300-52
SUMMARY:WINFO I (Vorlesung)
LOCATION:NK: 1.12
DESCRIPTION:Course: DBBWL-D04_6_6.Block\nType: Vorlesung\nModule/Group:
  WINFO I\nLocation: NK: 1.12
DTSTART:20260617T124500Z
DTEND:20260617T141500Z
END:VEVENT
BEGIN:VEVENT
UID:DBBWL-D04-1781786700-53
SUMMARY:HGB (Vorlesung)
LOCATION:NK: 1.12
DESCRIPTION:Course: DBBWL-D04_6_6.Block\nType: Vorlesung\nModule/Group:
  HGB\nLocation: NK: 1.12
DTSTART:20260618T124500Z
DTEND:20260618T141500Z
END:VEVENT
BEGIN:VEVENT
UID:DBBWL-D04-1781620200-54
SUMMARY:EUR (Vorlesung)
LOCATION:NK: 1.12
DESCRIPTION:Course: DBBWL-D04_6_6.Block\nType: Vorlesung\nModule/Group:
  EUR\nLocation: NK: 1.12
DTSTART:20260616T143000Z
DTEND:20260616T160000Z
END:VEVENT
BEGIN:VEVENT
UID:DBBWL-D04-1781793000-55
SUMMARY:EUR (Vorlesung)
LOCATION:NK: 1.12
DESCRIPTION:Course: DBBWL-D04_6_6.Block\nType: Vorlesung\nModule/Group:
  EUR\nLocation: NK: 1.12
DTSTART:20260618T143000Z
DTEND:20260618T160000Z
END:VEVENT
BEGIN:VEVENT
UID:DBBWL-D04-1781626500-56
SUMMARY:EUR (Vorlesung)
LOCATION:NK: 1.12
DESCRIPTION:Course: DBBWL-D04_6_6.Block\nType: Vorlesung\nModule/Group:
  EUR\nLocation: NK: 1.12
DTSTART:20260616T161500Z
DTEND:20260616T174500Z
END:VEVENT
BEGIN:VEVENT
UID:DBBWL-D04-1781799300-57
SUMMARY:EUR (Vorlesung)
LOCATION:NK: 1.12
DESCRIPTION:Course: DBBWL-D04_6_6.Block\nType: Vorlesung\nModule/Group:
  EUR\nLocation: NK: 1.12
DTSTART:20260618T161500Z
DTEND:20260618T174500Z
END:VEVENT
BEGIN:VEVENT
UID:DBBWL-D04-1782284400-58
SUMMARY:ENG II B2 (Vorlesung)
LOCATION:NK: 1.12
DESCRIPTION:Course: DBBWL-D04_6_6.Block\nType: Vorlesung\nModule/Group: ENG
  II B2\nLocation: NK: 1.12
DTSTART:20260624T070000Z
DTEND:20260624T083000Z
END:VEVENT
BEGIN:VEVENT
UID:DBBWL-D04-1782284400-59
SUMMARY:ENG II C1 (Vorlesung)
LOCATION:NK: 1.05
DESCRIPTION:Course: DBBWL-D04_6_6.Block\nType: Vorlesung\nModule/Group: ENG
  II C1\nLocation: NK: 1.05
DTSTART:20260624T070000Z
DTEND:20260624T083000Z
END:VEVENT
BEGIN:VEVENT
UID:DBBWL-D04-1782457200-60
SUMMARY:GDV (Vorlesung)
LOCATION:NK: EDV 3.11
DESCRIPTION:Course: DBBWL-D04_6_6.Block\nType: Vorlesung\nModule/Group:
  GDV\nLocation: NK: EDV 3.11
DTSTART:20260626T070000Z
DTEND:20260626T083000Z
END:VEVENT
BEGIN:VEVENT
UID:DBBWL-D04-1782290700-61
SUMMARY:ENG II B2 (Vorlesung)
LOCATION:NK: 1.12
DESCRIPTION:Course: DBBWL-D04_6_6.Block\nType: Vorlesung\nModule/Group: ENG
  II B2\nLocation: NK: 1.12
DTSTART:20260624T084500Z
DTEND:20260624T101500Z
END:VEVENT
BEGIN:VEVENT
UID:DBBWL-D04-1782290700-62
SUMMARY:ENG II C1 (Vorlesung)
LOCATION:NK: 1.05
DESCRIPTION:Course: DBBWL-D04_6_6.Block\nType: Vorlesung\nModule/Group: ENG
  II C1\nLocation: NK: 1.05
DTSTART:20260624T084500Z
DTEND:20260624T101500Z
END:VEVENT
BEGIN:VEVENT
UID:DBBWL-D04-1782463500-63
SUMMARY:GDV (Vorlesung)
LOCATION:NK: EDV 3.11
DESCRIPTION:Course: DBBWL-D04_6_6.Block\nType: Vorlesung\nModule/Group:
  GDV\nLocation: NK: EDV 3.11
DTSTART:20260626T084500Z
DTEND:20260626T101500Z
END:VEVENT
BEGIN:VEVENT
UID:DBBWL-D04-1782298800-64
SUMMARY:WINFO I (Vorlesung)
LOCATION:NK: 1.12
DESCRIPTION:Course: DBBWL-D04_6_6.Block\nType: Vorlesung\nModule/Group:
  WINFO I\nLocation: NK: 1.12
DTSTART:20260624T110000Z
DTEND:20260624T123000Z
END:VEVENT
BEGIN:VEVENT
UID:DBBWL-D04-1782471600-65
SUMMARY:HGB (Vorlesung)
LOCATION:NK: 2.12
DESCRIPTION:Course: DBBWL-D04_6_6.Block\nType: Vorlesung\nModule/Group:
  HGB\nLocation: NK: 2.12
DTSTART:20260626T110000Z
DTEND:20260626T123000Z
END:VEVENT
BEGIN:VEVENT
UID:DBBWL-D04-1782305100-66
SUMMARY:WINFO I (Vorlesung)
LOCATION:NK: 1.12
DESCRIPTION:Course: DBBWL-D04_6_6.Block\nType: Vorlesung\nModule/Group:
  WINFO I\nLocation: NK: 1.12
DTSTART:20260624T124500Z
DTEND:20260624T141500Z
END:VEVENT
BEGIN:VEVENT
UID:DBBWL-D04-1782477900-67
SUMMARY:HGB (Vorlesung)
LOCATION:NK: 2.12
DESCRIPTION:Course: DBBWL-D04_6_6.Block\nType: Vorlesung\nModule/Group:
  HGB\nLocation: NK: 2.12
DTSTART:20260626T124500Z
DTEND:20260626T141500Z
END:VEVENT
BEGIN:VEVENT
UID:DBBWL-D04-1782138600-68
SUMMARY:GDV (Vorlesung)
LOCATION:NK: EDV 3.11
DESCRIPTION:Course: DBBWL-D04_6_6.Block\nType: Vorlesung\nModule/Group:
  GDV\nLocation: NK: EDV 3.11
DTSTART:20260622T143000Z
DTEND:20260622T160000Z
END:VEVENT
BEGIN:VEVENT
UID:DBBWL-D04-1782225000-69
SUMMARY:EUR (Vorlesung)
LOCATION:NK: 1.12
DESCRIPTION:Course: DBBWL-D04_6_6.Block\nType: Vorlesung\nModule/Group:
  EUR\nLocation: NK: 1.12
DTSTART:20260623T143000Z
DTEND:20260623T160000Z
END:VEVENT
BEGIN:VEVENT
UID:DBBWL-D04-1782397800-70
SUMMARY:EUR (Vorlesung)
LOCATION:NK: 1.12
DESCRIPTION:Course: DBBWL-D04_6_6.Block\nType: Vorlesung\nModule/Group:
  EUR\nLocation: NK: 1.12
DTSTART:20260625T143000Z
DTEND:20260625T160000Z
END:VEVENT
BEGIN:VEVENT
UID:DBBWL-D04-1782144900-71
SUMMARY:GDV (Vorlesung)
LOCATION:NK: EDV 3.11
DESCRIPTION:Course: DBBWL-D04_6_6.Block\nType: Vorlesung\nModule/Group:
  GDV\nLocation: NK: EDV 3.11
DTSTART:20260622T161500Z
DTEND:20260622T174500Z
END:VEVENT
BEGIN:VEVENT
UID:DBBWL-D04-1782231300-72
SUMMARY:EUR (Vorlesung)
LOCATION:NK: 1.12
DESCRIPTION:Course: DBBWL-D04_6_6.Block\nType: Vorlesung\nModule/Group:
  EUR\nLocation: NK: 1.12
DTSTART:20260623T161500Z
DTEND:20260623T174500Z
END:VEVENT
BEGIN:VEVENT
UID:DBBWL-D04-1782404100-73
SUMMARY:EUR (Vorlesung)
LOCATION:NK: 1.12
DESCRIPTION:Course: DBBWL-D04_6_6.Block\nType: Vorlesung\nModule/Group:
  EUR\nLocation: NK: 1.12
DTSTART:20260625T161500Z
DTEND:20260625T174500Z
END:VEVENT
BEGIN:VEVENT
UID:DBBWL-D04-1782895500-74
SUMMARY:ENG II B2 (Klausur)
LOCATION:NK: 1.12
DESCRIPTION:Course: DBBWL-D04_6_6.Block\nType: Klausur\nModule/Group: ENG
  II B2\nLocation: NK: 1.12
DTSTART:20260701T084500Z
DTEND:20260701T101500Z
END:VEVENT
BEGIN:VEVENT
UID:DBBWL-D04-1782895500-75
SUMMARY:ENG II C1 (Klausur)
LOCATION:NK: 1.11
DESCRIPTION:Course: DBBWL-D04_6_6.Block\nType: Klausur\nModule/Group: ENG
  II C1\nLocation: NK: 1.11
DTSTART:20260701T084500Z
DTEND:20260701T101500Z
END:VEVENT
BEGIN:VEVENT
UID:DBBWL-D04-1782903600-76
SUMMARY:GDV (Vorlesung)
LOCATION:NK: EDV 3.11
DESCRIPTION:Course: DBBWL-D04_6_6.Block\nType: Vorlesung\nModule/Group:
  GDV\nLocation: NK: EDV 3.11
DTSTART:20260701T110000Z
DTEND:20260701T123000Z
END:VEVENT
BEGIN:VEVENT
UID:DBBWL-D04-1782990000-77
SUMMARY:WINFO I (Vorlesung)
LOCATION:NK: 1.12
DESCRIPTION:Course: DBBWL-D04_6_6.Block\nType: Vorlesung\nModule/Group:
  WINFO I\nLocation: NK: 1.12
DTSTART:20260702T110000Z
DTEND:20260702T123000Z
END:VEVENT
BEGIN:VEVENT
UID:DBBWL-D04-1782909900-78
SUMMARY:GDV (Vorlesung)
LOCATION:NK: EDV 3.11
DESCRIPTION:Course: DBBWL-D04_6_6.Block\nType: Vorlesung\nModule/Group:
  GDV\nLocation: NK: EDV 3.11
DTSTART:20260701T124500Z
DTEND:20260701T141500Z
END:VEVENT
BEGIN:VEVENT
UID:DBBWL-D04-1782996300-79
SUMMARY:WINFO I (Vorlesung)
LOCATION:NK: 1.12
DESCRIPTION:Course: DBBWL-D04_6_6.Block\nType: Vorlesung\nModule/Group:
  WINFO I\nLocation: NK: 1.12
DTSTART:20260702T124500Z
DTEND:20260702T141500Z
END:VEVENT
BEGIN:VEVENT
UID:DBBWL-D04-1782743400-80
SUMMARY:GDV (Vorlesung)
LOCATION:NK: EDV 3.11
DESCRIPTION:Course: DBBWL-D04_6_6.Block\nType: Vorlesung\nModule/Group:
  GDV\nLocation: NK: EDV 3.11
DTSTART:20260629T143000Z
DTEND:20260629T160000Z
END:VEVENT
BEGIN:VEVENT
UID:DBBWL-D04-1783002600-81
SUMMARY:EUR (Vorlesung)
LOCATION:NK: 1.12
DESCRIPTION:Course: DBBWL-D04_6_6.Block\nType: Vorlesung\nModule/Group:
  EUR\nLocation: NK: 1.12
DTSTART:20260702T143000Z
DTEND:20260702T160000Z
END:VEVENT
BEGIN:VEVENT
UID:DBBWL-D04-1782749700-82
SUMMARY:GDV (Vorlesung)
LOCATION:NK: EDV 3.11
DESCRIPTION:Course: DBBWL-D04_6_6.Block\nType: Vorlesung\nModule/Group:
  GDV\nLocation: NK: EDV 3.11
DTSTART:20260629T161500Z
DTEND:20260629T174500Z
END:VEVENT
BEGIN:VEVENT
UID:DBBWL-D04-1783008900-83
SUMMARY:EUR (Vorlesung)
LOCATION:NK: 1.12
DESCRIPTION:Course: DBBWL-D04_6_6.Block\nType: Vorlesung\nModule/Group:
  EUR\nLocation: NK: 1.12
DTSTART:20260702T161500Z
DTEND:20260702T174500Z
END:VEVENT
BEGIN:VEVENT
UID:DBBWL-D04-1783422000-84
SUMMARY:HGB (Vorlesung)
LOCATION:NK: 1.10
DESCRIPTION:Course: DBBWL-D04_6_6.Block\nType: Vorlesung\nModule/Group:
  HGB\nLocation: NK: 1.10
DTSTART:20260707T110000Z
DTEND:20260707T123000Z
END:VEVENT
BEGIN:VEVENT
UID:DBBWL-D04-1783594800-85
SUMMARY:BGB (Vorlesung)
LOCATION:NK: 1.12
DESCRIPTION:Course: DBBWL-D04_6_6.Block\nType: Vorlesung\nModule/Group:
  BGB\nLocation: NK: 1.12
DTSTART:20260709T110000Z
DTEND:20260709T123000Z
END:VEVENT
BEGIN:VEVENT
UID:DBBWL-D04-1783428300-86
SUMMARY:HGB (Vorlesung)
LOCATION:NK: 1.10
DESCRIPTION:Course: DBBWL-D04_6_6.Block\nType: Vorlesung\nModule/Group:
  HGB\nLocation: NK: 1.10
DTSTART:20260707T124500Z
DTEND:20260707T141500Z
END:VEVENT
BEGIN:VEVENT
UID:DBBWL-D04-1783601100-87
SUMMARY:BGB (Vorlesung)
LOCATION:NK: 1.12
DESCRIPTION:Course: DBBWL-D04_6_6.Block\nType: Vorlesung\nModule/Group:
  BGB\nLocation: NK: 1.12
DTSTART:20260709T124500Z
DTEND:20260709T141500Z
END:VEVENT
BEGIN:VEVENT
UID:DBBWL-D04-1783434600-88
SUMMARY:EUR (Vorlesung)
LOCATION:NK: 1.12
DESCRIPTION:Course: DBBWL-D04_6_6.Block\nType: Vorlesung\nModule/Group:
  EUR\nLocation: NK: 1.12
DTSTART:20260707T143000Z
DTEND:20260707T160000Z
END:VEVENT
BEGIN:VEVENT
UID:DBBWL-D04-1783607400-89
SUMMARY:GDV (Vorlesung)
LOCATION:NK: EDV 3.11
DESCRIPTION:Course: DBBWL-D04_6_6.Block\nType: Vorlesung\nModule/Group:
  GDV\nLocation: NK: EDV 3.11
DTSTART:20260709T143000Z
DTEND:20260709T160000Z
END:VEVENT
BEGIN:VEVENT
UID:DBBWL-D04-1783440900-90
SUMMARY:EUR (Vorlesung)
LOCATION:NK: 1.12
DESCRIPTION:Course: DBBWL-D04_6_6.Block\nType: Vorlesung\nModule/Group:
  EUR\nLocation: NK: 1.12
DTSTART:20260707T161500Z
DTEND:20260707T174500Z
END:VEVENT
BEGIN:VEVENT
UID:DBBWL-D04-1783613700-91
SUMMARY:GDV (Vorlesung)
LOCATION:NK: EDV 3.11
DESCRIPTION:Course: DBBWL-D04_6_6.Block\nType: Vorlesung\nModule/Group:
  GDV\nLocation: NK: EDV 3.11
DTSTART:20260709T161500Z
DTEND:20260709T174500Z
END:VEVENT
BEGIN:VEVENT
UID:DBBWL-D04-1784358000-92
SUMMARY:MP Recht (Klausur)
LOCATION:NK: 1.07
DESCRIPTION:Course: DBBWL-D04_6_6.Block\nType: Klausur\nModule/Group: MP
  Recht\nLocation: NK: 1.07
DTSTART:20260718T070000Z
DTEND:20260718T093000Z
END:VEVENT
BEGIN:VEVENT
UID:DBBWL-D04-1783940400-93
SUMMARY:MP WINFO (Klausur)
LOCATION:NK: 2.04\, NK: EDV 3.11
DESCRIPTION:Course: DBBWL-D04_6_6.Block\nType: Klausur\nModule/Group: MP
  WINFO\nLocation: NK: 2.04\, NK: EDV 3.11
DTSTART:20260713T110000Z
DTEND:20260713T123000Z
END:VEVENT
BEGIN:VEVENT
UID:DBBWL-D04-1784039400-94
SUMMARY:EUR (Vorlesung)
LOCATION:NK: 1.12
DESCRIPTION:Course: DBBWL-D04_6_6.Block\nType: Vorlesung\nModule/Group:
  EUR\nLocation: NK: 1.12
DTSTART:20260714T143000Z
DTEND:20260714T160000Z
END:VEVENT
BEGIN:VEVENT
UID:DBBWL-D04-1784045700-95
SUMMARY:EUR (Vorlesung)
LOCATION:NK: 1.12
DESCRIPTION:Course: DBBWL-D04_6_6.Block\nType: Vorlesung\nModule/Group:
  EUR\nLocation: NK: 1.12
DTSTART:20260714T161500Z
DTEND:20260714T174500Z
END:VEVENT
BEGIN:VEVENT
UID:DBBWL-D04-1786371300-96
SUMMARY:Zent. NK/WK FB WI (Zentraler Nachschreibetermin FB WI)
DESCRIPTION:Course: DBBWL-D04_6_6.Block\nType: Zentraler Nachschreibetermin
  FB WI\nModule/Group: Zent. NK/WK FB WI
DTSTART:20260810T141500Z
DTEND:20260810T174500Z
END:VEVENT
BEGIN:VEVENT
UID:DBBWL-D04-1786457700-97
SUMMARY:Zent. NK/WK FB WI (Zentraler Nachschreibetermin FB WI)
DESCRIPTION:Course: DBBWL-D04_6_6.Block\nType: Zentraler Nachschreibetermin
  FB WI\nModule/Group: Zent. NK/WK FB WI
DTSTART:20260811T141500Z
DTEND:20260811T174500Z
END:VEVENT
BEGIN:VEVENT
UID:DBBWL-D04-1786544100-98
SUMMARY:Zent. NK/WK FB WI (Zentraler Nachschreibetermin FB WI)
DESCRIPTION:Course: DBBWL-D04_6_6.Block\nType: Zentraler Nachschreibetermin
  FB WI\nModule/Group: Zent. NK/WK FB WI
DTSTART:20260812T141500Z
DTEND:20260812T174500Z
END:VEVENT
BEGIN:VEVENT
UID:DBBWL-D04-1786630500-99
SUMMARY:Zent. NK/WK FB WI (Zentraler Nachschreibetermin FB WI)
DESCRIPTION:Course: DBBWL-D04_6_6.Block\nType: Zentraler Nachschreibetermin
  FB WI\nModule/Group: Zent. NK/WK FB WI
DTSTART:20260813T141500Z
DTEND:20260813T174500Z
END:VEVENT
BEGIN:VEVENT
UID:DBBWL-D04-1786716900-100
SUMMARY:Zent. NK/WK FB WI (Zentraler Nachschreibetermin FB WI)
DESCRIPTION:Course: DBBWL-D04_6_6.Block\nType: Zentraler Nachschreibetermin
  FB WI\nModule/Group: Zent. NK/WK FB WI
DTSTART:20260814T141500Z
DTEND:20260814T174500Z
END:VEVENT
BEGIN:VEVENT
UID:DBBWL-D04-1786976100-101
SUMMARY:Zent. NK/WK FB WI (Zentraler Nachschreibetermin FB WI)
DESCRIPTION:Course: DBBWL-D04_6_6.Block\nType: Zentraler Nachschreibetermin
  FB WI\nModule/Group: Zent. NK/WK FB WI
DTSTART:20260817T141500Z
DTEND:20260817T174500Z
END:VEVENT
BEGIN:VEVENT
UID:DBBWL-D04-1787062500-102
SUMMARY:Zent. NK/WK FB WI (Zentraler Nachschreibetermin FB WI)
DESCRIPTION:Course: DBBWL-D04_6_6.Block\nType: Zentraler Nachschreibetermin
  FB WI\nModule/Group: Zent. NK/WK FB WI
DTSTART:20260818T141500Z
DTEND:20260818T174500Z
END:VEVENT
BEGIN:VEVENT
UID:DBBWL-D04-1787148900-103
SUMMARY:Zent. NK/WK FB WI (Zentraler Nachschreibetermin FB WI)
DESCRIPTION:Course: DBBWL-D04_6_6.Block\nType: Zentraler Nachschreibetermin
  FB WI\nModule/Group: Zent. NK/WK FB WI
DTSTART:20260819T141500Z
DTEND:20260819T174500Z
END:VEVENT
BEGIN:VEVENT
UID:DBBWL-D04-1787235300-104
SUMMARY:Zent. NK/WK FB WI (Zentraler Nachschreibetermin FB WI)
DESCRIPTION:Course: DBBWL-D04_6_6.Block\nType: Zentraler Nachschreibetermin
  FB WI\nModule/Group: Zent. NK/WK FB WI
DTSTART:20260820T141500Z
DTEND:20260820T174500Z
END:VEVENT
BEGIN:VEVENT
UID:DBBWL-D04-1787321700-105
SUMMARY:Zent. NK/WK FB WI (Zentraler Nachschreibetermin FB WI)
DESCRIPTION:Course: DBBWL-D04_6_6.Block\nType: Zentraler Nachschreibetermin
  FB WI\nModule/Group: Zent. NK/WK FB WI
DTSTART:20260821T141500Z
DTEND:20260821T174500Z
END:VEVENT
BEGIN:VEVENT
UID:DBBWL-D04-1787580900-106
SUMMARY:Zent. NK/WK FB WI (Zentraler Nachschreibetermin FB WI)
DESCRIPTION:Course: DBBWL-D04_6_6.Block\nType: Zentraler Nachschreibetermin
  FB WI\nModule/Group: Zent. NK/WK FB WI
DTSTART:20260824T141500Z
DTEND:20260824T174500Z
END:VEVENT
BEGIN:VEVENT
UID:DBBWL-D04-1787667300-107
SUMMARY:Zent. NK/WK FB WI (Zentraler Nachschreibetermin FB WI)
DESCRIPTION:Course: DBBWL-D04_6_6.Block\nType: Zentraler Nachschreibetermin
  FB WI\nModule/Group: Zent. NK/WK FB WI
DTSTART:20260825T141500Z
DTEND:20260825T174500Z
END:VEVENT
BEGIN:VEVENT
UID:DBBWL-D04-1787753700-108
SUMMARY:Zent. NK/WK FB WI (Zentraler Nachschreibetermin FB WI)
DESCRIPTION:Course: DBBWL-D04_6_6.Block\nType: Zentraler Nachschreibetermin
  FB WI\nModule/Group: Zent. NK/WK FB WI
DTSTART:20260826T141500Z
DTEND:20260826T174500Z
END:VEVENT
BEGIN:VEVENT
UID:DBBWL-D04-1787840100-109
SUMMARY:Zent. NK/WK FB WI (Zentraler Nachschreibetermin FB WI)
DESCRIPTION:Course: DBBWL-D04_6_6.Block\nType: Zentraler Nachschreibetermin
  FB WI\nModule/Group: Zent. NK/WK FB WI
DTSTART:20260827T141500Z
DTEND:20260827T174500Z
END:VEVENT
BEGIN:VEVENT
UID:DBBWL-D04-1787926500-110
SUMMARY:Zent. NK/WK FB WI (Zentraler Nachschreibetermin FB WI)
DESCRIPTION:Course: DBBWL-D04_6_6.Block\nType: Zentraler Nachschreibetermin
  FB WI\nModule/Group: Zent. NK/WK FB WI
DTSTART:20260828T141500Z
DTEND:20260828T174500Z
END:VEVENT
END:VCALENDAR
