BEGIN:VCALENDAR
VERSION:2.0
PRODID:-//ASW Schedule Exporter//EN
NAME:ASW Schedule DBBWL-D03_7_7.Block
X-WR-CALNAME:ASW Schedule DBBWL-D03_7_7.Block
TZID:Europe/Berlin
BEGIN:VEVENT
UID:DBBWL-D03_7_7_Block-1770622200-0
SUMMARY:Posterpräs. (Posterpräsenation)
DESCRIPTION:Course: DBBWL-D03_7_7.Block\nType:
  Posterpräsenation\nModule/Group: Posterpräs.
DTSTART:20260209T073000Z
DTEND:20260209T170000Z
END:VEVENT
BEGIN:VEVENT
UID:DBBWL-D03_7_7_Block-1770708600-1
SUMMARY:Posterpräs. (Posterpräsenation)
DESCRIPTION:Course: DBBWL-D03_7_7.Block\nType:
  Posterpräsenation\nModule/Group: Posterpräs.
DTSTART:20260210T073000Z
DTEND:20260210T170000Z
END:VEVENT
BEGIN:VEVENT
UID:DBBWL-D03_7_7_Block-1770795000-2
SUMMARY:Posterpräs. (Posterpräsenation)
DESCRIPTION:Course: DBBWL-D03_7_7.Block\nType:
  Posterpräsenation\nModule/Group: Posterpräs.
DTSTART:20260211T073000Z
DTEND:20260211T170000Z
END:VEVENT
BEGIN:VEVENT
UID:DBBWL-D03_7_7_Block-1770881400-3
SUMMARY:Posterpräs. (Posterpräsenation)
DESCRIPTION:Course: DBBWL-D03_7_7.Block\nType:
  Posterpräsenation\nModule/Group: Posterpräs.
DTSTART:20260212T073000Z
DTEND:20260212T170000Z
END:VEVENT
BEGIN:VEVENT
UID:DBBWL-D03_7_7_Block-1770967800-4
SUMMARY:Posterpräs. (Posterpräsenation)
DESCRIPTION:Course: DBBWL-D03_7_7.Block\nType:
  Posterpräsenation\nModule/Group: Posterpräs.
DTSTART:20260213T073000Z
DTEND:20260213T170000Z
END:VEVENT
END:VCALENDAR
