BEGIN:VCALENDAR
VERSION:2.0
PRODID:-//ASW Schedule Exporter//EN
NAME:ASW Schedule DBBWL-B04
X-WR-CALNAME:ASW Schedule DBBWL-B04
TZID:Europe/Berlin
BEGIN:VEVENT
UID:DBBWL-B04-1776754800-0
SUMMARY:EUR (Vorlesung)
LOCATION:NK: 1.06
DESCRIPTION:Course: DBBWL-B04_6_6.Block\nType: Vorlesung\nModule/Group:
  EUR\nLocation: NK: 1.06
DTSTART:20260421T070000Z
DTEND:20260421T083000Z
END:VEVENT
BEGIN:VEVENT
UID:DBBWL-B04-1776841200-1
SUMMARY:HGB (Vorlesung)
LOCATION:NK: 1.06
DESCRIPTION:Course: DBBWL-B04_6_6.Block\nType: Vorlesung\nModule/Group:
  HGB\nLocation: NK: 1.06
DTSTART:20260422T070000Z
DTEND:20260422T083000Z
END:VEVENT
BEGIN:VEVENT
UID:DBBWL-B04-1776927600-2
SUMMARY:WIARB (Vorlesung)
LOCATION:NK: EDV 3.11
DESCRIPTION:Course: DBBWL-B04_6_6.Block\nType: Vorlesung\nModule/Group:
  WIARB\nLocation: NK: EDV 3.11
DTSTART:20260423T070000Z
DTEND:20260423T083000Z
END:VEVENT
BEGIN:VEVENT
UID:DBBWL-B04-1777014000-3
SUMMARY:ENG II C1 (Vorlesung)
LOCATION:NK: 1.11
DESCRIPTION:Course: DBBWL-B04_6_6.Block\nType: Vorlesung\nModule/Group: ENG
  II C1\nLocation: NK: 1.11
DTSTART:20260424T070000Z
DTEND:20260424T083000Z
END:VEVENT
BEGIN:VEVENT
UID:DBBWL-B04-1776761100-4
SUMMARY:EUR (Vorlesung)
LOCATION:NK: 1.06
DESCRIPTION:Course: DBBWL-B04_6_6.Block\nType: Vorlesung\nModule/Group:
  EUR\nLocation: NK: 1.06
DTSTART:20260421T084500Z
DTEND:20260421T101500Z
END:VEVENT
BEGIN:VEVENT
UID:DBBWL-B04-1776847500-5
SUMMARY:HGB (Vorlesung)
LOCATION:NK: 1.06
DESCRIPTION:Course: DBBWL-B04_6_6.Block\nType: Vorlesung\nModule/Group:
  HGB\nLocation: NK: 1.06
DTSTART:20260422T084500Z
DTEND:20260422T101500Z
END:VEVENT
BEGIN:VEVENT
UID:DBBWL-B04-1776933900-6
SUMMARY:WIARB (Vorlesung)
LOCATION:NK: EDV 3.11
DESCRIPTION:Course: DBBWL-B04_6_6.Block\nType: Vorlesung\nModule/Group:
  WIARB\nLocation: NK: EDV 3.11
DTSTART:20260423T084500Z
DTEND:20260423T101500Z
END:VEVENT
BEGIN:VEVENT
UID:DBBWL-B04-1777020300-7
SUMMARY:ENG II C1 (Vorlesung)
LOCATION:NK: 1.11
DESCRIPTION:Course: DBBWL-B04_6_6.Block\nType: Vorlesung\nModule/Group: ENG
  II C1\nLocation: NK: 1.11
DTSTART:20260424T084500Z
DTEND:20260424T101500Z
END:VEVENT
BEGIN:VEVENT
UID:DBBWL-B04-1776855600-8
SUMMARY:EUR (Vorlesung)
LOCATION:NK: 1.06
DESCRIPTION:Course: DBBWL-B04_6_6.Block\nType: Vorlesung\nModule/Group:
  EUR\nLocation: NK: 1.06
DTSTART:20260422T110000Z
DTEND:20260422T123000Z
END:VEVENT
BEGIN:VEVENT
UID:DBBWL-B04-1776942000-9
SUMMARY:ENG II B2 (Vorlesung)
LOCATION:NK: 1.10
DESCRIPTION:Course: DBBWL-B04_6_6.Block\nType: Vorlesung\nModule/Group: ENG
  II B2\nLocation: NK: 1.10
DTSTART:20260423T110000Z
DTEND:20260423T123000Z
END:VEVENT
BEGIN:VEVENT
UID:DBBWL-B04-1776942000-10
SUMMARY:ENG II C1 (Vorlesung)
LOCATION:NK: 1.11
DESCRIPTION:Course: DBBWL-B04_6_6.Block\nType: Vorlesung\nModule/Group: ENG
  II C1\nLocation: NK: 1.11
DTSTART:20260423T110000Z
DTEND:20260423T123000Z
END:VEVENT
BEGIN:VEVENT
UID:DBBWL-B04-1776861900-11
SUMMARY:EUR (Vorlesung)
LOCATION:NK: 1.06
DESCRIPTION:Course: DBBWL-B04_6_6.Block\nType: Vorlesung\nModule/Group:
  EUR\nLocation: NK: 1.06
DTSTART:20260422T124500Z
DTEND:20260422T141500Z
END:VEVENT
BEGIN:VEVENT
UID:DBBWL-B04-1776948300-12
SUMMARY:ENG II B2 (Vorlesung)
LOCATION:NK: 1.10
DESCRIPTION:Course: DBBWL-B04_6_6.Block\nType: Vorlesung\nModule/Group: ENG
  II B2\nLocation: NK: 1.10
DTSTART:20260423T124500Z
DTEND:20260423T141500Z
END:VEVENT
BEGIN:VEVENT
UID:DBBWL-B04-1776948300-13
SUMMARY:ENG II C1 (Vorlesung)
LOCATION:NK: 1.11
DESCRIPTION:Course: DBBWL-B04_6_6.Block\nType: Vorlesung\nModule/Group: ENG
  II C1\nLocation: NK: 1.11
DTSTART:20260423T124500Z
DTEND:20260423T141500Z
END:VEVENT
BEGIN:VEVENT
UID:DBBWL-B04-1777041000-14
SUMMARY:FRA II (Vorlesung)
LOCATION:NK: 1.11
DESCRIPTION:Course: DBBWL-B04_6_6.Block\nType: Vorlesung\nModule/Group: FRA
  II\nLocation: NK: 1.11
DTSTART:20260424T143000Z
DTEND:20260424T160000Z
END:VEVENT
BEGIN:VEVENT
UID:DBBWL-B04-1777047300-15
SUMMARY:FRA II (Vorlesung)
LOCATION:NK: 1.11
DESCRIPTION:Course: DBBWL-B04_6_6.Block\nType: Vorlesung\nModule/Group: FRA
  II\nLocation: NK: 1.11
DTSTART:20260424T161500Z
DTEND:20260424T174500Z
END:VEVENT
BEGIN:VEVENT
UID:DBBWL-B04-1777273200-16
SUMMARY:HGB (Vorlesung)
LOCATION:NK: 1.05
DESCRIPTION:Course: DBBWL-B04_6_6.Block\nType: Vorlesung\nModule/Group:
  HGB\nLocation: NK: 1.05
DTSTART:20260427T070000Z
DTEND:20260427T083000Z
END:VEVENT
BEGIN:VEVENT
UID:DBBWL-B04-1777279500-17
SUMMARY:HGB (Vorlesung)
LOCATION:NK: 1.05
DESCRIPTION:Course: DBBWL-B04_6_6.Block\nType: Vorlesung\nModule/Group:
  HGB\nLocation: NK: 1.05
DTSTART:20260427T084500Z
DTEND:20260427T101500Z
END:VEVENT
BEGIN:VEVENT
UID:DBBWL-B04-1777287600-18
SUMMARY:WINFO I (Vorlesung)
LOCATION:NK: 1.11
DESCRIPTION:Course: DBBWL-B04_6_6.Block\nType: Vorlesung\nModule/Group:
  WINFO I\nLocation: NK: 1.11
DTSTART:20260427T110000Z
DTEND:20260427T123000Z
END:VEVENT
BEGIN:VEVENT
UID:DBBWL-B04-1777460400-19
SUMMARY:EUR (Vorlesung)
LOCATION:NK: 1.06
DESCRIPTION:Course: DBBWL-B04_6_6.Block\nType: Vorlesung\nModule/Group:
  EUR\nLocation: NK: 1.06
DTSTART:20260429T110000Z
DTEND:20260429T123000Z
END:VEVENT
BEGIN:VEVENT
UID:DBBWL-B04-1777546800-20
SUMMARY:WIARB Exk. Uni BIB (Exkursion)
LOCATION:EXT: EXT
DESCRIPTION:Course: DBBWL-B04_6_6.Block\nType: Exkursion\nModule/Group:
  WIARB Exk. Uni BIB\nLocation: EXT: EXT
DTSTART:20260430T110000Z
DTEND:20260430T141500Z
END:VEVENT
BEGIN:VEVENT
UID:DBBWL-B04-1777293900-21
SUMMARY:WINFO I (Vorlesung)
LOCATION:NK: 1.11
DESCRIPTION:Course: DBBWL-B04_6_6.Block\nType: Vorlesung\nModule/Group:
  WINFO I\nLocation: NK: 1.11
DTSTART:20260427T124500Z
DTEND:20260427T141500Z
END:VEVENT
BEGIN:VEVENT
UID:DBBWL-B04-1777466700-22
SUMMARY:EUR (Vorlesung)
LOCATION:NK: 1.06
DESCRIPTION:Course: DBBWL-B04_6_6.Block\nType: Vorlesung\nModule/Group:
  EUR\nLocation: NK: 1.06
DTSTART:20260429T124500Z
DTEND:20260429T141500Z
END:VEVENT
BEGIN:VEVENT
UID:DBBWL-B04-1777473000-23
SUMMARY:GDV (Vorlesung)
LOCATION:NK: EDV 3.11
DESCRIPTION:Course: DBBWL-B04_6_6.Block\nType: Vorlesung\nModule/Group:
  GDV\nLocation: NK: EDV 3.11
DTSTART:20260429T143000Z
DTEND:20260429T160000Z
END:VEVENT
BEGIN:VEVENT
UID:DBBWL-B04-1777479300-24
SUMMARY:GDV (Vorlesung)
LOCATION:NK: EDV 3.11
DESCRIPTION:Course: DBBWL-B04_6_6.Block\nType: Vorlesung\nModule/Group:
  GDV\nLocation: NK: EDV 3.11
DTSTART:20260429T161500Z
DTEND:20260429T174500Z
END:VEVENT
BEGIN:VEVENT
UID:DBBWL-B04-1777878000-25
SUMMARY:ENG II B2 (Vorlesung)
LOCATION:NK: 1.12
DESCRIPTION:Course: DBBWL-B04_6_6.Block\nType: Vorlesung\nModule/Group: ENG
  II B2\nLocation: NK: 1.12
DTSTART:20260504T070000Z
DTEND:20260504T083000Z
END:VEVENT
BEGIN:VEVENT
UID:DBBWL-B04-1777878000-26
SUMMARY:ENG II C1 (Vorlesung)
LOCATION:NK: 1.11
DESCRIPTION:Course: DBBWL-B04_6_6.Block\nType: Vorlesung\nModule/Group: ENG
  II C1\nLocation: NK: 1.11
DTSTART:20260504T070000Z
DTEND:20260504T083000Z
END:VEVENT
BEGIN:VEVENT
UID:DBBWL-B04-1778050800-27
SUMMARY:ENG II B2 (Vorlesung)
LOCATION:NK: 1.12
DESCRIPTION:Course: DBBWL-B04_6_6.Block\nType: Vorlesung\nModule/Group: ENG
  II B2\nLocation: NK: 1.12
DTSTART:20260506T070000Z
DTEND:20260506T083000Z
END:VEVENT
BEGIN:VEVENT
UID:DBBWL-B04-1778050800-28
SUMMARY:ENG II C1 (Vorlesung)
LOCATION:NK: 1.11
DESCRIPTION:Course: DBBWL-B04_6_6.Block\nType: Vorlesung\nModule/Group: ENG
  II C1\nLocation: NK: 1.11
DTSTART:20260506T070000Z
DTEND:20260506T083000Z
END:VEVENT
BEGIN:VEVENT
UID:DBBWL-B04-1778227200-29
SUMMARY:ENG II B2 (Klausur)
LOCATION:NK: 1.10
DESCRIPTION:Course: DBBWL-B04_6_6.Block\nType: Klausur\nModule/Group: ENG
  II B2\nLocation: NK: 1.10
DTSTART:20260508T080000Z
DTEND:20260508T093000Z
END:VEVENT
BEGIN:VEVENT
UID:DBBWL-B04-1778227200-30
SUMMARY:ENG II C1 (Klausur)
LOCATION:NK: 1.11
DESCRIPTION:Course: DBBWL-B04_6_6.Block\nType: Klausur\nModule/Group: ENG
  II C1\nLocation: NK: 1.11
DTSTART:20260508T080000Z
DTEND:20260508T093000Z
END:VEVENT
BEGIN:VEVENT
UID:DBBWL-B04-1778227200-31
SUMMARY:FRA II (Klausur)
LOCATION:NK: 1.05
DESCRIPTION:Course: DBBWL-B04_6_6.Block\nType: Klausur\nModule/Group: FRA
  II\nLocation: NK: 1.05
DTSTART:20260508T080000Z
DTEND:20260508T093000Z
END:VEVENT
BEGIN:VEVENT
UID:DBBWL-B04-1777884300-32
SUMMARY:ENG II B2 (Vorlesung)
LOCATION:NK: 1.12
DESCRIPTION:Course: DBBWL-B04_6_6.Block\nType: Vorlesung\nModule/Group: ENG
  II B2\nLocation: NK: 1.12
DTSTART:20260504T084500Z
DTEND:20260504T101500Z
END:VEVENT
BEGIN:VEVENT
UID:DBBWL-B04-1777884300-33
SUMMARY:ENG II C1 (Vorlesung)
LOCATION:NK: 1.11
DESCRIPTION:Course: DBBWL-B04_6_6.Block\nType: Vorlesung\nModule/Group: ENG
  II C1\nLocation: NK: 1.11
DTSTART:20260504T084500Z
DTEND:20260504T101500Z
END:VEVENT
BEGIN:VEVENT
UID:DBBWL-B04-1778057100-34
SUMMARY:ENG II B2 (Vorlesung)
LOCATION:NK: 1.12
DESCRIPTION:Course: DBBWL-B04_6_6.Block\nType: Vorlesung\nModule/Group: ENG
  II B2\nLocation: NK: 1.12
DTSTART:20260506T084500Z
DTEND:20260506T101500Z
END:VEVENT
BEGIN:VEVENT
UID:DBBWL-B04-1778057100-35
SUMMARY:ENG II C1 (Vorlesung)
LOCATION:NK: 1.11
DESCRIPTION:Course: DBBWL-B04_6_6.Block\nType: Vorlesung\nModule/Group: ENG
  II C1\nLocation: NK: 1.11
DTSTART:20260506T084500Z
DTEND:20260506T101500Z
END:VEVENT
BEGIN:VEVENT
UID:DBBWL-B04-1777978800-36
SUMMARY:HBL II (Vorlesung)
LOCATION:NK: 1.12
DESCRIPTION:Course: DBBWL-B04_6_6.Block\nType: Vorlesung\nModule/Group: HBL
  II\nLocation: NK: 1.12
DTSTART:20260505T110000Z
DTEND:20260505T123000Z
END:VEVENT
BEGIN:VEVENT
UID:DBBWL-B04-1778065200-37
SUMMARY:EUR (Vorlesung)
LOCATION:NK: 1.06
DESCRIPTION:Course: DBBWL-B04_6_6.Block\nType: Vorlesung\nModule/Group:
  EUR\nLocation: NK: 1.06
DTSTART:20260506T110000Z
DTEND:20260506T123000Z
END:VEVENT
BEGIN:VEVENT
UID:DBBWL-B04-1777985100-38
SUMMARY:HBL II (Vorlesung)
LOCATION:NK: 1.12
DESCRIPTION:Course: DBBWL-B04_6_6.Block\nType: Vorlesung\nModule/Group: HBL
  II\nLocation: NK: 1.12
DTSTART:20260505T124500Z
DTEND:20260505T141500Z
END:VEVENT
BEGIN:VEVENT
UID:DBBWL-B04-1778071500-39
SUMMARY:EUR (Vorlesung)
LOCATION:NK: 1.06
DESCRIPTION:Course: DBBWL-B04_6_6.Block\nType: Vorlesung\nModule/Group:
  EUR\nLocation: NK: 1.06
DTSTART:20260506T124500Z
DTEND:20260506T141500Z
END:VEVENT
BEGIN:VEVENT
UID:DBBWL-B04-1777905000-40
SUMMARY:FRA II (Vorlesung)
LOCATION:NK: 1.11
DESCRIPTION:Course: DBBWL-B04_6_6.Block\nType: Vorlesung\nModule/Group: FRA
  II\nLocation: NK: 1.11
DTSTART:20260504T143000Z
DTEND:20260504T160000Z
END:VEVENT
BEGIN:VEVENT
UID:DBBWL-B04-1778077800-41
SUMMARY:FRA II (Vorlesung)
LOCATION:NK: 1.11
DESCRIPTION:Course: DBBWL-B04_6_6.Block\nType: Vorlesung\nModule/Group: FRA
  II\nLocation: NK: 1.11
DTSTART:20260506T143000Z
DTEND:20260506T160000Z
END:VEVENT
BEGIN:VEVENT
UID:DBBWL-B04-1777911300-42
SUMMARY:FRA II (Vorlesung)
LOCATION:NK: 1.11
DESCRIPTION:Course: DBBWL-B04_6_6.Block\nType: Vorlesung\nModule/Group: FRA
  II\nLocation: NK: 1.11
DTSTART:20260504T161500Z
DTEND:20260504T174500Z
END:VEVENT
BEGIN:VEVENT
UID:DBBWL-B04-1778084100-43
SUMMARY:FRA II (Vorlesung)
LOCATION:NK: 1.11
DESCRIPTION:Course: DBBWL-B04_6_6.Block\nType: Vorlesung\nModule/Group: FRA
  II\nLocation: NK: 1.11
DTSTART:20260506T161500Z
DTEND:20260506T174500Z
END:VEVENT
BEGIN:VEVENT
UID:DBBWL-B04-1778914800-44
SUMMARY:MP WINFO (Klausur)
LOCATION:NK: 2.04\, NK: EDV 3.16
DESCRIPTION:Course: DBBWL-B04_6_6.Block\nType: Klausur\nModule/Group: MP
  WINFO\nLocation: NK: 2.04\, NK: EDV 3.16
DTSTART:20260516T070000Z
DTEND:20260516T083000Z
END:VEVENT
BEGIN:VEVENT
UID:DBBWL-B04-1778574600-45
SUMMARY:MP HBL II (Klausur)
LOCATION:NK: 1.07
DESCRIPTION:Course: DBBWL-B04_6_6.Block\nType: Klausur\nModule/Group: MP
  HBL II\nLocation: NK: 1.07
DTSTART:20260512T083000Z
DTEND:20260512T100000Z
END:VEVENT
BEGIN:VEVENT
UID:DBBWL-B04-1778670000-46
SUMMARY:EUR (Vorlesung)
LOCATION:NK: 1.06
DESCRIPTION:Course: DBBWL-B04_6_6.Block\nType: Vorlesung\nModule/Group:
  EUR\nLocation: NK: 1.06
DTSTART:20260513T110000Z
DTEND:20260513T123000Z
END:VEVENT
BEGIN:VEVENT
UID:DBBWL-B04-1778676300-47
SUMMARY:EUR (Vorlesung)
LOCATION:NK: 1.06
DESCRIPTION:Course: DBBWL-B04_6_6.Block\nType: Vorlesung\nModule/Group:
  EUR\nLocation: NK: 1.06
DTSTART:20260513T124500Z
DTEND:20260513T141500Z
END:VEVENT
BEGIN:VEVENT
UID:DBBWL-B04-1778682600-48
SUMMARY:GDV (Vorlesung)
LOCATION:NK: EDV 3.11
DESCRIPTION:Course: DBBWL-B04_6_6.Block\nType: Vorlesung\nModule/Group:
  GDV\nLocation: NK: EDV 3.11
DTSTART:20260513T143000Z
DTEND:20260513T160000Z
END:VEVENT
BEGIN:VEVENT
UID:DBBWL-B04-1778688900-49
SUMMARY:GDV (Vorlesung)
LOCATION:NK: EDV 3.11
DESCRIPTION:Course: DBBWL-B04_6_6.Block\nType: Vorlesung\nModule/Group:
  GDV\nLocation: NK: EDV 3.11
DTSTART:20260513T161500Z
DTEND:20260513T174500Z
END:VEVENT
BEGIN:VEVENT
UID:DBBWL-B04-1779519600-50
SUMMARY:MP Recht (Klausur)
LOCATION:NK: 2.04
DESCRIPTION:Course: DBBWL-B04_6_6.Block\nType: Klausur\nModule/Group: MP
  Recht\nLocation: NK: 2.04
DTSTART:20260523T070000Z
DTEND:20260523T093000Z
END:VEVENT
BEGIN:VEVENT
UID:DBBWL-B04-1786343400-51
SUMMARY:Posterpräs. (Posterpräsenation)
DESCRIPTION:Course: DBBWL-B04_6_6.Block\nType:
  Posterpräsenation\nModule/Group: Posterpräs.
DTSTART:20260810T063000Z
DTEND:20260810T141500Z
END:VEVENT
BEGIN:VEVENT
UID:DBBWL-B04-1786429800-52
SUMMARY:Posterpräs. (Posterpräsenation)
DESCRIPTION:Course: DBBWL-B04_6_6.Block\nType:
  Posterpräsenation\nModule/Group: Posterpräs.
DTSTART:20260811T063000Z
DTEND:20260811T141500Z
END:VEVENT
BEGIN:VEVENT
UID:DBBWL-B04-1786516200-53
SUMMARY:Posterpräs. (Posterpräsenation)
DESCRIPTION:Course: DBBWL-B04_6_6.Block\nType:
  Posterpräsenation\nModule/Group: Posterpräs.
DTSTART:20260812T063000Z
DTEND:20260812T141500Z
END:VEVENT
BEGIN:VEVENT
UID:DBBWL-B04-1786602600-54
SUMMARY:Posterpräs. (Posterpräsenation)
DESCRIPTION:Course: DBBWL-B04_6_6.Block\nType:
  Posterpräsenation\nModule/Group: Posterpräs.
DTSTART:20260813T063000Z
DTEND:20260813T141500Z
END:VEVENT
BEGIN:VEVENT
UID:DBBWL-B04-1786689000-55
SUMMARY:Posterpräs. (Posterpräsenation)
DESCRIPTION:Course: DBBWL-B04_6_6.Block\nType:
  Posterpräsenation\nModule/Group: Posterpräs.
DTSTART:20260814T063000Z
DTEND:20260814T141500Z
END:VEVENT
BEGIN:VEVENT
UID:DBBWL-B04-1786371300-56
SUMMARY:Zent. NK/WK FB WI (Zentraler Nachschreibetermin FB WI)
DESCRIPTION:Course: DBBWL-B04_6_6.Block\nType: Zentraler Nachschreibetermin
  FB WI\nModule/Group: Zent. NK/WK FB WI
DTSTART:20260810T141500Z
DTEND:20260810T174500Z
END:VEVENT
BEGIN:VEVENT
UID:DBBWL-B04-1786457700-57
SUMMARY:Zent. NK/WK FB WI (Zentraler Nachschreibetermin FB WI)
DESCRIPTION:Course: DBBWL-B04_6_6.Block\nType: Zentraler Nachschreibetermin
  FB WI\nModule/Group: Zent. NK/WK FB WI
DTSTART:20260811T141500Z
DTEND:20260811T174500Z
END:VEVENT
BEGIN:VEVENT
UID:DBBWL-B04-1786544100-58
SUMMARY:Zent. NK/WK FB WI (Zentraler Nachschreibetermin FB WI)
DESCRIPTION:Course: DBBWL-B04_6_6.Block\nType: Zentraler Nachschreibetermin
  FB WI\nModule/Group: Zent. NK/WK FB WI
DTSTART:20260812T141500Z
DTEND:20260812T174500Z
END:VEVENT
BEGIN:VEVENT
UID:DBBWL-B04-1786630500-59
SUMMARY:Zent. NK/WK FB WI (Zentraler Nachschreibetermin FB WI)
DESCRIPTION:Course: DBBWL-B04_6_6.Block\nType: Zentraler Nachschreibetermin
  FB WI\nModule/Group: Zent. NK/WK FB WI
DTSTART:20260813T141500Z
DTEND:20260813T174500Z
END:VEVENT
BEGIN:VEVENT
UID:DBBWL-B04-1786716900-60
SUMMARY:Zent. NK/WK FB WI (Zentraler Nachschreibetermin FB WI)
DESCRIPTION:Course: DBBWL-B04_6_6.Block\nType: Zentraler Nachschreibetermin
  FB WI\nModule/Group: Zent. NK/WK FB WI
DTSTART:20260814T141500Z
DTEND:20260814T174500Z
END:VEVENT
BEGIN:VEVENT
UID:DBBWL-B04-1786948200-61
SUMMARY:Posterpräs. (Posterpräsenation)
DESCRIPTION:Course: DBBWL-B04_6_6.Block\nType:
  Posterpräsenation\nModule/Group: Posterpräs.
DTSTART:20260817T063000Z
DTEND:20260817T141500Z
END:VEVENT
BEGIN:VEVENT
UID:DBBWL-B04-1787034600-62
SUMMARY:Posterpräs. (Posterpräsenation)
DESCRIPTION:Course: DBBWL-B04_6_6.Block\nType:
  Posterpräsenation\nModule/Group: Posterpräs.
DTSTART:20260818T063000Z
DTEND:20260818T141500Z
END:VEVENT
BEGIN:VEVENT
UID:DBBWL-B04-1787121000-63
SUMMARY:Posterpräs. (Posterpräsenation)
DESCRIPTION:Course: DBBWL-B04_6_6.Block\nType:
  Posterpräsenation\nModule/Group: Posterpräs.
DTSTART:20260819T063000Z
DTEND:20260819T141500Z
END:VEVENT
BEGIN:VEVENT
UID:DBBWL-B04-1787207400-64
SUMMARY:Posterpräs. (Posterpräsenation)
DESCRIPTION:Course: DBBWL-B04_6_6.Block\nType:
  Posterpräsenation\nModule/Group: Posterpräs.
DTSTART:20260820T063000Z
DTEND:20260820T141500Z
END:VEVENT
BEGIN:VEVENT
UID:DBBWL-B04-1787293800-65
SUMMARY:Posterpräs. (Posterpräsenation)
DESCRIPTION:Course: DBBWL-B04_6_6.Block\nType:
  Posterpräsenation\nModule/Group: Posterpräs.
DTSTART:20260821T063000Z
DTEND:20260821T141500Z
END:VEVENT
BEGIN:VEVENT
UID:DBBWL-B04-1786976100-66
SUMMARY:Zent. NK/WK FB WI (Zentraler Nachschreibetermin FB WI)
DESCRIPTION:Course: DBBWL-B04_6_6.Block\nType: Zentraler Nachschreibetermin
  FB WI\nModule/Group: Zent. NK/WK FB WI
DTSTART:20260817T141500Z
DTEND:20260817T174500Z
END:VEVENT
BEGIN:VEVENT
UID:DBBWL-B04-1787062500-67
SUMMARY:Zent. NK/WK FB WI (Zentraler Nachschreibetermin FB WI)
DESCRIPTION:Course: DBBWL-B04_6_6.Block\nType: Zentraler Nachschreibetermin
  FB WI\nModule/Group: Zent. NK/WK FB WI
DTSTART:20260818T141500Z
DTEND:20260818T174500Z
END:VEVENT
BEGIN:VEVENT
UID:DBBWL-B04-1787148900-68
SUMMARY:Zent. NK/WK FB WI (Zentraler Nachschreibetermin FB WI)
DESCRIPTION:Course: DBBWL-B04_6_6.Block\nType: Zentraler Nachschreibetermin
  FB WI\nModule/Group: Zent. NK/WK FB WI
DTSTART:20260819T141500Z
DTEND:20260819T174500Z
END:VEVENT
BEGIN:VEVENT
UID:DBBWL-B04-1787235300-69
SUMMARY:Zent. NK/WK FB WI (Zentraler Nachschreibetermin FB WI)
DESCRIPTION:Course: DBBWL-B04_6_6.Block\nType: Zentraler Nachschreibetermin
  FB WI\nModule/Group: Zent. NK/WK FB WI
DTSTART:20260820T141500Z
DTEND:20260820T174500Z
END:VEVENT
BEGIN:VEVENT
UID:DBBWL-B04-1787321700-70
SUMMARY:Zent. NK/WK FB WI (Zentraler Nachschreibetermin FB WI)
DESCRIPTION:Course: DBBWL-B04_6_6.Block\nType: Zentraler Nachschreibetermin
  FB WI\nModule/Group: Zent. NK/WK FB WI
DTSTART:20260821T141500Z
DTEND:20260821T174500Z
END:VEVENT
BEGIN:VEVENT
UID:DBBWL-B04-1787553000-71
SUMMARY:Posterpräs. (Posterpräsenation)
DESCRIPTION:Course: DBBWL-B04_6_6.Block\nType:
  Posterpräsenation\nModule/Group: Posterpräs.
DTSTART:20260824T063000Z
DTEND:20260824T141500Z
END:VEVENT
BEGIN:VEVENT
UID:DBBWL-B04-1787639400-72
SUMMARY:Posterpräs. (Posterpräsenation)
DESCRIPTION:Course: DBBWL-B04_6_6.Block\nType:
  Posterpräsenation\nModule/Group: Posterpräs.
DTSTART:20260825T063000Z
DTEND:20260825T141500Z
END:VEVENT
BEGIN:VEVENT
UID:DBBWL-B04-1787725800-73
SUMMARY:Posterpräs. (Posterpräsenation)
DESCRIPTION:Course: DBBWL-B04_6_6.Block\nType:
  Posterpräsenation\nModule/Group: Posterpräs.
DTSTART:20260826T063000Z
DTEND:20260826T141500Z
END:VEVENT
BEGIN:VEVENT
UID:DBBWL-B04-1787812200-74
SUMMARY:Posterpräs. (Posterpräsenation)
DESCRIPTION:Course: DBBWL-B04_6_6.Block\nType:
  Posterpräsenation\nModule/Group: Posterpräs.
DTSTART:20260827T063000Z
DTEND:20260827T141500Z
END:VEVENT
BEGIN:VEVENT
UID:DBBWL-B04-1787898600-75
SUMMARY:Posterpräs. (Posterpräsenation)
DESCRIPTION:Course: DBBWL-B04_6_6.Block\nType:
  Posterpräsenation\nModule/Group: Posterpräs.
DTSTART:20260828T063000Z
DTEND:20260828T141500Z
END:VEVENT
BEGIN:VEVENT
UID:DBBWL-B04-1787580900-76
SUMMARY:Zent. NK/WK FB WI (Zentraler Nachschreibetermin FB WI)
DESCRIPTION:Course: DBBWL-B04_6_6.Block\nType: Zentraler Nachschreibetermin
  FB WI\nModule/Group: Zent. NK/WK FB WI
DTSTART:20260824T141500Z
DTEND:20260824T174500Z
END:VEVENT
BEGIN:VEVENT
UID:DBBWL-B04-1787667300-77
SUMMARY:Zent. NK/WK FB WI (Zentraler Nachschreibetermin FB WI)
DESCRIPTION:Course: DBBWL-B04_6_6.Block\nType: Zentraler Nachschreibetermin
  FB WI\nModule/Group: Zent. NK/WK FB WI
DTSTART:20260825T141500Z
DTEND:20260825T174500Z
END:VEVENT
BEGIN:VEVENT
UID:DBBWL-B04-1787753700-78
SUMMARY:Zent. NK/WK FB WI (Zentraler Nachschreibetermin FB WI)
DESCRIPTION:Course: DBBWL-B04_6_6.Block\nType: Zentraler Nachschreibetermin
  FB WI\nModule/Group: Zent. NK/WK FB WI
DTSTART:20260826T141500Z
DTEND:20260826T174500Z
END:VEVENT
BEGIN:VEVENT
UID:DBBWL-B04-1787840100-79
SUMMARY:Zent. NK/WK FB WI (Zentraler Nachschreibetermin FB WI)
DESCRIPTION:Course: DBBWL-B04_6_6.Block\nType: Zentraler Nachschreibetermin
  FB WI\nModule/Group: Zent. NK/WK FB WI
DTSTART:20260827T141500Z
DTEND:20260827T174500Z
END:VEVENT
BEGIN:VEVENT
UID:DBBWL-B04-1787926500-80
SUMMARY:Zent. NK/WK FB WI (Zentraler Nachschreibetermin FB WI)
DESCRIPTION:Course: DBBWL-B04_6_6.Block\nType: Zentraler Nachschreibetermin
  FB WI\nModule/Group: Zent. NK/WK FB WI
DTSTART:20260828T141500Z
DTEND:20260828T174500Z
END:VEVENT
END:VCALENDAR
