BEGIN:VCALENDAR
VERSION:2.0
PRODID:-//ASW Schedule Exporter//EN
NAME:ASW Schedule DBBWL-A03
X-WR-CALNAME:ASW Schedule DBBWL-A03
TZID:Europe/Berlin
BEGIN:VEVENT
UID:DBBWL-A03-1770622200-0
SUMMARY:Posterpräs. (Posterpräsenation)
DESCRIPTION:Course: DBBWL-A03_7_7.Block\nType:
  Posterpräsenation\nModule/Group: Posterpräs.
DTSTART:20260209T073000Z
DTEND:20260209T170000Z
END:VEVENT
BEGIN:VEVENT
UID:DBBWL-A03-1770708600-1
SUMMARY:Posterpräs. (Posterpräsenation)
DESCRIPTION:Course: DBBWL-A03_7_7.Block\nType:
  Posterpräsenation\nModule/Group: Posterpräs.
DTSTART:20260210T073000Z
DTEND:20260210T170000Z
END:VEVENT
BEGIN:VEVENT
UID:DBBWL-A03-1770795000-2
SUMMARY:Posterpräs. (Posterpräsenation)
DESCRIPTION:Course: DBBWL-A03_7_7.Block\nType:
  Posterpräsenation\nModule/Group: Posterpräs.
DTSTART:20260211T073000Z
DTEND:20260211T170000Z
END:VEVENT
BEGIN:VEVENT
UID:DBBWL-A03-1770881400-3
SUMMARY:Posterpräs. (Posterpräsenation)
DESCRIPTION:Course: DBBWL-A03_7_7.Block\nType:
  Posterpräsenation\nModule/Group: Posterpräs.
DTSTART:20260212T073000Z
DTEND:20260212T170000Z
END:VEVENT
BEGIN:VEVENT
UID:DBBWL-A03-1770967800-4
SUMMARY:Posterpräs. (Posterpräsenation)
DESCRIPTION:Course: DBBWL-A03_7_7.Block\nType:
  Posterpräsenation\nModule/Group: Posterpräs.
DTSTART:20260213T073000Z
DTEND:20260213T170000Z
END:VEVENT
BEGIN:VEVENT
UID:DBBWL-A03-1780297200-5
SUMMARY:PS TOPSIM (Planspiel)
LOCATION:NK: PS 0.10
DESCRIPTION:Course: DBBWL-A03_9_9.Block\nType: Planspiel\nModule/Group: PS
  TOPSIM\nLocation: NK: PS 0.10
DTSTART:20260601T070000Z
DTEND:20260601T083000Z
END:VEVENT
BEGIN:VEVENT
UID:DBBWL-A03-1780383600-6
SUMMARY:PS TOPSIM (Planspiel)
LOCATION:NK: PS 0.10
DESCRIPTION:Course: DBBWL-A03_9_9.Block\nType: Planspiel\nModule/Group: PS
  TOPSIM\nLocation: NK: PS 0.10
DTSTART:20260602T070000Z
DTEND:20260602T083000Z
END:VEVENT
BEGIN:VEVENT
UID:DBBWL-A03-1780470000-7
SUMMARY:PS TOPSIM (Planspiel)
LOCATION:NK: PS 0.10
DESCRIPTION:Course: DBBWL-A03_9_9.Block\nType: Planspiel\nModule/Group: PS
  TOPSIM\nLocation: NK: PS 0.10
DTSTART:20260603T070000Z
DTEND:20260603T083000Z
END:VEVENT
BEGIN:VEVENT
UID:DBBWL-A03-1780303500-8
SUMMARY:PS TOPSIM (Planspiel)
LOCATION:NK: PS 0.10
DESCRIPTION:Course: DBBWL-A03_9_9.Block\nType: Planspiel\nModule/Group: PS
  TOPSIM\nLocation: NK: PS 0.10
DTSTART:20260601T084500Z
DTEND:20260601T101500Z
END:VEVENT
BEGIN:VEVENT
UID:DBBWL-A03-1780389900-9
SUMMARY:PS TOPSIM (Planspiel)
LOCATION:NK: PS 0.10
DESCRIPTION:Course: DBBWL-A03_9_9.Block\nType: Planspiel\nModule/Group: PS
  TOPSIM\nLocation: NK: PS 0.10
DTSTART:20260602T084500Z
DTEND:20260602T101500Z
END:VEVENT
BEGIN:VEVENT
UID:DBBWL-A03-1780476300-10
SUMMARY:PS TOPSIM (Planspiel)
LOCATION:NK: PS 0.10
DESCRIPTION:Course: DBBWL-A03_9_9.Block\nType: Planspiel\nModule/Group: PS
  TOPSIM\nLocation: NK: PS 0.10
DTSTART:20260603T084500Z
DTEND:20260603T101500Z
END:VEVENT
BEGIN:VEVENT
UID:DBBWL-A03-1780311600-11
SUMMARY:PS TOPSIM (Planspiel)
LOCATION:NK: PS 0.10
DESCRIPTION:Course: DBBWL-A03_9_9.Block\nType: Planspiel\nModule/Group: PS
  TOPSIM\nLocation: NK: PS 0.10
DTSTART:20260601T110000Z
DTEND:20260601T123000Z
END:VEVENT
BEGIN:VEVENT
UID:DBBWL-A03-1780398000-12
SUMMARY:PS TOPSIM (Planspiel)
LOCATION:NK: PS 0.10
DESCRIPTION:Course: DBBWL-A03_9_9.Block\nType: Planspiel\nModule/Group: PS
  TOPSIM\nLocation: NK: PS 0.10
DTSTART:20260602T110000Z
DTEND:20260602T123000Z
END:VEVENT
BEGIN:VEVENT
UID:DBBWL-A03-1780657200-13
SUMMARY:IFRS (Klausur)
LOCATION:NK: 1.07
DESCRIPTION:Course: DBBWL-A03_9_9.Block\nType: Klausur\nModule/Group:
  IFRS\nLocation: NK: 1.07
DTSTART:20260605T110000Z
DTEND:20260605T123000Z
END:VEVENT
BEGIN:VEVENT
UID:DBBWL-A03-1780317900-14
SUMMARY:PS TOPSIM (Planspiel)
LOCATION:NK: PS 0.10
DESCRIPTION:Course: DBBWL-A03_9_9.Block\nType: Planspiel\nModule/Group: PS
  TOPSIM\nLocation: NK: PS 0.10
DTSTART:20260601T124500Z
DTEND:20260601T141500Z
END:VEVENT
BEGIN:VEVENT
UID:DBBWL-A03-1780404300-15
SUMMARY:PS TOPSIM (Planspiel)
LOCATION:NK: PS 0.10
DESCRIPTION:Course: DBBWL-A03_9_9.Block\nType: Planspiel\nModule/Group: PS
  TOPSIM\nLocation: NK: PS 0.10
DTSTART:20260602T124500Z
DTEND:20260602T141500Z
END:VEVENT
BEGIN:VEVENT
UID:DBBWL-A03-1780663500-16
SUMMARY:Barb (Bachelorarbeit)
DESCRIPTION:Course: DBBWL-A03_9_9.Block\nType:
  Bachelorarbeit\nModule/Group: Barb
DTSTART:20260605T124500Z
DTEND:20260605T141500Z
END:VEVENT
BEGIN:VEVENT
UID:DBBWL-A03-1780669800-17
SUMMARY:Barb (Bachelorarbeit)
DESCRIPTION:Course: DBBWL-A03_9_9.Block\nType:
  Bachelorarbeit\nModule/Group: Barb
DTSTART:20260605T143000Z
DTEND:20260605T160000Z
END:VEVENT
BEGIN:VEVENT
UID:DBBWL-A03-1780676100-18
SUMMARY:Barb (Bachelorarbeit)
DESCRIPTION:Course: DBBWL-A03_9_9.Block\nType:
  Bachelorarbeit\nModule/Group: Barb
DTSTART:20260605T161500Z
DTEND:20260605T174500Z
END:VEVENT
BEGIN:VEVENT
UID:DBBWL-A03-1780902000-19
SUMMARY:IK (Vorlesung)
LOCATION:NK: 1.10
DESCRIPTION:Course: DBBWL-A03_9_9.Block\nType: Vorlesung\nModule/Group:
  IK\nLocation: NK: 1.10
DTSTART:20260608T070000Z
DTEND:20260608T083000Z
END:VEVENT
BEGIN:VEVENT
UID:DBBWL-A03-1780988400-20
SUMMARY:UK (Vorlesung)
LOCATION:EXT: Online
DESCRIPTION:Course: DBBWL-A03_9_9.Block\nType: Vorlesung\nModule/Group:
  UK\nLocation: EXT: Online
DTSTART:20260609T070000Z
DTEND:20260609T083000Z
END:VEVENT
BEGIN:VEVENT
UID:DBBWL-A03-1781074800-21
SUMMARY:UK (Vorlesung)
LOCATION:EXT: Online
DESCRIPTION:Course: DBBWL-A03_9_9.Block\nType: Vorlesung\nModule/Group:
  UK\nLocation: EXT: Online
DTSTART:20260610T070000Z
DTEND:20260610T083000Z
END:VEVENT
BEGIN:VEVENT
UID:DBBWL-A03-1781161200-22
SUMMARY:WINFO II (Vorlesung)
LOCATION:NK: EDV 3.11
DESCRIPTION:Course: DBBWL-A03_9_9.Block\nType: Vorlesung\nModule/Group:
  WINFO II\nLocation: NK: EDV 3.11
DTSTART:20260611T070000Z
DTEND:20260611T083000Z
END:VEVENT
BEGIN:VEVENT
UID:DBBWL-A03-1781247600-23
SUMMARY:WINFO II (Vorlesung)
LOCATION:EXT: Online
DESCRIPTION:Course: DBBWL-A03_9_9.Block\nType: Vorlesung\nModule/Group:
  WINFO II\nLocation: EXT: Online
DTSTART:20260612T070000Z
DTEND:20260612T083000Z
END:VEVENT
BEGIN:VEVENT
UID:DBBWL-A03-1780908300-24
SUMMARY:IK (Vorlesung)
LOCATION:NK: 1.10
DESCRIPTION:Course: DBBWL-A03_9_9.Block\nType: Vorlesung\nModule/Group:
  IK\nLocation: NK: 1.10
DTSTART:20260608T084500Z
DTEND:20260608T101500Z
END:VEVENT
BEGIN:VEVENT
UID:DBBWL-A03-1780994700-25
SUMMARY:UK (Vorlesung)
LOCATION:EXT: Online
DESCRIPTION:Course: DBBWL-A03_9_9.Block\nType: Vorlesung\nModule/Group:
  UK\nLocation: EXT: Online
DTSTART:20260609T084500Z
DTEND:20260609T101500Z
END:VEVENT
BEGIN:VEVENT
UID:DBBWL-A03-1781081100-26
SUMMARY:UK (Vorlesung)
LOCATION:EXT: Online
DESCRIPTION:Course: DBBWL-A03_9_9.Block\nType: Vorlesung\nModule/Group:
  UK\nLocation: EXT: Online
DTSTART:20260610T084500Z
DTEND:20260610T101500Z
END:VEVENT
BEGIN:VEVENT
UID:DBBWL-A03-1781167500-27
SUMMARY:WINFO II (Vorlesung)
LOCATION:NK: EDV 3.11
DESCRIPTION:Course: DBBWL-A03_9_9.Block\nType: Vorlesung\nModule/Group:
  WINFO II\nLocation: NK: EDV 3.11
DTSTART:20260611T084500Z
DTEND:20260611T101500Z
END:VEVENT
BEGIN:VEVENT
UID:DBBWL-A03-1781253900-28
SUMMARY:WINFO II (Vorlesung)
LOCATION:EXT: Online
DESCRIPTION:Course: DBBWL-A03_9_9.Block\nType: Vorlesung\nModule/Group:
  WINFO II\nLocation: EXT: Online
DTSTART:20260612T084500Z
DTEND:20260612T101500Z
END:VEVENT
BEGIN:VEVENT
UID:DBBWL-A03-1780916400-29
SUMMARY:WINFO II (Vorlesung)
LOCATION:NK: EDV 3.11
DESCRIPTION:Course: DBBWL-A03_9_9.Block\nType: Vorlesung\nModule/Group:
  WINFO II\nLocation: NK: EDV 3.11
DTSTART:20260608T110000Z
DTEND:20260608T123000Z
END:VEVENT
BEGIN:VEVENT
UID:DBBWL-A03-1781002800-30
SUMMARY:IK (Vorlesung)
LOCATION:EXT: Online
DESCRIPTION:Course: DBBWL-A03_9_9.Block\nType: Vorlesung\nModule/Group:
  IK\nLocation: EXT: Online
DTSTART:20260609T110000Z
DTEND:20260609T123000Z
END:VEVENT
BEGIN:VEVENT
UID:DBBWL-A03-1781089200-31
SUMMARY:IK (Vorlesung)
LOCATION:EXT: Online
DESCRIPTION:Course: DBBWL-A03_9_9.Block\nType: Vorlesung\nModule/Group:
  IK\nLocation: EXT: Online
DTSTART:20260610T110000Z
DTEND:20260610T123000Z
END:VEVENT
BEGIN:VEVENT
UID:DBBWL-A03-1780922700-32
SUMMARY:WINFO II (Vorlesung)
LOCATION:NK: EDV 3.11
DESCRIPTION:Course: DBBWL-A03_9_9.Block\nType: Vorlesung\nModule/Group:
  WINFO II\nLocation: NK: EDV 3.11
DTSTART:20260608T124500Z
DTEND:20260608T141500Z
END:VEVENT
BEGIN:VEVENT
UID:DBBWL-A03-1781009100-33
SUMMARY:IK (Vorlesung)
LOCATION:EXT: Online
DESCRIPTION:Course: DBBWL-A03_9_9.Block\nType: Vorlesung\nModule/Group:
  IK\nLocation: EXT: Online
DTSTART:20260609T124500Z
DTEND:20260609T141500Z
END:VEVENT
BEGIN:VEVENT
UID:DBBWL-A03-1781095500-34
SUMMARY:IK (Vorlesung)
LOCATION:EXT: Online
DESCRIPTION:Course: DBBWL-A03_9_9.Block\nType: Vorlesung\nModule/Group:
  IK\nLocation: EXT: Online
DTSTART:20260610T124500Z
DTEND:20260610T141500Z
END:VEVENT
BEGIN:VEVENT
UID:DBBWL-A03-1781506800-35
SUMMARY:RHETG (Vorlesung)
LOCATION:NK: 1.10\, NK: 1.11
DESCRIPTION:Course: DBBWL-A03_9_9.Block\nType: Vorlesung\nModule/Group:
  RHETG\nLocation: NK: 1.10\, NK: 1.11
DTSTART:20260615T070000Z
DTEND:20260615T083000Z
END:VEVENT
BEGIN:VEVENT
UID:DBBWL-A03-1781593200-36
SUMMARY:RHETG (Vorlesung)
LOCATION:NK: 1.10\, NK: 1.11
DESCRIPTION:Course: DBBWL-A03_9_9.Block\nType: Vorlesung\nModule/Group:
  RHETG\nLocation: NK: 1.10\, NK: 1.11
DTSTART:20260616T070000Z
DTEND:20260616T083000Z
END:VEVENT
BEGIN:VEVENT
UID:DBBWL-A03-1781679600-37
SUMMARY:RHETG (Präsentation)
LOCATION:NK: 1.10
DESCRIPTION:Course: DBBWL-A03_9_9.Block\nType: Präsentation\nModule/Group:
  RHETG\nLocation: NK: 1.10
DTSTART:20260617T070000Z
DTEND:20260617T083000Z
END:VEVENT
BEGIN:VEVENT
UID:DBBWL-A03-1781766000-38
SUMMARY:WINFO II (Vorlesung)
LOCATION:NK: EDV 3.11
DESCRIPTION:Course: DBBWL-A03_9_9.Block\nType: Vorlesung\nModule/Group:
  WINFO II\nLocation: NK: EDV 3.11
DTSTART:20260618T070000Z
DTEND:20260618T083000Z
END:VEVENT
BEGIN:VEVENT
UID:DBBWL-A03-1781852400-39
SUMMARY:WINFO II (Vorlesung)
LOCATION:EXT: Online
DESCRIPTION:Course: DBBWL-A03_9_9.Block\nType: Vorlesung\nModule/Group:
  WINFO II\nLocation: EXT: Online
DTSTART:20260619T070000Z
DTEND:20260619T083000Z
END:VEVENT
BEGIN:VEVENT
UID:DBBWL-A03-1781513100-40
SUMMARY:RHETG (Vorlesung)
LOCATION:NK: 1.10\, NK: 1.11
DESCRIPTION:Course: DBBWL-A03_9_9.Block\nType: Vorlesung\nModule/Group:
  RHETG\nLocation: NK: 1.10\, NK: 1.11
DTSTART:20260615T084500Z
DTEND:20260615T101500Z
END:VEVENT
BEGIN:VEVENT
UID:DBBWL-A03-1781599500-41
SUMMARY:RHETG (Vorlesung)
LOCATION:NK: 1.10\, NK: 1.11
DESCRIPTION:Course: DBBWL-A03_9_9.Block\nType: Vorlesung\nModule/Group:
  RHETG\nLocation: NK: 1.10\, NK: 1.11
DTSTART:20260616T084500Z
DTEND:20260616T101500Z
END:VEVENT
BEGIN:VEVENT
UID:DBBWL-A03-1781685900-42
SUMMARY:RHETG (Präsentation)
LOCATION:NK: 1.10
DESCRIPTION:Course: DBBWL-A03_9_9.Block\nType: Präsentation\nModule/Group:
  RHETG\nLocation: NK: 1.10
DTSTART:20260617T084500Z
DTEND:20260617T101500Z
END:VEVENT
BEGIN:VEVENT
UID:DBBWL-A03-1781772300-43
SUMMARY:WINFO II (Vorlesung)
LOCATION:NK: EDV 3.11
DESCRIPTION:Course: DBBWL-A03_9_9.Block\nType: Vorlesung\nModule/Group:
  WINFO II\nLocation: NK: EDV 3.11
DTSTART:20260618T084500Z
DTEND:20260618T101500Z
END:VEVENT
BEGIN:VEVENT
UID:DBBWL-A03-1781858700-44
SUMMARY:WINFO II (Vorlesung)
LOCATION:EXT: Online
DESCRIPTION:Course: DBBWL-A03_9_9.Block\nType: Vorlesung\nModule/Group:
  WINFO II\nLocation: EXT: Online
DTSTART:20260619T084500Z
DTEND:20260619T101500Z
END:VEVENT
BEGIN:VEVENT
UID:DBBWL-A03-1781521200-45
SUMMARY:RHETG (Vorlesung)
LOCATION:NK: 1.10\, NK: 1.11
DESCRIPTION:Course: DBBWL-A03_9_9.Block\nType: Vorlesung\nModule/Group:
  RHETG\nLocation: NK: 1.10\, NK: 1.11
DTSTART:20260615T110000Z
DTEND:20260615T123000Z
END:VEVENT
BEGIN:VEVENT
UID:DBBWL-A03-1781607600-46
SUMMARY:RHETG (Vorlesung)
LOCATION:NK: 1.10\, NK: 1.11
DESCRIPTION:Course: DBBWL-A03_9_9.Block\nType: Vorlesung\nModule/Group:
  RHETG\nLocation: NK: 1.10\, NK: 1.11
DTSTART:20260616T110000Z
DTEND:20260616T123000Z
END:VEVENT
BEGIN:VEVENT
UID:DBBWL-A03-1781527500-47
SUMMARY:RHETG (Vorlesung)
LOCATION:NK: 1.10\, NK: 1.11
DESCRIPTION:Course: DBBWL-A03_9_9.Block\nType: Vorlesung\nModule/Group:
  RHETG\nLocation: NK: 1.10\, NK: 1.11
DTSTART:20260615T124500Z
DTEND:20260615T141500Z
END:VEVENT
BEGIN:VEVENT
UID:DBBWL-A03-1781613900-48
SUMMARY:RHETG (Vorlesung)
LOCATION:NK: 1.10\, NK: 1.11
DESCRIPTION:Course: DBBWL-A03_9_9.Block\nType: Vorlesung\nModule/Group:
  RHETG\nLocation: NK: 1.10\, NK: 1.11
DTSTART:20260616T124500Z
DTEND:20260616T141500Z
END:VEVENT
BEGIN:VEVENT
UID:DBBWL-A03-1782284400-49
SUMMARY:Barb (Bachelorarbeit)
DESCRIPTION:Course: DBBWL-A03_9_9.Block\nType:
  Bachelorarbeit\nModule/Group: Barb
DTSTART:20260624T070000Z
DTEND:20260624T083000Z
END:VEVENT
BEGIN:VEVENT
UID:DBBWL-A03-1782370800-50
SUMMARY:Barb (Bachelorarbeit)
DESCRIPTION:Course: DBBWL-A03_9_9.Block\nType:
  Bachelorarbeit\nModule/Group: Barb
DTSTART:20260625T070000Z
DTEND:20260625T083000Z
END:VEVENT
BEGIN:VEVENT
UID:DBBWL-A03-1782290700-51
SUMMARY:Barb (Bachelorarbeit)
DESCRIPTION:Course: DBBWL-A03_9_9.Block\nType:
  Bachelorarbeit\nModule/Group: Barb
DTSTART:20260624T084500Z
DTEND:20260624T101500Z
END:VEVENT
BEGIN:VEVENT
UID:DBBWL-A03-1782377100-52
SUMMARY:Barb (Bachelorarbeit)
DESCRIPTION:Course: DBBWL-A03_9_9.Block\nType:
  Bachelorarbeit\nModule/Group: Barb
DTSTART:20260625T084500Z
DTEND:20260625T101500Z
END:VEVENT
BEGIN:VEVENT
UID:DBBWL-A03-1782298800-53
SUMMARY:Barb (Bachelorarbeit)
DESCRIPTION:Course: DBBWL-A03_9_9.Block\nType:
  Bachelorarbeit\nModule/Group: Barb
DTSTART:20260624T110000Z
DTEND:20260624T123000Z
END:VEVENT
BEGIN:VEVENT
UID:DBBWL-A03-1782385200-54
SUMMARY:Barb (Bachelorarbeit)
DESCRIPTION:Course: DBBWL-A03_9_9.Block\nType:
  Bachelorarbeit\nModule/Group: Barb
DTSTART:20260625T110000Z
DTEND:20260625T130000Z
END:VEVENT
BEGIN:VEVENT
UID:DBBWL-A03-1782305100-55
SUMMARY:Barb (Bachelorarbeit)
DESCRIPTION:Course: DBBWL-A03_9_9.Block\nType:
  Bachelorarbeit\nModule/Group: Barb
DTSTART:20260624T124500Z
DTEND:20260624T141500Z
END:VEVENT
BEGIN:VEVENT
UID:DBBWL-A03-1782311400-56
SUMMARY:Barb (Bachelorarbeit)
DESCRIPTION:Course: DBBWL-A03_9_9.Block\nType:
  Bachelorarbeit\nModule/Group: Barb
DTSTART:20260624T143000Z
DTEND:20260624T160000Z
END:VEVENT
BEGIN:VEVENT
UID:DBBWL-A03-1782317700-57
SUMMARY:Barb (Bachelorarbeit)
DESCRIPTION:Course: DBBWL-A03_9_9.Block\nType:
  Bachelorarbeit\nModule/Group: Barb
DTSTART:20260624T161500Z
DTEND:20260624T174500Z
END:VEVENT
BEGIN:VEVENT
UID:DBBWL-A03-1782975600-58
SUMMARY:UK (Vorlesung)
LOCATION:EXT: Online
DESCRIPTION:Course: DBBWL-A03_9_9.Block\nType: Vorlesung\nModule/Group:
  UK\nLocation: EXT: Online
DTSTART:20260702T070000Z
DTEND:20260702T083000Z
END:VEVENT
BEGIN:VEVENT
UID:DBBWL-A03-1782981900-59
SUMMARY:UK (Vorlesung)
LOCATION:EXT: Online
DESCRIPTION:Course: DBBWL-A03_9_9.Block\nType: Vorlesung\nModule/Group:
  UK\nLocation: EXT: Online
DTSTART:20260702T084500Z
DTEND:20260702T101500Z
END:VEVENT
BEGIN:VEVENT
UID:DBBWL-A03-1782730800-60
SUMMARY:Teilklausur II WINFO II/MDAT (Teilklausur eines Moduls)
LOCATION:NK: EDV 3.11
DESCRIPTION:Course: DBBWL-A03_9_9.Block\nType: Teilklausur eines
  Moduls\nModule/Group: Teilklausur II WINFO II/MDAT\nLocation: NK: EDV
  3.11
DTSTART:20260629T110000Z
DTEND:20260629T121500Z
END:VEVENT
BEGIN:VEVENT
UID:DBBWL-A03-1782903600-61
SUMMARY:IK (Vorlesung)
LOCATION:EXT: Online
DESCRIPTION:Course: DBBWL-A03_9_9.Block\nType: Vorlesung\nModule/Group:
  IK\nLocation: EXT: Online
DTSTART:20260701T110000Z
DTEND:20260701T123000Z
END:VEVENT
BEGIN:VEVENT
UID:DBBWL-A03-1782909900-62
SUMMARY:IK (Vorlesung)
LOCATION:EXT: Online
DESCRIPTION:Course: DBBWL-A03_9_9.Block\nType: Vorlesung\nModule/Group:
  IK\nLocation: EXT: Online
DTSTART:20260701T124500Z
DTEND:20260701T141500Z
END:VEVENT
BEGIN:VEVENT
UID:DBBWL-A03-1783321200-63
SUMMARY:Zent. NK/WK FB WI (Zentraler Nachschreibetermin FB WI)
DESCRIPTION:Course: DBBWL-A03_9_9.Block\nType: Zentraler Nachschreibetermin
  FB WI\nModule/Group: Zent. NK/WK FB WI
DTSTART:20260706T070000Z
DTEND:20260706T141500Z
END:VEVENT
BEGIN:VEVENT
UID:DBBWL-A03-1783580400-64
SUMMARY:UK (Vorlesung)
LOCATION:EXT: Online
DESCRIPTION:Course: DBBWL-A03_9_9.Block\nType: Vorlesung\nModule/Group:
  UK\nLocation: EXT: Online
DTSTART:20260709T070000Z
DTEND:20260709T083000Z
END:VEVENT
BEGIN:VEVENT
UID:DBBWL-A03-1783586700-65
SUMMARY:UK (Vorlesung)
LOCATION:EXT: Online
DESCRIPTION:Course: DBBWL-A03_9_9.Block\nType: Vorlesung\nModule/Group:
  UK\nLocation: EXT: Online
DTSTART:20260709T084500Z
DTEND:20260709T101500Z
END:VEVENT
BEGIN:VEVENT
UID:DBBWL-A03-1783422000-66
SUMMARY:UK (Vorlesung)
LOCATION:NK: 1.12
DESCRIPTION:Course: DBBWL-A03_9_9.Block\nType: Vorlesung\nModule/Group:
  UK\nLocation: NK: 1.12
DTSTART:20260707T110000Z
DTEND:20260707T123000Z
END:VEVENT
BEGIN:VEVENT
UID:DBBWL-A03-1783428300-67
SUMMARY:UK (Vorlesung)
LOCATION:NK: 1.12
DESCRIPTION:Course: DBBWL-A03_9_9.Block\nType: Vorlesung\nModule/Group:
  UK\nLocation: NK: 1.12
DTSTART:20260707T124500Z
DTEND:20260707T141500Z
END:VEVENT
BEGIN:VEVENT
UID:DBBWL-A03-1783434600-68
SUMMARY:ABB (Vorlesung)
LOCATION:NK: 1.07
DESCRIPTION:Course: DBBWL-A03_9_9.Block\nType: Vorlesung\nModule/Group:
  ABB\nLocation: NK: 1.07
DTSTART:20260707T143000Z
DTEND:20260707T160000Z
END:VEVENT
BEGIN:VEVENT
UID:DBBWL-A03-1783521000-69
SUMMARY:ABB (Vorlesung)
LOCATION:NK: 1.07
DESCRIPTION:Course: DBBWL-A03_9_9.Block\nType: Vorlesung\nModule/Group:
  ABB\nLocation: NK: 1.07
DTSTART:20260708T143000Z
DTEND:20260708T160000Z
END:VEVENT
BEGIN:VEVENT
UID:DBBWL-A03-1783440900-70
SUMMARY:ABB (Vorlesung)
LOCATION:NK: 1.07
DESCRIPTION:Course: DBBWL-A03_9_9.Block\nType: Vorlesung\nModule/Group:
  ABB\nLocation: NK: 1.07
DTSTART:20260707T161500Z
DTEND:20260707T174500Z
END:VEVENT
BEGIN:VEVENT
UID:DBBWL-A03-1783527300-71
SUMMARY:ABB (Vorlesung)
LOCATION:NK: 1.07
DESCRIPTION:Course: DBBWL-A03_9_9.Block\nType: Vorlesung\nModule/Group:
  ABB\nLocation: NK: 1.07
DTSTART:20260708T161500Z
DTEND:20260708T174500Z
END:VEVENT
BEGIN:VEVENT
UID:DBBWL-A03-1784275200-72
SUMMARY:MP Schlüssel III (Klausur)
LOCATION:NK: 1.07\, NK: 1.11\, NK: 1.12
DESCRIPTION:Course: DBBWL-A03_9_9.Block\nType: Klausur\nModule/Group: MP
  Schlüssel III\nLocation: NK: 1.07\, NK: 1.11\, NK: 1.12
DTSTART:20260717T080000Z
DTEND:20260717T100000Z
END:VEVENT
BEGIN:VEVENT
UID:DBBWL-A03-1785567600-73
SUMMARY:ABB (Vorlesung)
LOCATION:NK: 1.07
DESCRIPTION:Course: DBBWL-A03_9_9.Block\nType: Vorlesung\nModule/Group:
  ABB\nLocation: NK: 1.07
DTSTART:20260801T070000Z
DTEND:20260801T083000Z
END:VEVENT
BEGIN:VEVENT
UID:DBBWL-A03-1785573900-74
SUMMARY:ABB (Vorlesung)
LOCATION:NK: 1.07
DESCRIPTION:Course: DBBWL-A03_9_9.Block\nType: Vorlesung\nModule/Group:
  ABB\nLocation: NK: 1.07
DTSTART:20260801T084500Z
DTEND:20260801T101500Z
END:VEVENT
BEGIN:VEVENT
UID:DBBWL-A03-1785582000-75
SUMMARY:ABB (Vorlesung)
LOCATION:NK: 1.07
DESCRIPTION:Course: DBBWL-A03_9_9.Block\nType: Vorlesung\nModule/Group:
  ABB\nLocation: NK: 1.07
DTSTART:20260801T110000Z
DTEND:20260801T123000Z
END:VEVENT
BEGIN:VEVENT
UID:DBBWL-A03-1785588300-76
SUMMARY:ABB (Vorlesung)
LOCATION:NK: 1.07
DESCRIPTION:Course: DBBWL-A03_9_9.Block\nType: Vorlesung\nModule/Group:
  ABB\nLocation: NK: 1.07
DTSTART:20260801T124500Z
DTEND:20260801T141500Z
END:VEVENT
BEGIN:VEVENT
UID:DBBWL-A03-1786371300-77
SUMMARY:Zent. NK/WK FB WI (Zentraler Nachschreibetermin FB WI)
DESCRIPTION:Course: DBBWL-A03_9_9.Block\nType: Zentraler Nachschreibetermin
  FB WI\nModule/Group: Zent. NK/WK FB WI
DTSTART:20260810T141500Z
DTEND:20260810T174500Z
END:VEVENT
BEGIN:VEVENT
UID:DBBWL-A03-1786457700-78
SUMMARY:Zent. NK/WK FB WI (Zentraler Nachschreibetermin FB WI)
DESCRIPTION:Course: DBBWL-A03_9_9.Block\nType: Zentraler Nachschreibetermin
  FB WI\nModule/Group: Zent. NK/WK FB WI
DTSTART:20260811T141500Z
DTEND:20260811T174500Z
END:VEVENT
BEGIN:VEVENT
UID:DBBWL-A03-1786544100-79
SUMMARY:Zent. NK/WK FB WI (Zentraler Nachschreibetermin FB WI)
DESCRIPTION:Course: DBBWL-A03_9_9.Block\nType: Zentraler Nachschreibetermin
  FB WI\nModule/Group: Zent. NK/WK FB WI
DTSTART:20260812T141500Z
DTEND:20260812T174500Z
END:VEVENT
BEGIN:VEVENT
UID:DBBWL-A03-1786630500-80
SUMMARY:Zent. NK/WK FB WI (Zentraler Nachschreibetermin FB WI)
DESCRIPTION:Course: DBBWL-A03_9_9.Block\nType: Zentraler Nachschreibetermin
  FB WI\nModule/Group: Zent. NK/WK FB WI
DTSTART:20260813T141500Z
DTEND:20260813T174500Z
END:VEVENT
BEGIN:VEVENT
UID:DBBWL-A03-1786716900-81
SUMMARY:Zent. NK/WK FB WI (Zentraler Nachschreibetermin FB WI)
DESCRIPTION:Course: DBBWL-A03_9_9.Block\nType: Zentraler Nachschreibetermin
  FB WI\nModule/Group: Zent. NK/WK FB WI
DTSTART:20260814T141500Z
DTEND:20260814T174500Z
END:VEVENT
BEGIN:VEVENT
UID:DBBWL-A03-1786976100-82
SUMMARY:Zent. NK/WK FB WI (Zentraler Nachschreibetermin FB WI)
DESCRIPTION:Course: DBBWL-A03_9_9.Block\nType: Zentraler Nachschreibetermin
  FB WI\nModule/Group: Zent. NK/WK FB WI
DTSTART:20260817T141500Z
DTEND:20260817T174500Z
END:VEVENT
BEGIN:VEVENT
UID:DBBWL-A03-1787062500-83
SUMMARY:Zent. NK/WK FB WI (Zentraler Nachschreibetermin FB WI)
DESCRIPTION:Course: DBBWL-A03_9_9.Block\nType: Zentraler Nachschreibetermin
  FB WI\nModule/Group: Zent. NK/WK FB WI
DTSTART:20260818T141500Z
DTEND:20260818T174500Z
END:VEVENT
BEGIN:VEVENT
UID:DBBWL-A03-1787148900-84
SUMMARY:Zent. NK/WK FB WI (Zentraler Nachschreibetermin FB WI)
DESCRIPTION:Course: DBBWL-A03_9_9.Block\nType: Zentraler Nachschreibetermin
  FB WI\nModule/Group: Zent. NK/WK FB WI
DTSTART:20260819T141500Z
DTEND:20260819T174500Z
END:VEVENT
BEGIN:VEVENT
UID:DBBWL-A03-1787235300-85
SUMMARY:Zent. NK/WK FB WI (Zentraler Nachschreibetermin FB WI)
DESCRIPTION:Course: DBBWL-A03_9_9.Block\nType: Zentraler Nachschreibetermin
  FB WI\nModule/Group: Zent. NK/WK FB WI
DTSTART:20260820T141500Z
DTEND:20260820T174500Z
END:VEVENT
BEGIN:VEVENT
UID:DBBWL-A03-1787321700-86
SUMMARY:Zent. NK/WK FB WI (Zentraler Nachschreibetermin FB WI)
DESCRIPTION:Course: DBBWL-A03_9_9.Block\nType: Zentraler Nachschreibetermin
  FB WI\nModule/Group: Zent. NK/WK FB WI
DTSTART:20260821T141500Z
DTEND:20260821T174500Z
END:VEVENT
BEGIN:VEVENT
UID:DBBWL-A03-1787580900-87
SUMMARY:Zent. NK/WK FB WI (Zentraler Nachschreibetermin FB WI)
DESCRIPTION:Course: DBBWL-A03_9_9.Block\nType: Zentraler Nachschreibetermin
  FB WI\nModule/Group: Zent. NK/WK FB WI
DTSTART:20260824T141500Z
DTEND:20260824T174500Z
END:VEVENT
BEGIN:VEVENT
UID:DBBWL-A03-1787667300-88
SUMMARY:Zent. NK/WK FB WI (Zentraler Nachschreibetermin FB WI)
DESCRIPTION:Course: DBBWL-A03_9_9.Block\nType: Zentraler Nachschreibetermin
  FB WI\nModule/Group: Zent. NK/WK FB WI
DTSTART:20260825T141500Z
DTEND:20260825T174500Z
END:VEVENT
BEGIN:VEVENT
UID:DBBWL-A03-1787753700-89
SUMMARY:Zent. NK/WK FB WI (Zentraler Nachschreibetermin FB WI)
DESCRIPTION:Course: DBBWL-A03_9_9.Block\nType: Zentraler Nachschreibetermin
  FB WI\nModule/Group: Zent. NK/WK FB WI
DTSTART:20260826T141500Z
DTEND:20260826T174500Z
END:VEVENT
BEGIN:VEVENT
UID:DBBWL-A03-1787840100-90
SUMMARY:Zent. NK/WK FB WI (Zentraler Nachschreibetermin FB WI)
DESCRIPTION:Course: DBBWL-A03_9_9.Block\nType: Zentraler Nachschreibetermin
  FB WI\nModule/Group: Zent. NK/WK FB WI
DTSTART:20260827T141500Z
DTEND:20260827T174500Z
END:VEVENT
BEGIN:VEVENT
UID:DBBWL-A03-1787926500-91
SUMMARY:ABB (Klausur)
DESCRIPTION:Course: DBBWL-A03_9_9.Block\nType: Klausur\nModule/Group: ABB
DTSTART:20260828T141500Z
DTEND:20260828T154500Z
END:VEVENT
BEGIN:VEVENT
UID:DBBWL-A03-1787926500-92
SUMMARY:Zent. NK/WK FB WI (Zentraler Nachschreibetermin FB WI)
DESCRIPTION:Course: DBBWL-A03_9_9.Block\nType: Zentraler Nachschreibetermin
  FB WI\nModule/Group: Zent. NK/WK FB WI
DTSTART:20260828T141500Z
DTEND:20260828T174500Z
END:VEVENT
END:VCALENDAR
